BEGIN:VCALENDAR
VERSION:2.0
PRODID:-//ShapeShifter Plus - ECPv6.15.20//NONSGML v1.0//EN
CALSCALE:GREGORIAN
METHOD:PUBLISH
X-ORIGINAL-URL:https://shapeshifterplus.org
X-WR-CALDESC:Events for ShapeShifter Plus
REFRESH-INTERVAL;VALUE=DURATION:PT1H
X-Robots-Tag:noindex
X-PUBLISHED-TTL:PT1H
BEGIN:VTIMEZONE
TZID:America/Halifax
BEGIN:DAYLIGHT
TZOFFSETFROM:-0400
TZOFFSETTO:-0300
TZNAME:ADT
DTSTART:20230312T060000
END:DAYLIGHT
BEGIN:STANDARD
TZOFFSETFROM:-0300
TZOFFSETTO:-0400
TZNAME:AST
DTSTART:20231105T050000
END:STANDARD
BEGIN:DAYLIGHT
TZOFFSETFROM:-0400
TZOFFSETTO:-0300
TZNAME:ADT
DTSTART:20240310T060000
END:DAYLIGHT
BEGIN:STANDARD
TZOFFSETFROM:-0300
TZOFFSETTO:-0400
TZNAME:AST
DTSTART:20241103T050000
END:STANDARD
BEGIN:DAYLIGHT
TZOFFSETFROM:-0400
TZOFFSETTO:-0300
TZNAME:ADT
DTSTART:20250309T060000
END:DAYLIGHT
BEGIN:STANDARD
TZOFFSETFROM:-0300
TZOFFSETTO:-0400
TZNAME:AST
DTSTART:20251102T050000
END:STANDARD
END:VTIMEZONE
BEGIN:VEVENT
DTSTART;TZID=America/Halifax:20240413T180000
DTEND;TZID=America/Halifax:20240413T210000
DTSTAMP:20260422T142517
CREATED:20240402T194256Z
LAST-MODIFIED:20240402T194256Z
UID:13036-1713031200-1713042000@shapeshifterplus.org
SUMMARY:Haitian Cultural Exchange Presents: DIASPORA NOW
DESCRIPTION:Join us for an evening of premiere presentations featuring multidisciplinary artists: Sheila Anozier\, Steeven Labady\, Atibon Nazaire\, & Nubian Néné who will each present their work and participate in a post-show dialogue. \nApril 13\, 2024\n6 – 9pm\nShapeshifter Lab\,\n837 Union St\, Brooklyn\, NY 11215 \n  \nAbout Diaspora NOW\nDiaspora NOW is a platform for literary and performing artists of Haitian descent to premiere works in New York City\, offering opportunities for Haitians and the general public to engage with new art that highlights experiences in the Diaspora.
URL:https://shapeshifterplus.org/event/haitian-cultural-exchange-presents-diaspora-now/
LOCATION:ShapeShifter Lab\, 837 Union Street\, Ground Floor\, Brooklyn\, NY\, 11215\, United States
CATEGORIES:Collaboration Programs,Live Music
ATTACH;FMTTYPE=image/png:https://shapeshifterplus.org/wp-content/uploads/2024/04/Screenshot-2024-04-02-at-3.18.38 PM.png
END:VEVENT
END:VCALENDAR