BEGIN:VCALENDAR
VERSION:2.0
PRODID:-//ShapeShifter Plus - ECPv6.15.20//NONSGML v1.0//EN
CALSCALE:GREGORIAN
METHOD:PUBLISH
X-ORIGINAL-URL:https://shapeshifterplus.org
X-WR-CALDESC:Events for ShapeShifter Plus
REFRESH-INTERVAL;VALUE=DURATION:PT1H
X-Robots-Tag:noindex
X-PUBLISHED-TTL:PT1H
BEGIN:VTIMEZONE
TZID:America/New_York
BEGIN:DAYLIGHT
TZOFFSETFROM:-0500
TZOFFSETTO:-0400
TZNAME:EDT
DTSTART:20250309T070000
END:DAYLIGHT
BEGIN:STANDARD
TZOFFSETFROM:-0400
TZOFFSETTO:-0500
TZNAME:EST
DTSTART:20251102T060000
END:STANDARD
BEGIN:DAYLIGHT
TZOFFSETFROM:-0500
TZOFFSETTO:-0400
TZNAME:EDT
DTSTART:20260308T070000
END:DAYLIGHT
BEGIN:STANDARD
TZOFFSETFROM:-0400
TZOFFSETTO:-0500
TZNAME:EST
DTSTART:20261101T060000
END:STANDARD
BEGIN:DAYLIGHT
TZOFFSETFROM:-0500
TZOFFSETTO:-0400
TZNAME:EDT
DTSTART:20270314T070000
END:DAYLIGHT
BEGIN:STANDARD
TZOFFSETFROM:-0400
TZOFFSETTO:-0500
TZNAME:EST
DTSTART:20271107T060000
END:STANDARD
END:VTIMEZONE
BEGIN:VEVENT
DTSTART;TZID=America/New_York:20260204T183000
DTEND;TZID=America/New_York:20260204T200000
DTSTAMP:20260421T064230
CREATED:20260202T184418Z
LAST-MODIFIED:20260203T060253Z
UID:46787-1770229800-1770235200@shapeshifterplus.org
SUMMARY:New York Yoga Club - Vinyasa Refresh + Jazz Social w/ August Henderson
DESCRIPTION:About Event\n\n\n\n​🧘‍♀️ How to Sign Up\nRegister on Luma and present your ticket at the door. \nOr just walk in\, we always love our walk-ins (pay by credit card) \n🧘‍♀️ How to Sign Up\nRegister on Luma and present your ticket at the door.\nBYOM (Bring Your Own Mat) OR rent one from us for $5 \n​​📍 Where & When\nTime: Doors open at 6:30 PM. The meeting begins once the room fills\, usually about 15–20 minutes after.\nThe yoga practice runs for about one hour\, followed by an optional hangout. \n​​🌿 What to Expect\nWe’re a club\, not a class. Come as you are\, say hello to the people around you\, and settle in. Our all-levels practices run about an hour. \n​​We understand that life happens. Sometimes that means showing up late\, in your pajamas\, or both. We leave some time at the beginning of our meetings to ease in and socialize. \n​​🎷 After Yoga\nStick around if you’d like. There will be live jazz downstairs and a cash bar with snacks for us to enjoy after practice. \n​​💫 About Yoga Club\nWe bring people together through high quality\, affordable yoga and community. We meet in creative spaces around the city to move\, breath\, and make new friends.
URL:https://shapeshifterplus.org/event/new-york-yoga-club-park-slope-prospect-heights-pop-up-7/
CATEGORIES:Collaboration Programs,Yoga
ATTACH;FMTTYPE=image/png:https://shapeshifterplus.org/wp-content/uploads/2025/11/Screenshot-2025-11-24-at-3.20.14-PM.png
END:VEVENT
BEGIN:VEVENT
DTSTART;TZID=America/New_York:20260204T183000
DTEND;TZID=America/New_York:20260204T200000
DTSTAMP:20260421T064230
CREATED:20260204T185627Z
LAST-MODIFIED:20260201T220310Z
UID:46789-1770229800-1770235200@shapeshifterplus.org
SUMMARY:Vinyasa Refresh + Jazz Social w/ August Henderson ​🎷
DESCRIPTION:​​🧘‍♀️ NY YOGA CLUB – VINYASA REFRESH + JAZZ SCHMOOZE AFTER \n​​🎶 Flowing vinyasa practice + live music after\n🌊 Style: All-levels flow (accessible + revivifying)\n🙏 No yoga experience needed! Ideal for beginners and experienced yogis. We mean it!! \n​​📣 How to Sign Up\nRegister on Luma and present your ticket at the door.\nOr just walk in\, we always love our walk-ins (pay by credit card) \nBYOM (Bring Your Own Mat) OR rent one from us for $5 \n​​​📍 Where & When\nTime: Doors open at 6:30 PM. The meeting begins once the room fills\, usually about 15–20 minutes after. The yoga practice runs for about one hour. Live jazz schmooze follows. \n​​​🌿 What to Expect\nWe’re a club\, not a class. Come as you are\, say hello to the people around you\, and settle in. \n​​Our Vinyasa Refresh meetings are for all levels and run about an hour. Expect to move and breath through an energizing set of standing postures and rejuvenating poses on the floor. \n​​We understand that life happens. Sometimes that means showing up late\, in your pjs\, or both. We leave some time at the beginning of our meetings to ease in and socialize. \n​​​🎷 After Yoga\nStick around. There will be live jazz downstairs and a cash bar with snacks for us to enjoy after practice. \n​⭐ Our Instructor\nAugust is a performance artist & movement instructor with over a decade of experience teaching dance\, yoga\, and somatic modalities. Their classes blend physical awareness with clear structure\, offering space to explore strength\, softness\, and sustained presence. \n​​​💫 About Yoga Club\nWe bring people together through high quality\, affordable yoga and community. We meet in creative spaces around the city to move\, breath\, and meet new people.
URL:https://shapeshifterplus.org/event/yoga_club_8/
LOCATION:ShapeShifter Lab\, 837 Union Street\, Ground Floor\, Brooklyn\, NY\, 11215\, United States
CATEGORIES:Collaboration Programs,Yoga
ATTACH;FMTTYPE=image/png:https://shapeshifterplus.org/wp-content/uploads/2025/11/Screenshot-2025-11-24-at-3.20.14-PM.png
END:VEVENT
BEGIN:VEVENT
DTSTART;TZID=America/New_York:20260208T160000
DTEND;TZID=America/New_York:20260208T180000
DTSTAMP:20260421T064230
CREATED:20260116T041025Z
LAST-MODIFIED:20260207T222852Z
UID:46711-1770566400-1770573600@shapeshifterplus.org
SUMMARY:The Fat Cats 15th Anniversary Afternoon Concert Series
DESCRIPTION:The Fat Cats 15th Anniversary Afternoon Concert Series \nJoin us as we celebrate 15 years of swing\, mentorship\, and musical excellence with The Fat Cats Youth Orchestra in a special afternoon concert series at ShapeShifter Lab. \nDoors: 3:30 PM \nShow: 4 PM \nFree & Open to the Public \nPlease RSVP with the ticket link for your spot! \nShapeShifter Plus is an non-profit\, grassroots community oriented organization known for supporting artists and education initiatives like Belongó. Please pay what you are able so that we can continue this important work together in these unprecedented times. No one will be turned away for lack of funds. \nUpcoming Dates: \n• February 8\, 2026 \n• March 29\, 2026 \n• May 17\, 2026 \n 
URL:https://shapeshifterplus.org/event/fat_cats_20260208/
LOCATION:ShapeShifter Lab\, 837 Union Street\, Ground Floor\, Brooklyn\, NY\, 11215\, United States
CATEGORIES:Collaboration Programs,Live Music
ATTACH;FMTTYPE=image/jpeg:https://shapeshifterplus.org/wp-content/uploads/2025/11/1af3d1439110c55b3c3d1f69a0f040e2-3CDUlm.tmp_.jpg
END:VEVENT
BEGIN:VEVENT
DTSTART;TZID=America/New_York:20260211T183000
DTEND;TZID=America/New_York:20260211T200000
DTSTAMP:20260421T064230
CREATED:20260207T235405Z
LAST-MODIFIED:20260207T235632Z
UID:46823-1770834600-1770840000@shapeshifterplus.org
SUMMARY:NY YOGA CLUB - Vinyasa Refresh + Jazz Social ​🎷
DESCRIPTION:About Event\n\n\n\n​🧘‍♀️ How to Sign Up\nRegister on Luma and present your ticket at the door. \nOr just walk in\, we always love our walk-ins (pay by credit card) \n🧘‍♀️ How to Sign Up\nRegister on Luma and present your ticket at the door.\nBYOM (Bring Your Own Mat) OR rent one from us for $5 \n​​📍 Where & When\nTime: Doors open at 6:30 PM. The meeting begins once the room fills\, usually about 15–20 minutes after.\nThe yoga practice runs for about one hour\, followed by an optional hangout. \n​​🌿 What to Expect\nWe’re a club\, not a class. Come as you are\, say hello to the people around you\, and settle in. Our all-levels practices run about an hour. \n​​We understand that life happens. Sometimes that means showing up late\, in your pajamas\, or both. We leave some time at the beginning of our meetings to ease in and socialize. \n​​🎷 After Yoga\nStick around if you’d like. There will be live jazz downstairs and a cash bar with snacks for us to enjoy after practice. \n​​💫 About Yoga Club\nWe bring people together through high quality\, affordable yoga and community. We meet in creative spaces around the city to move\, breath\, and make new friends. \nLINK HERE
URL:https://shapeshifterplus.org/event/ny-yoga-club-vinyasa-refresh-jazz-social-%f0%9f%8e%b7/
CATEGORIES:Collaboration Programs,Yoga
ATTACH;FMTTYPE=image/png:https://shapeshifterplus.org/wp-content/uploads/2025/11/Screenshot-2025-11-24-at-3.20.14-PM.png
END:VEVENT
BEGIN:VEVENT
DTSTART;TZID=America/New_York:20260215T133000
DTEND;TZID=America/New_York:20260215T153000
DTSTAMP:20260421T064230
CREATED:20260202T212752Z
LAST-MODIFIED:20260202T212942Z
UID:46796-1771162200-1771169400@shapeshifterplus.org
SUMMARY:BC bOp! 2026 New York City Tour
DESCRIPTION:BC bOp! from Boston College delivers a broad\, punchy jazz sound—instrumental and vocal—spanning big band classics to modern fusion.\n\n\nBC bOp! 2026 New York City Tour\nPublic Event: February 15th\, 2025 at 1:30 pm \nDirectors \n\nSebastian Bonaiuto — Director\nLauren Busa — Assistant Director\nShannon Jacob — Vocal Director\n\nVocalists \n\nHenry Ackerman\nMadeline David\nEliana Goldberg\nJoshua Holstein\nRenee Martel\nLouise Miniter\nLesley Opindas\nTin Pham\nElizabeth Powell\nEmma Ramirez\nKatie Shepard\n\n  \nInstrumentalists \nSaxophones \n\nNathan DePaola\nDelaney Matthews\nHarry Smith\nMichael Tan\nElla Weinstein\n\nTrumpets \n\nConnor Aron\nAllison Eidt\nTrevor Hooker\nKiran Kothavale\nAvery Suza\nFelix Teng\n\nTrombones \n\nMax Jellinek-Knight\nJames Halkias\nDereck Islas\nDex Murphy\n\nRhythm Section \n\nAndrew Chesterton\nConnor Moquin\nJacob Nguyen\nCharlie Stautberg\nJett Takazawa\nGrace Vengco\n\n  \nAbout Ensemble:\nBC bOp! was organized in late October of 1987 by a number of Boston College musicians whorecognized the need for a musical ensemble dedicated to performing high-quality instrumentaland vocal jazz. Sophomore David Healey led the effort with help from other interested BCmusicians. BC bOp! began rehearsing on November 8th\, 1987. The band engaged the services ofSebastian Bonaiuto\, a former music educator and graduate of the Boston College Carroll Schoolof Management\, to direct the ensemble on a volunteer basis. After selecting an advisor\, BC bOp!was recognized as an official university club on January 10\, 1988\, Sebastian Bonaiuto continuedas BC bOp!’s musical Director. \n  \nIn July of 1989\, Sebastian Bonaiuto was appointed Boston College Director of Bands. Soonthereafter\, the members of BC bOp! voted to become an ensemble of the Boston College BandsProgram. The addition of BC bOp! to the Bands Program expanded the offerings to includeinstrumental and vocal jazz performance. \n  \nWe\, the members and directors of BC bOp!\, acknowledge that our repertoire is primarily basedon jazz–a genre created by Black musicians that has roots in spirituals and work songs. We areaware not only of the privilege we have\, but of the responsibility we carry in performing thisgenre on and off Boston College’s campus. We aspire to create a space in whichthought-provoking conversations are a part of our performances\, a space in which individuals ofthe Boston College community may reflect on our institution’s place in Black history and its rolein shaping Black futures. Through our music\, we seek to honor jazz’s origins\, foster meaningfuldialogue\, and uphold our commitment to celebrating and respecting Black artistry and history. \n  \nAbout
URL:https://shapeshifterplus.org/event/bc-bop-2026/
LOCATION:ShapeShifter Lab\, 837 Union Street\, Ground Floor\, Brooklyn\, NY\, 11215\, United States
CATEGORIES:Collaboration Programs,Live Music
ATTACH;FMTTYPE=image/jpeg:https://shapeshifterplus.org/wp-content/uploads/2026/02/52c6771cca8bdd74551af5d5b2fd8303-1RLvUH.tmp_.jpg
END:VEVENT
BEGIN:VEVENT
DTSTART;TZID=America/New_York:20260218T183000
DTEND;TZID=America/New_York:20260218T200000
DTSTAMP:20260421T064230
CREATED:20260203T060812Z
LAST-MODIFIED:20260203T060812Z
UID:46806-1771439400-1771444800@shapeshifterplus.org
SUMMARY:NY YOGA CLUB - Vinyasa Refresh + Jazz Social ​🎷
DESCRIPTION:About Event\n\n\n\n​🧘‍♀️ How to Sign Up\nRegister on Luma and present your ticket at the door. \nOr just walk in\, we always love our walk-ins (pay by credit card) \n🧘‍♀️ How to Sign Up\nRegister on Luma and present your ticket at the door.\nBYOM (Bring Your Own Mat) OR rent one from us for $5 \n​​📍 Where & When\nTime: Doors open at 6:30 PM. The meeting begins once the room fills\, usually about 15–20 minutes after.\nThe yoga practice runs for about one hour\, followed by an optional hangout. \n​​🌿 What to Expect\nWe’re a club\, not a class. Come as you are\, say hello to the people around you\, and settle in. Our all-levels practices run about an hour. \n​​We understand that life happens. Sometimes that means showing up late\, in your pajamas\, or both. We leave some time at the beginning of our meetings to ease in and socialize. \n​​🎷 After Yoga\nStick around if you’d like. There will be live jazz downstairs and a cash bar with snacks for us to enjoy after practice. \n​​💫 About Yoga Club\nWe bring people together through high quality\, affordable yoga and community. We meet in creative spaces around the city to move\, breath\, and make new friends.
URL:https://shapeshifterplus.org/event/ny-yoga-club-20260218/
CATEGORIES:Collaboration Programs,Yoga
ATTACH;FMTTYPE=image/png:https://shapeshifterplus.org/wp-content/uploads/2025/11/Screenshot-2025-11-24-at-3.20.14-PM.png
END:VEVENT
BEGIN:VEVENT
DTSTART;TZID=America/New_York:20260219T190000
DTEND;TZID=America/New_York:20260219T210000
DTSTAMP:20260421T064230
CREATED:20260216T082858Z
LAST-MODIFIED:20260216T082858Z
UID:46834-1771527600-1771534800@shapeshifterplus.org
SUMMARY:Jazz and Draw
DESCRIPTION:Jazz and Draw \nStop thinking you need to be an expert to draw!Come as you are! \n✨ chill drawing sessions in live settings\n🤗 join us and improve your live drawing skills \n$20 or$45 with drink ticket \nhttps://www.instagram.com/jazzanddraw/
URL:https://shapeshifterplus.org/event/jazz-and-draw/
CATEGORIES:Collaboration Programs,Live Music,Visual Art
ATTACH;FMTTYPE=image/jpeg:https://shapeshifterplus.org/wp-content/uploads/2026/02/IMG_1693.jpeg
END:VEVENT
BEGIN:VEVENT
DTSTART;TZID=America/New_York:20260222T100000
DTEND;TZID=America/New_York:20260222T110000
DTSTAMP:20260421T064230
CREATED:20260119T032904Z
LAST-MODIFIED:20260205T183229Z
UID:46723-1771754400-1771758000@shapeshifterplus.org
SUMMARY:Sunday FamJam with Debbie Brukman -  Feb 22!
DESCRIPTION:Debbie believes in community music and engagement. Come sing and wiggle along — it’s going to be fun!\n\n\nDebbie Brukman is a Park Slope mom who has been jamming with our neighborhood kids for years! Come out for these two FAMJAM Sunday morning shows with your family!
URL:https://shapeshifterplus.org/event/debbie-20260222/
LOCATION:ShapeShifter Lab\, 837 Union Street\, Ground Floor\, Brooklyn\, NY\, 11215\, United States
CATEGORIES:Collaboration Programs,Kids Concert
ATTACH;FMTTYPE=image/png:https://shapeshifterplus.org/wp-content/uploads/2026/01/Screenshot-2026-02-05-at-1.12.50-PM.png
END:VEVENT
BEGIN:VEVENT
DTSTART;TZID=America/New_York:20260225T183000
DTEND;TZID=America/New_York:20260225T200000
DTSTAMP:20260421T064230
CREATED:20260225T064018Z
LAST-MODIFIED:20260225T064743Z
UID:46876-1772044200-1772049600@shapeshifterplus.org
SUMMARY:NY YOGA CLUB - Vinyasa Refresh + Jazz Social ​🎷
DESCRIPTION:About Event\n\n\n\n​🧘‍♀️ How to Sign Up\nRegister on Luma and present your ticket at the door. \nOr just walk in\, we always love our walk-ins (pay by credit card) \n🧘‍♀️ How to Sign Up\nRegister on Luma and present your ticket at the door.\nBYOM (Bring Your Own Mat) OR rent one from us for $5 \n​​📍 Where & When\nTime: Doors open at 6:30 PM. The meeting begins once the room fills\, usually about 15–20 minutes after.\nThe yoga practice runs for about one hour\, followed by an optional hangout. \n​​🌿 What to Expect\nWe’re a club\, not a class. Come as you are\, say hello to the people around you\, and settle in. Our all-levels practices run about an hour. \n​​We understand that life happens. Sometimes that means showing up late\, in your pajamas\, or both. We leave some time at the beginning of our meetings to ease in and socialize. \n​​🎷 After Yoga\nStick around if you’d like. There will be live jazz downstairs and a cash bar with snacks for us to enjoy after practice. \n​​💫 About Yoga Club\nWe bring people together through high quality\, affordable yoga and community. We meet in creative spaces around the city to move\, breath\, and make new friends.
URL:https://shapeshifterplus.org/event/ny-yoga-club-vinyasa-refresh-jazz-social-%f0%9f%8e%b7-2/
CATEGORIES:Collaboration Programs,Yoga
ATTACH;FMTTYPE=image/png:https://shapeshifterplus.org/wp-content/uploads/2025/11/Screenshot-2025-11-24-at-3.20.14-PM.png
END:VEVENT
END:VCALENDAR