BEGIN:VCALENDAR
VERSION:2.0
PRODID:-//ShapeShifter Plus - ECPv6.15.20//NONSGML v1.0//EN
CALSCALE:GREGORIAN
METHOD:PUBLISH
X-ORIGINAL-URL:https://shapeshifterplus.org
X-WR-CALDESC:Events for ShapeShifter Plus
REFRESH-INTERVAL;VALUE=DURATION:PT1H
X-Robots-Tag:noindex
X-PUBLISHED-TTL:PT1H
BEGIN:VTIMEZONE
TZID:America/New_York
BEGIN:DAYLIGHT
TZOFFSETFROM:-0500
TZOFFSETTO:-0400
TZNAME:EDT
DTSTART:20240310T070000
END:DAYLIGHT
BEGIN:STANDARD
TZOFFSETFROM:-0400
TZOFFSETTO:-0500
TZNAME:EST
DTSTART:20241103T060000
END:STANDARD
BEGIN:DAYLIGHT
TZOFFSETFROM:-0500
TZOFFSETTO:-0400
TZNAME:EDT
DTSTART:20250309T070000
END:DAYLIGHT
BEGIN:STANDARD
TZOFFSETFROM:-0400
TZOFFSETTO:-0500
TZNAME:EST
DTSTART:20251102T060000
END:STANDARD
BEGIN:DAYLIGHT
TZOFFSETFROM:-0500
TZOFFSETTO:-0400
TZNAME:EDT
DTSTART:20260308T070000
END:DAYLIGHT
BEGIN:STANDARD
TZOFFSETFROM:-0400
TZOFFSETTO:-0500
TZNAME:EST
DTSTART:20261101T060000
END:STANDARD
END:VTIMEZONE
BEGIN:VEVENT
DTSTART;TZID=America/New_York:20250601T130000
DTEND;TZID=America/New_York:20250601T140000
DTSTAMP:20260421T170824
CREATED:20250519T011228Z
LAST-MODIFIED:20250519T011431Z
UID:45450-1748782800-1748786400@shapeshifterplus.org
SUMMARY:Tomoko Omura's World-Premiere of "Run\, Run\, Run"
DESCRIPTION:New musical compositions by Tomoko Omura\, along with an original short story about a girl who survives an atomic bomb in New York City.\n\n\nWelcome to Tomoko Omura’s World-Premiere of “Run\, Run\, Run”! Join us at ShapeShifter Lab for the world-premiere of her brand new musical compositions\, along with an original short story written by Tomoko. The story is  about a girl who survives an Atomic bomb in New York City. The special illustration by Noah MacNeil will be shown during the performance. Don’t miss out on this exclusive opportunity to experience her groundbreaking performance live.  This concert is funded by Chamber Music America and FREE to attend for children under 18. Due to the subject in the story\, the concert is recommended for children 13 and up. Mark your calendars for this one-of-a-kind event!
URL:https://shapeshifterplus.org/event/tomoko-omuras-world-premiere-of-run-run-run/
LOCATION:ShapeShifter Lab\, 837 Union Street\, Ground Floor\, Brooklyn\, NY\, 11215\, United States
CATEGORIES:Collaboration Programs,Live Music
END:VEVENT
BEGIN:VEVENT
DTSTART;TZID=America/New_York:20250605T190000
DTEND;TZID=America/New_York:20250605T210000
DTSTAMP:20260421T170824
CREATED:20250523T163328Z
LAST-MODIFIED:20250523T163923Z
UID:45535-1749150000-1749157200@shapeshifterplus.org
SUMMARY:A Celebration of ALL IN MY HEAD by Jessica Morris
DESCRIPTION:Please join us for an evening of readings from ALL IN MY HEAD: A Memoir of Life\, Love\, and Patient Power by Jessica Morris. \nWe’ll be joined by Ed Pilkington\, Jessica’s husband and Chair of OurBrainBank\, and Dr. Fabio Iwamoto\, the neuro-oncologist who treated Jessica and a leading voice in the ongoing search for breakthroughs in treating this devastating disease. \nJessica Morris was diagnosed with glioblastoma (GBM) — the most aggressive form of brain cancer — in 2016. Fewer than 5% of people survive beyond five years. In the face of this terrifying diagnosis\, Jessica chose to live with fierce determination and purpose. Until just months before her passing in 2021\, she informed\, empowered\, and uplifted countless others facing GBM. \nDuring that time she kept a blog\, which chronicled her experiences with experimental treatments\, her moments of hope and fear\, and her unshakable resolve to help others. That journey ultimately led her to found OurBrainBank\, a groundbreaking nonprofit dedicated to turning GBM from terminal to treatable\, powered by patients. \nBut the blog was only the beginning. ALL IN MY HEAD is the culmination of Jessica’s life’s work\, to inspire courage in others living in unthinkable conditions. Through her words\, Jessica shares her reflections on love\, life\, loss\, and the power of patients having a voice in their care. \nPlease join us to celebrate her book and to support the ongoing work of OurBrainBank. \nPlease arrive at 7pm; program begins at 7:30pm. \nGet tickets.
URL:https://shapeshifterplus.org/event/book-celebration-jessica-morris/
LOCATION:ShapeShifter Lab\, 837 Union Street\, Ground Floor\, Brooklyn\, NY\, 11215\, United States
CATEGORIES:Collaboration Programs
ATTACH;FMTTYPE=image/jpeg:https://shapeshifterplus.org/wp-content/uploads/2025/05/June-5-1200x630-invite-graphic-2025-AIMH.jpeg
END:VEVENT
BEGIN:VEVENT
DTSTART;TZID=America/New_York:20250607T120000
DTEND;TZID=America/New_York:20250607T180000
DTSTAMP:20260421T170824
CREATED:20250519T203713Z
LAST-MODIFIED:20250520T003331Z
UID:45457-1749297600-1749319200@shapeshifterplus.org
SUMMARY:Park Slope Windsor Terrace Artists Open Studios 2025
DESCRIPTION:38 members are participating in our Annual Open Studios!\nSaturday and Sunday\, June 7-8\, 12-6 pm.\nArtists will open their studios to the public or display artwork at local venues that are generously hosting us. \nWe look forward to seeing you! \n 
URL:https://shapeshifterplus.org/event/park-slope-windsor-terrace-artists-open-studios-2025/
LOCATION:ShapeShifter Lab\, 837 Union Street\, Ground Floor\, Brooklyn\, NY\, 11215\, United States
CATEGORIES:Collaboration Programs,Visual Art
ATTACH;FMTTYPE=image/jpeg:https://shapeshifterplus.org/wp-content/uploads/2025/05/pswt-open-studios-2025.jpg
END:VEVENT
BEGIN:VEVENT
DTSTART;TZID=America/New_York:20250608T120000
DTEND;TZID=America/New_York:20250608T180000
DTSTAMP:20260421T170824
CREATED:20250519T203831Z
LAST-MODIFIED:20250519T204324Z
UID:45462-1749384000-1749405600@shapeshifterplus.org
SUMMARY:Park Slope Windsor Terrace Artists Open Studios 2025
DESCRIPTION:38 members are participating in our Annual Open Studios!\nSaturday and Sunday\, June 7-8\, 12-6 pm.\nArtists will open their studios to the public or display artwork at local venues that are generously hosting us. \nWe look forward to seeing you! \n 
URL:https://shapeshifterplus.org/event/park-slope-windsor-terrace-artists-open-studios-2025-2/
LOCATION:ShapeShifter Lab\, 837 Union Street\, Ground Floor\, Brooklyn\, NY\, 11215\, United States
CATEGORIES:Collaboration Programs,Visual Art
ATTACH;FMTTYPE=image/jpeg:https://shapeshifterplus.org/wp-content/uploads/2025/05/pswt-open-studios-2025.jpg
END:VEVENT
BEGIN:VEVENT
DTSTART;TZID=America/New_York:20250613T183000
DTEND;TZID=America/New_York:20250613T203000
DTSTAMP:20260421T170824
CREATED:20250522T030557Z
LAST-MODIFIED:20250607T194509Z
UID:45483-1749839400-1749846600@shapeshifterplus.org
SUMMARY:The Park Slope Food Coop Concert Series #8
DESCRIPTION:Performances by: Peter Kronreif\, Zoe Firn\, Hugo Moreno\, Ye’ela Wilschanski\n\n\nEveryone Welcome!\nMembers and Non-members!\n\nSet 1 | 6:30 pm–6:50 pm \n\nBand: CROWNĒ / Soul Lever Lift\n\nLineup: \n\nPeter Kronreif – guitar\, vocals\nBen Hoffmann – keys\, vocals\, drums\nNick Jost – bass\n\n\nCROWNĒ is the brainchild of Peter Kronreif\, a Brooklyn based drummer and composer who\, amidst the pandemic\, developed his passion for songwriting. Transitioning from his jazz-infused roots\, Peter became a self-contained musical entity\, writing\, producing\, recording and performing all instruments under the moniker CROWNĒ. For this live performance he is joined by some of NYC’s most sought after sidemen: Ben Jamal Hoffmann (the show will also feature one of his compositions under the project “Soul Lever Lift”) and bass player of the band “Baroness” Nick Jost.\n\n\n\n\n\n\n\nSet 2 | 7:00 pm–7:20 pm \n\nBand: Zoe Firn\n\nLineup:\n\nZoe Firn (acoustic guitar/vocals)\nSelena Tibert (electric guitar/vocals)\nAmanda Salguero (bass/vocals)\nIzzy Sollohub (drums)\nStan (harmonica)\n\n\nZoe Firn writes intuitive and honest music described as “earthy alt-rock\,” with lyrics and melodies that linger long after the first listen. Zoe’s latest single “Memorial Day” is a diary entry in song form about a bittersweet day with family. Her debut album “Atomic Force” is set to release in Fall 2025.\n\n\n\n\n\n\n\nSet 3 | 7:30 pm–7:50 pm \n\nBand: Hugo Moreno\n\nLineup: \n\nHugo Moreno (var. Instruments)\,\nMatt Aronoff\, (bass)\nRumi Moreno (trumpet)\,\nLila Moreno\, (voice\, violin)\,\nJay Rodriguez (sax)\,\nCesare Papetti (percussion)\,\nOthers TBD\n\n\nA mix of traditional and classic Latin and jazz numbers\n\n\n\n\n\n\n\nSet 4 | 8:00 pm–8:20 pm\n\nBand: Ye’ela Wilschanski\n\nLineup: Solo\n\n\n“Setting” A time based architectural garment\, visual storytelling performing art piece.\n\n\n\n\nThe Park Slope Food Coop Concert Series is one of the most exciting initiatives we undertake as a community. With so many gifted and talented members\, creating this series was a natural decision and a no-brainer.\nThe baton of music and performance curation was passed on to Jay and Alexis by Beverly Grant—a great artist and long-time member since the inception of the Food Coop. Beverly is an artist\, photographer\, singer-songwriter\, composer\, and activist who has greatly contributed to our community. \nJason Weiner and the membership staff have played a key role in bringing this event to life. We thank them for sharing the same joy and respect for the arts\, which enriches all walks of life.\nBefore the shutdown\, this concert series was a crucial and pinnacle way of bringing us closer together as a community that truly cares about the world around us. Art\, in every aspect of our human experience\, is a life-healing force.\nAlexis Cuadrado and Jay Rodriguez are both professional musicians\, composers\, and producers. They have expanded the vision of the curation to create a platform for freedom of expression for all. Shapeshifter Lab visionaries Fortuna Sung and Matthew Garrison have also become vital to our mission\, generously providing us with their performance space across the street from the Food Coop.
URL:https://shapeshifterplus.org/event/psfc-concert-series-8/
LOCATION:ShapeShifter Lab\, 837 Union Street\, Ground Floor\, Brooklyn\, NY\, 11215\, United States
CATEGORIES:Collaboration Programs,Live Music
ATTACH;FMTTYPE=image/png:https://shapeshifterplus.org/wp-content/uploads/2025/05/Zoe-Firn.png
END:VEVENT
BEGIN:VEVENT
DTSTART;TZID=America/New_York:20250614T100000
DTEND;TZID=America/New_York:20250614T120000
DTSTAMP:20260421T170824
CREATED:20250519T005728Z
LAST-MODIFIED:20250607T061614Z
UID:45436-1749895200-1749902400@shapeshifterplus.org
SUMMARY:Blue Playhouse Fundraiser Show
DESCRIPTION:Hey there! Get ready for a day of entertainment at the Blue Playhouse Fundraiser Show to support our Preschool!\n\n\nBlue Playhouse Fundraiser Show \nWelcome to the Blue Playhouse Fundraiser Show! Join us for a day of entertainment and support a good cause at ShapeShifter Lab. Get ready to enjoy live performances\, music\, and more. Come together with friends and family to help raise funds for a great initiative. Don’t miss out on this special event – mark your calendar and spread the word!
URL:https://shapeshifterplus.org/event/blue-playhouse-fundraiser-show/
LOCATION:ShapeShifter Lab\, 837 Union Street\, Ground Floor\, Brooklyn\, NY\, 11215\, United States
CATEGORIES:Collaboration Programs
ATTACH;FMTTYPE=image/jpeg:https://shapeshifterplus.org/wp-content/uploads/2025/06/747ed8df6ef9bb00382abde024703f07-7YiwXq.tmp_.jpg
END:VEVENT
BEGIN:VEVENT
DTSTART;TZID=America/New_York:20250619T190000
DTEND;TZID=America/New_York:20250619T220000
DTSTAMP:20260421T170824
CREATED:20250522T043008Z
LAST-MODIFIED:20250522T185357Z
UID:45493-1750359600-1750370400@shapeshifterplus.org
SUMMARY:Fat Cats 2025 Showcase
DESCRIPTION:Catch NYC’s brightest young jazz talent live! The Fat Cats bring sizzling Latin and classic jazz energy to the stage in a performance led by\n\n\nCatch NYC’s brightest young jazz talent live! The Fat Cats bring sizzling Latin and classic jazz energy to the stage in a performance led by Afro Latin Jazz greats—don’t miss it! \n  \nSparkling with the sound of young talent\, The Fat Cats is a pre-professional youth orchestra. The group is composed of one big band and two small ensembles that perform Latin jazz and standard jazz pieces and showcase the finest young talent from across all NYC boroughs. \nFounded in 2010 by Arturo O’Farril and managed by the Afro Latin Jazz Alliance\,  The Fat Cats is led by Zack O’Farrill with Afro Latin Jazz Orchestra members Jim Seeley\, Berta Moreno\, and Jasim Perales\, as well as Arthur Alvarez and Adam Baksh-García. \nOver the years\, The Fat Cats have taken the stage at New York venues such as the Brooklyn Museum\, New York Library for the Performing Arts at Lincoln Center\, the Frick Collection\, the Greene Space at WNYC\, BRIC House\, Birdland and Brooklyn’s Shapeshifter Lab who has welcomed the band for weekly rehearsals since their 2023-2024 season.
URL:https://shapeshifterplus.org/event/fat-cats-2025-showcase/
LOCATION:ShapeShifter Lab\, 837 Union Street\, Ground Floor\, Brooklyn\, NY\, 11215\, United States
CATEGORIES:Collaboration Programs
ATTACH;FMTTYPE=image/jpeg:https://shapeshifterplus.org/wp-content/uploads/2025/05/4aba33d7159993170496b38d89aef3b4-4tQGBk.tmp_.jpg
END:VEVENT
BEGIN:VEVENT
DTSTART;TZID=America/New_York:20250624T190000
DTEND;TZID=America/New_York:20250624T210000
DTSTAMP:20260421T170824
CREATED:20250522T061034Z
LAST-MODIFIED:20250624T222406Z
UID:45497-1750791600-1750798800@shapeshifterplus.org
SUMMARY:Afro Latin Jazz Orchestra & Wagner Highschool Jazz Band Collaborative Concert
DESCRIPTION:7pm – Wagner Highschool Jazz Band\n8:15pm – Arturo O’Farrill & the Afro Latin Jazz Orchestra\n\n\nThe Afro Latin Jazz Orchestra returns to the stage with the talented young musicians of Susan E. Wagner High School’s award-winning jazz program for a powerful concert celebrating their ongoing collaboration. After a year’s break\, this renewed partnership highlights the vitality of youth jazz education and the shared joy of making music across generations.\nAbout Arturo O’Farrill and the Afro Latin Jazz Orchestra\nGRAMMY Award-winning pianist\, composer\, and educator Arturo O’Farrill—leader of the “first family of Afro-Cuban Jazz” (New York Times)—was born in Mexico and grew up in New York City. Son of the late\, great composer Chico O’Farrill\, Arturo played piano in Carla Bley’s Big Band from 1979 through 1983 and earned a reputation as a soloist in groups led by Dizzy Gillespie\, Lester Bowie\, Wynton Marsalis\, and Harry Belafonte. In 2002\, he established the GRAMMY Award-winning Afro Latin Jazz Orchestra (ALJO) to bring the vital musical traditions of Afro Latin jazz to a wider general audience\, and to greatly expand the contemporary Latin jazz big band repertoire through commissions to artists across a wide stylistic and geographic range. In March 2021\, O’Farrill and the ALJO won their 7th GRAMMY for Four Questions\, with Cornel West as guest orator. In September 2018\, O’Farrill released his album\, Fandango at the Wall: A Soundtrack for the United States\, Mexico\, and Beyond\, which was also released as a documentary for HBO MAX. In 2019\, O’Farrill was appointed Professor at The UCLA Herb Alpert School of Music in the Global Jazz Studies department and is currently the Associate Dean for Equity\, Diversity\, and Inclusion. O’Farrill’s debut recording with Blue Note Records …dreaming in lions… was nominated for a 2022 GRAMMY Award in the “Best Instrumental Composition” category\, and his album\, Virtual Birdland (ZOHO)\, was nominated for “Best Latin Jazz Album.” In 2023\, O’Farrill won a GRAMMY Award for Fandango at the Wall in New York in the “Best Latin Jazz Album” category. O’Farrill is a Steinway Artist and records for Blue Note Records.\nAbout Susan Wagner High School Jazz Band\nThe Susan Wagner High School Jazz Band has been a premier performance ensemble in the NYC Department of Education for years. Under the direction of Mr. Paul Corn\, they have made it as finalists in the Essentially Ellington in 2023\, where they finished 2nd in the Nation\, and again in 2024. The band has won numerous first place awards in the Heritage Festival Competitions in Williamsburg\, Boston\, and Washington D.C.\, as well as at Festival Disney in Orlando\, FL. They have also participated in the New York State School Music Association Adjudication Festival and received the grade of Gold with Distinction on Level 6 repertoire. The ensemble performs numerous concerts throughout the city each year\, both at school and throughout the community. Over the past decade\, the band has enjoyed collaborating with Arturo O’Farrill and the Afro Latin Jazz Orchestra on yearly joint performances in Brooklyn and Staten Island. They also made their Carnegie Hall debut in 2020\, Dizzy’s Club and Birdland Jazz Club debut in Spring of 2023\, and will be performing a joint concert with Eddie Palmieri in June 2024.
URL:https://shapeshifterplus.org/event/aljo-wagner-2025/
LOCATION:ShapeShifter Lab\, 837 Union Street\, Ground Floor\, Brooklyn\, NY\, 11215\, United States
CATEGORIES:Collaboration Programs,Live Music,Open Call Program
ATTACH;FMTTYPE=image/jpeg:https://shapeshifterplus.org/wp-content/uploads/2024/04/image-1-scaled.jpeg
END:VEVENT
BEGIN:VEVENT
DTSTART;TZID=America/New_York:20250625T190000
DTEND;TZID=America/New_York:20250625T220000
DTSTAMP:20260421T170824
CREATED:20250418T234604Z
LAST-MODIFIED:20250527T024654Z
UID:45191-1750878000-1750888800@shapeshifterplus.org
SUMMARY:JAM Session: The Princess Cruises Musician Casting
DESCRIPTION:To enquire about the June 24th ship visit\, contact musiciancasting@princesscruises.com with the subject “ShapeShifter // Ship Visit”. \nSpots are limited\, and require you to provide personal ID information. \nSign Up HERE
URL:https://shapeshifterplus.org/event/princess-jam-2/
LOCATION:ShapeShifter Lab\, 837 Union Street\, Ground Floor\, Brooklyn\, NY\, 11215\, United States
CATEGORIES:Collaboration Programs,Open Jam
ATTACH;FMTTYPE=image/png:https://shapeshifterplus.org/wp-content/uploads/2025/04/Blue-And-White-Modern-Cruise-Party-Poster-2-scaled.png
END:VEVENT
END:VCALENDAR