BEGIN:VCALENDAR
VERSION:2.0
PRODID:-//ShapeShifter Plus - ECPv6.15.20//NONSGML v1.0//EN
CALSCALE:GREGORIAN
METHOD:PUBLISH
X-WR-CALNAME:ShapeShifter Plus
X-ORIGINAL-URL:https://shapeshifterplus.org
X-WR-CALDESC:Events for ShapeShifter Plus
REFRESH-INTERVAL;VALUE=DURATION:PT1H
X-Robots-Tag:noindex
X-PUBLISHED-TTL:PT1H
BEGIN:VTIMEZONE
TZID:America/New_York
BEGIN:DAYLIGHT
TZOFFSETFROM:-0500
TZOFFSETTO:-0400
TZNAME:EDT
DTSTART:20240310T070000
END:DAYLIGHT
BEGIN:STANDARD
TZOFFSETFROM:-0400
TZOFFSETTO:-0500
TZNAME:EST
DTSTART:20241103T060000
END:STANDARD
BEGIN:DAYLIGHT
TZOFFSETFROM:-0500
TZOFFSETTO:-0400
TZNAME:EDT
DTSTART:20250309T070000
END:DAYLIGHT
BEGIN:STANDARD
TZOFFSETFROM:-0400
TZOFFSETTO:-0500
TZNAME:EST
DTSTART:20251102T060000
END:STANDARD
BEGIN:DAYLIGHT
TZOFFSETFROM:-0500
TZOFFSETTO:-0400
TZNAME:EDT
DTSTART:20260308T070000
END:DAYLIGHT
BEGIN:STANDARD
TZOFFSETFROM:-0400
TZOFFSETTO:-0500
TZNAME:EST
DTSTART:20261101T060000
END:STANDARD
END:VTIMEZONE
BEGIN:VTIMEZONE
TZID:America/Halifax
BEGIN:DAYLIGHT
TZOFFSETFROM:-0400
TZOFFSETTO:-0300
TZNAME:ADT
DTSTART:20240310T060000
END:DAYLIGHT
BEGIN:STANDARD
TZOFFSETFROM:-0300
TZOFFSETTO:-0400
TZNAME:AST
DTSTART:20241103T050000
END:STANDARD
BEGIN:DAYLIGHT
TZOFFSETFROM:-0400
TZOFFSETTO:-0300
TZNAME:ADT
DTSTART:20250309T060000
END:DAYLIGHT
BEGIN:STANDARD
TZOFFSETFROM:-0300
TZOFFSETTO:-0400
TZNAME:AST
DTSTART:20251102T050000
END:STANDARD
BEGIN:DAYLIGHT
TZOFFSETFROM:-0400
TZOFFSETTO:-0300
TZNAME:ADT
DTSTART:20260308T060000
END:DAYLIGHT
BEGIN:STANDARD
TZOFFSETFROM:-0300
TZOFFSETTO:-0400
TZNAME:AST
DTSTART:20261101T050000
END:STANDARD
END:VTIMEZONE
BEGIN:VEVENT
DTSTART;TZID=America/New_York:20250503T140000
DTEND;TZID=America/New_York:20250503T163000
DTSTAMP:20260421T183055
CREATED:20250424T033312Z
LAST-MODIFIED:20250424T033738Z
UID:45219-1746280800-1746289800@shapeshifterplus.org
SUMMARY:You Gotta Believe Foster Care Awareness & Pre-Pride Month Kickoff Celebration
DESCRIPTION:YGB Foster Care Awareness & Pre-Pride Month Kickoff Celebration \nYou Gotta Believe is a New York City-based\, national organization that specializes in finding permanent families for young adults\, teens\, and pre-teens in foster care. \nCome join this community event: Celebrating with a Pride Runaway and Arts & Crafts Activiites! \n  \n 
URL:https://shapeshifterplus.org/event/you-gotta-believe-foster-care-awareness-pre-pride-month-kickoff-celebration/
LOCATION:ShapeShifter Lab\, 837 Union Street\, Ground Floor\, Brooklyn\, NY\, 11215\, United States
CATEGORIES:Collaboration Programs
ATTACH;FMTTYPE=image/png:https://shapeshifterplus.org/wp-content/uploads/2025/04/image.png
END:VEVENT
BEGIN:VEVENT
DTSTART;TZID=America/Halifax:20250509T183000
DTEND;TZID=America/Halifax:20250509T203000
DTSTAMP:20260421T183055
CREATED:20250418T185029Z
LAST-MODIFIED:20250422T192857Z
UID:45177-1746815400-1746822600@shapeshifterplus.org
SUMMARY:The Park Slope Food Coop Concert Series #7
DESCRIPTION:Everyone Welcome!\nMembers and Non-members!\n\nSet 1 | 6:30 pm–6:50 pm \n\nBand Name: Ran Livneh \nLineup: Ran Livneh – Bass\, Ben Silahi – Drums\n\nAbout: Mediative Ethiopian Jazz and ambient. Music inspired by Ethiopian music\, meditations\, spiritual jazz\, and Mediterranean sounds.\n\n\n\n\n\n  \n\nSet 2 | 7:00 pm–7:20 pm \n\nBand Name: Franglais\n\nLineup: Ben Wood – Guitar\, Jamie Fox – Guitar\, Eve Seltzer – Vocals\, Dave Speranza – Bass\n\nAbout: Jazz inspired by Django and Ella. A creative yet traditional Gypsy jazz band with roots in the Sinti camp sound and distinctly American solos.\n\n\n\n\n\n\n\n  \n\nSet 3 | 7:30 pm–7:50 pm \n\nBand Name: Valerie Farber\nLineup: Valerie Farber – Vocals & Baritone Ukulele\n\nAbout: Brooklyn-based vocalist blending classical and bluegrass roots with jazz improvisation and storytelling. Creator of the “Song Sonnet\,” sharing unique histories through music. Demo album “so this is love”available on Bandcamp\n\n\n\n\n\n  \n\nSet 4 | 8:00 pm–8:20 pm\n\nBand Name: Frikiplaza\nLineup: Serena – Guitar & Vocals\, Pau – Bass & Vocals\, Xander – Drums\n\nAbout: A band playing music described as “grunge seeping through the cracks in the indie rock disco road\,” with themes often related to birds.\n\n\n\n\n\n\n\nThe Park Slope Food Coop Concert Series is one of the most exciting initiatives we undertake as a community. With so many gifted and talented members\, creating this series was a natural decision and a no-brainer.\n\nThe baton of music and performance curation was passed on to Jay and Alexis by Beverly Grant—a great artist and long-time member since the inception of the Food Coop. Beverly is an artist\, photographer\, singer-songwriter\, composer\, and activist who has greatly contributed to our community.\nJason Weiner and the membership staff have played a key role in bringing this event to life. We thank them for sharing the same joy and respect for the arts\, which enriches all walks of life.\n\nBefore the shutdown\, this concert series was a crucial and pinnacle way of bringing us closer together as a community that truly cares about the world around us. Art\, in every aspect of our human experience\, is a life-healing force.\n\nAlexis Cuadrado and Jay Rodriguez are both professional musicians\, composers\, and producers. They have expanded the vision of the curation to create a platform for freedom of expression for all. Shapeshifter Lab visionaries Fortuna Sung and Matthew Garrison have also become vital to our mission\, generously providing us with their performance space across the street from the Food Coop.
URL:https://shapeshifterplus.org/event/the-park-slope-food-coop-concert-series-7/
LOCATION:ShapeShifter Lab\, 837 Union Street\, Ground Floor\, Brooklyn\, NY\, 11215\, United States
CATEGORIES:Collaboration Programs,Live Music
ATTACH;FMTTYPE=image/jpeg:https://shapeshifterplus.org/wp-content/uploads/2025/04/PSFC-Concert-7-Instagram-Post.jpg
END:VEVENT
BEGIN:VEVENT
DTSTART;TZID=America/New_York:20250510T090000
DTEND;TZID=America/New_York:20250510T170000
DTSTAMP:20260421T183055
CREATED:20250418T200514Z
LAST-MODIFIED:20250418T200612Z
UID:45186-1746867600-1746896400@shapeshifterplus.org
SUMMARY:Tumble Live: Sonic Saturday!
DESCRIPTION:Come join us for Tumble NSF Stem Day\, a fun-filled event celebrating all things science\, technology\, engineering\, and math! \n\n\n\n\nGet ready to make some noise at Tumble Live: Sonic Saturday—a FREE\, live science celebration for curious kids and their grownups! Hosted by Lindsay and Marshall from Tumble Science Podcast for Kids\, this high-energy event blends science storytelling\, games\, and music for an unforgettable day of discovery. With special guest Dan Saks from Noodle Loaf joining them on stage\, Lindsay and Marshall will take you on a sonic science journey you won’t soon forget! \nCome early and stay late for a meet and greet featuring hands-on science activities led by the folks at Tiny Scientist and accessible technology demonstrations from Indepdendence Science!  \nRSVP here to be added to the event list. RSVPs do not guarantee entry! \n\n\n\n\n\n\n\n\nAll Ages\n\n\n\n\n\n9:30 AM – 10:00 AM\nDoors Open – Morning Show\n\n\n10:30 AM – 11:15 AM\nMorning Show Performance Begins!\n\n\n11:15 AM – 1:00 PM\nMeet & Greet and Hands-on Activities\n\n\n1:00 PM – 2:00 PM\nDoors Close\n\n\n2:00 PM – 2:30 PM\nDoors Open – Afternoon Show\n\n\n2:30 PM – 3:15 PM\nAfternoon Show\n\n\n\n\nTICKETS
URL:https://shapeshifterplus.org/event/tumble-live-sonic-saturday/
LOCATION:ShapeShifter Lab\, 837 Union Street\, Ground Floor\, Brooklyn\, NY\, 11215\, United States
CATEGORIES:Collaboration Programs,Education
ATTACH;FMTTYPE=image/avif:https://shapeshifterplus.org/wp-content/uploads/2025/04/https-cdn.evbuc_.com-images-1006202123-1605847683223-1-original.20250410-200316.avif
END:VEVENT
BEGIN:VEVENT
DTSTART;TZID=America/New_York:20250518T143000
DTEND;TZID=America/New_York:20250518T160000
DTSTAMP:20260421T183055
CREATED:20250501T201757Z
LAST-MODIFIED:20250501T201757Z
UID:45275-1747578600-1747584000@shapeshifterplus.org
SUMMARY:Come read Books at the Human Library!
DESCRIPTION:Human Library NYC breaks down social barriers by bringing strangers together in conversation. One person acts as a Book\, sharing their lived experience\, while one or more others act as a Reader\, asking any questions they have about that experience. These open and honest conversations provide a safe space for all of us to challenge stereotypes and prejudices we may have. \nGet Free Tickets HERE
URL:https://shapeshifterplus.org/event/come-read-books-at-the-human-library/
LOCATION:ShapeShifter Lab\, 837 Union Street\, Ground Floor\, Brooklyn\, NY\, 11215\, United States
CATEGORIES:Collaboration Programs
ATTACH;FMTTYPE=image/png:https://shapeshifterplus.org/wp-content/uploads/2025/05/Screenshot-2025-05-01-at-4.14.51 PM.png
END:VEVENT
BEGIN:VEVENT
DTSTART;TZID=America/New_York:20250529T200000
DTEND;TZID=America/New_York:20250529T213000
DTSTAMP:20260421T183055
CREATED:20250509T175924Z
LAST-MODIFIED:20250509T175924Z
UID:45351-1748548800-1748554200@shapeshifterplus.org
SUMMARY:Rockquiem: A choral concert featuring works for choir and electronics including a Requiem setting with rock trio.
DESCRIPTION:ROCKQUIEM\nThursday\, May 29 at 8:00pm \nC4: The Choral Composer/Conductor Collective presents ROCKQUIEM\, a night of world premieres for choir\, live electronics and rock trio. Featuring “Rockquiem\,” a new\, collectively composed requiem for choir and rock trio! C4 goes electric in this thrilling performance. \nProgram\nJeryl Johnston\, What is This? \nMirjam Tally\, Sinu Vari \nROCKQUIEM: \n\nBrian Mountford\, Introit\, Kyrie & Gradual\nEvan Johnson\, Tract\nZoe Hart\, Ingemsico (from Dies Irae)\nHayes Biggs\, Offertory\nMario Gullo\, Sanctus & Benedictus\nBryan Lin\, Agnus Dei\nPerry Townsend\, Lux Aeterna\n\n——————————————— \nTicket prices are as follows. \n\nDiscounted: $10\nStandard ticket: $20 online\, $25 at the door\nPay it forward ticket: $50; this ticket is an elective purchase that makes it possible for us to offer discounted tickets and share our music with audience members who could not otherwise attend.\nDonation / pay what you can ticket: suggested minimum of $5; this ticket is meant for students\, seniors\, fellow artists\, and anyone for whom cost may be a limiting factor. Choose “Pay what you can” under “Donations” to buy ONE pay what you can ticket per order.\n\nAll are encouraged to purchase the ticket that is most appropriate to them. There is no difference in seating or other distinction in the concert experience. \nC4 is committed to welcoming all to our audiences. As such\, if this cost is prohibitive\, please reach out to info@c4ensemble.org.
URL:https://shapeshifterplus.org/event/rockquiem-may-29-2025/
LOCATION:ShapeShifter Lab\, 837 Union Street\, Ground Floor\, Brooklyn\, NY\, 11215\, United States
CATEGORIES:Collaboration Programs,Live Music
ATTACH;FMTTYPE=image/avif:https://shapeshifterplus.org/wp-content/uploads/2025/05/https-cdn.evbuc_.com-images-1007556213-589449986633-1-original.20250412-211707.avif
END:VEVENT
BEGIN:VEVENT
DTSTART;TZID=America/New_York:20250530T200000
DTEND;TZID=America/New_York:20250530T213000
DTSTAMP:20260421T183055
CREATED:20250509T231910Z
LAST-MODIFIED:20250509T232021Z
UID:45361-1748635200-1748640600@shapeshifterplus.org
SUMMARY:C4 presents: ROCKQUIEM
DESCRIPTION:ROCKQUIEM\nFriday\, May 30 at 8:00pm \nC4: The Choral Composer/Conductor Collective presents ROCKQUIEM\, a night of world premieres for choir\, live electronics and rock trio. Featuring “Rockquiem\,” a new\, collectively composed requiem for choir and rock trio! C4 goes electric in this thrilling performance. \nProgram\nJeryl Johnston\, What is This? \nMirjam Tally\, Sinu Vari \nROCKQUIEM: \n\nBrian Mountford\, Introit\, Kyrie & Gradual\nEvan Johnson\, Tract\nZoe Hart\, Ingemsico (from Dies Irae)\nHayes Biggs\, Offertory\nMario Gullo\, Sanctus & Benedictus\nBryan Lin\, Agnus Dei\nPerry Townsend\, Lux Aeterna\n\n——————————————— \nTicket prices are as follows. \n\nDiscounted: $10\nStandard ticket: $20 online\, $25 at the door\nPay it forward ticket: $50; this ticket is an elective purchase that makes it possible for us to offer discounted tickets and share our music with audience members who could not otherwise attend.\nDonation / pay what you can ticket: suggested minimum of $5; this ticket is meant for students\, seniors\, fellow artists\, and anyone for whom cost may be a limiting factor. Choose “Pay what you can” under “Donations” to buy ONE pay what you can ticket per order.\n\nAll are encouraged to purchase the ticket that is most appropriate to them. There is no difference in seating or other distinction in the concert experience. \nC4 is committed to welcoming all to our audiences. As such\, if this cost is prohibitive\, please reach out to info@c4ensemble.org.
URL:https://shapeshifterplus.org/event/c4-presents-rockquiem-20250509/
LOCATION:ShapeShifter Lab\, 837 Union Street\, Ground Floor\, Brooklyn\, NY\, 11215\, United States
CATEGORIES:Collaboration Programs,Live Music
ATTACH;FMTTYPE=image/avif:https://shapeshifterplus.org/wp-content/uploads/2025/05/https-cdn.evbuc_.com-images-1007556213-589449986633-1-original.20250412-211707-1.avif
END:VEVENT
END:VCALENDAR