BEGIN:VCALENDAR
VERSION:2.0
PRODID:-//ShapeShifter Plus - ECPv6.15.20//NONSGML v1.0//EN
CALSCALE:GREGORIAN
METHOD:PUBLISH
X-WR-CALNAME:ShapeShifter Plus
X-ORIGINAL-URL:https://shapeshifterplus.org
X-WR-CALDESC:Events for ShapeShifter Plus
REFRESH-INTERVAL;VALUE=DURATION:PT1H
X-Robots-Tag:noindex
X-PUBLISHED-TTL:PT1H
BEGIN:VTIMEZONE
TZID:America/New_York
BEGIN:DAYLIGHT
TZOFFSETFROM:-0500
TZOFFSETTO:-0400
TZNAME:EDT
DTSTART:20240310T070000
END:DAYLIGHT
BEGIN:STANDARD
TZOFFSETFROM:-0400
TZOFFSETTO:-0500
TZNAME:EST
DTSTART:20241103T060000
END:STANDARD
BEGIN:DAYLIGHT
TZOFFSETFROM:-0500
TZOFFSETTO:-0400
TZNAME:EDT
DTSTART:20250309T070000
END:DAYLIGHT
BEGIN:STANDARD
TZOFFSETFROM:-0400
TZOFFSETTO:-0500
TZNAME:EST
DTSTART:20251102T060000
END:STANDARD
BEGIN:DAYLIGHT
TZOFFSETFROM:-0500
TZOFFSETTO:-0400
TZNAME:EDT
DTSTART:20260308T070000
END:DAYLIGHT
BEGIN:STANDARD
TZOFFSETFROM:-0400
TZOFFSETTO:-0500
TZNAME:EST
DTSTART:20261101T060000
END:STANDARD
END:VTIMEZONE
BEGIN:VTIMEZONE
TZID:America/Halifax
BEGIN:DAYLIGHT
TZOFFSETFROM:-0400
TZOFFSETTO:-0300
TZNAME:ADT
DTSTART:20240310T060000
END:DAYLIGHT
BEGIN:STANDARD
TZOFFSETFROM:-0300
TZOFFSETTO:-0400
TZNAME:AST
DTSTART:20241103T050000
END:STANDARD
BEGIN:DAYLIGHT
TZOFFSETFROM:-0400
TZOFFSETTO:-0300
TZNAME:ADT
DTSTART:20250309T060000
END:DAYLIGHT
BEGIN:STANDARD
TZOFFSETFROM:-0300
TZOFFSETTO:-0400
TZNAME:AST
DTSTART:20251102T050000
END:STANDARD
BEGIN:DAYLIGHT
TZOFFSETFROM:-0400
TZOFFSETTO:-0300
TZNAME:ADT
DTSTART:20260308T060000
END:DAYLIGHT
BEGIN:STANDARD
TZOFFSETFROM:-0300
TZOFFSETTO:-0400
TZNAME:AST
DTSTART:20261101T050000
END:STANDARD
END:VTIMEZONE
BEGIN:VEVENT
DTSTART;TZID=America/New_York:20250308T190000
DTEND;TZID=America/New_York:20250308T190000
DTSTAMP:20260421T212624
CREATED:20250228T220025Z
LAST-MODIFIED:20250228T220905Z
UID:44491-1741460400-1741460400@shapeshifterplus.org
SUMMARY:BELONGÓ x Shapeshifter Plus Presents: The Fat Cats\, with special guests from Interlochen Academy Jazz
DESCRIPTION:A dynamic night of Afro Latin Jazz presented by NYC’s premier youth ensemble\, The Fat Cats\, joined by musicians from Interlochen Academy.\nJoin us for a thrilling night of jazz as The Fat Cats take the stage at ShapeShifter Lab\, joined by talented jazz students from Interlochen Arts Academy. This special performance highlights the power of mentorship and collaboration\, bringing together rising young artists and seasoned professionals in an unforgettable musical exchange. \nSince its founding at the storied Fat Cat jazz club in 2009\, the Fat Cats program has nurtured over 200 young musicians from across the New York metro area. These students have had the unique opportunity to study with Grammy-winning musicians\, perform on some of the city’s most iconic stages\, and participate in international exchanges in Cuba and Hungary. Many Fat Cats alumni have gone on to professional careers in music and prestigious collegiate programs\, carrying forward the tradition of jazz excellence. \nNow\, in this exciting performance\, Fat Cats members will be joined by jazz students from Interlochen Arts Academy\, one of the nation’s leading institutions for arts education. Together\, they will showcase the next generation of jazz talent in a dynamic evening of improvisation\, swing\, and boundless creativity. \n@afrolatinjazz @interlochenjazz @interlochenarts \nFat Cats \nInterlochen Center for the Arts \n\nThe venue is all ages. Anyone under the age of 16 must be accompanied by an adult or guardian over 21.
URL:https://shapeshifterplus.org/event/fat-catsinterlochen-2025/
LOCATION:ShapeShifter Lab\, 837 Union Street\, Ground Floor\, Brooklyn\, NY\, 11215\, United States
CATEGORIES:Collaboration Programs,Education,Live Music
ATTACH;FMTTYPE=image/jpeg:https://shapeshifterplus.org/wp-content/uploads/2025/02/IMG_1222-Jamie-Ehrenfeld.jpg
END:VEVENT
BEGIN:VEVENT
DTSTART;TZID=America/New_York:20250313T190000
DTEND;TZID=America/New_York:20250313T210000
DTSTAMP:20260421T212624
CREATED:20250311T215746Z
LAST-MODIFIED:20250311T215746Z
UID:44717-1741892400-1741899600@shapeshifterplus.org
SUMMARY:Mixtape Choir & Mucho Music
DESCRIPTION:Mixtape Choir is the newest addition to the New York Choir Project family. They formed in October 2024 and their performance at Shape shifter Lab will be their debut show in a venue setting. They will be sharing a set of fun and unique covers of pop and indie tunes in five part harmony. You can find more about Mixtape Choir at: nychoirproject.com/mixtape-choir \nSarah Mucho is a Brooklyn-based\, award-winning singer\, musician\, songwriter and cabaret artist (and also the guitarist for Mixtape Choir). Sarah’s band\, Mucho Music will be closing out the night with a set of epic originals as well as some quirky covers. You can find out more about Sarah and Mucho Music at www.sarahmuchomusic.com \n 
URL:https://shapeshifterplus.org/event/mixtape-choir-mucho-music/
LOCATION:ShapeShifter Lab\, 837 Union Street\, Ground Floor\, Brooklyn\, NY\, 11215\, United States
CATEGORIES:Collaboration Programs,Live Music
ATTACH;FMTTYPE=image/png:https://shapeshifterplus.org/wp-content/uploads/2025/03/Screenshot-2025-03-11-at-5.57.11 PM.png
END:VEVENT
BEGIN:VEVENT
DTSTART;TZID=America/Halifax:20250314T183000
DTEND;TZID=America/Halifax:20250314T203000
DTSTAMP:20260421T212624
CREATED:20250227T054638Z
LAST-MODIFIED:20250228T201332Z
UID:44446-1741977000-1741984200@shapeshifterplus.org
SUMMARY:The Park Slope Food Coop Concert Series #5
DESCRIPTION:Everyone Welcome!\nMembers and Non-members!\n\n\n6:30 pm to 6:50 pm \n\nSlurpus \n\nJulie Chen – vox and keyboard\nZiyi Li – vox\, keyboard\, visuals\n\nSlime Queen is an indie electronic pop musician who performs original music and Mandopop covers. This performance will involve live instrumentals through a MIDI keyboard/laptop setup and vocals\, and probably a fun outfit.\n\n\n\n\n\n\n\n7 pm to 7:20 pm \n\nPete Sinjinn\n\nPete Sinjin – guitar/vocals\n\nSinger/Songwriter PETE SINJIN performs original songs in the Americana/Troubadour tradition drawing from the deep poetic well of narrative and protest.\n\n\n\n\n\n\n\n7:30 pm to 7:50 pm \n\nDavid Gilmore – Solo Guitar \n\nDavid Gilmore – Electric and Acoustic Guitars\n\nA solo guitar concert of select compositions by Wayne Shorter.\n\n\n\n\n\n\n\n8 pm to 8:20 pm \n\nThe Fisherman\n\nLauren Cohen\n\nMy fictional character “The Fisherman” plays his ceramic musical instruments to find love.\n\n\n\n\n\n\n\n\n\nThe Park Slope Food Coop Concert Series is one of the most exciting initiatives we undertake as a community. With so many gifted and talented members\, creating this series was a natural decision and a no-brainer.\n\nThe baton of music and performance curation was passed on to Jay and Alexis by Beverly Grant—a great artist and long-time member since the inception of the Food Coop. Beverly is an artist\, photographer\, singer-songwriter\, composer\, and activist who has greatly contributed to our community.\nJason Weiner and the membership staff have played a key role in bringing this event to life. We thank them for sharing the same joy and respect for the arts\, which enriches all walks of life.\n\nBefore the shutdown\, this concert series was a crucial and pinnacle way of bringing us closer together as a community that truly cares about the world around us. Art\, in every aspect of our human experience\, is a life-healing force.\n\nAlexis Cuadrado and Jay Rodriguez are both professional musicians\, composers\, and producers. They have expanded the vision of the curation to create a platform for freedom of expression for all. Shapeshifter Lab visionaries Fortuna Sung and Matthew Garrison have also become vital to our mission\, generously providing us with their performance space across the street from the Food Coop.
URL:https://shapeshifterplus.org/event/psfc-concert-series-5/
LOCATION:ShapeShifter Lab\, 837 Union Street\, Ground Floor\, Brooklyn\, NY\, 11215\, United States
CATEGORIES:Collaboration Programs,Live Music
ATTACH;FMTTYPE=image/jpeg:https://shapeshifterplus.org/wp-content/uploads/2025/02/Ticket-link-Concert-5-Instagram-Post.jpg
END:VEVENT
END:VCALENDAR