BEGIN:VCALENDAR
VERSION:2.0
PRODID:-//ShapeShifter Plus - ECPv6.15.20//NONSGML v1.0//EN
CALSCALE:GREGORIAN
METHOD:PUBLISH
X-WR-CALNAME:ShapeShifter Plus
X-ORIGINAL-URL:https://shapeshifterplus.org
X-WR-CALDESC:Events for ShapeShifter Plus
REFRESH-INTERVAL;VALUE=DURATION:PT1H
X-Robots-Tag:noindex
X-PUBLISHED-TTL:PT1H
BEGIN:VTIMEZONE
TZID:America/Halifax
BEGIN:DAYLIGHT
TZOFFSETFROM:-0400
TZOFFSETTO:-0300
TZNAME:ADT
DTSTART:20230312T060000
END:DAYLIGHT
BEGIN:STANDARD
TZOFFSETFROM:-0300
TZOFFSETTO:-0400
TZNAME:AST
DTSTART:20231105T050000
END:STANDARD
BEGIN:DAYLIGHT
TZOFFSETFROM:-0400
TZOFFSETTO:-0300
TZNAME:ADT
DTSTART:20240310T060000
END:DAYLIGHT
BEGIN:STANDARD
TZOFFSETFROM:-0300
TZOFFSETTO:-0400
TZNAME:AST
DTSTART:20241103T050000
END:STANDARD
BEGIN:DAYLIGHT
TZOFFSETFROM:-0400
TZOFFSETTO:-0300
TZNAME:ADT
DTSTART:20250309T060000
END:DAYLIGHT
BEGIN:STANDARD
TZOFFSETFROM:-0300
TZOFFSETTO:-0400
TZNAME:AST
DTSTART:20251102T050000
END:STANDARD
END:VTIMEZONE
BEGIN:VEVENT
DTSTART;TZID=America/Halifax:20240517T180000
DTEND;TZID=America/Halifax:20240517T200000
DTSTAMP:20260422T114746
CREATED:20240430T225844Z
LAST-MODIFIED:20240517T225337Z
UID:13738-1715968800-1715976000@shapeshifterplus.org
SUMMARY:Postponed: PSNY Happening: Transition - POSTPONED - NEW DATE TBA
DESCRIPTION:The Poetry Society of New York welcomes you to a collaborative\, generative evening of art\, poetry\, music and more!\nHappenings is an event series designed to generate artistic collaborations. Each event invites creators of all mediums to come and create new work spontaneously and in dialogue with one another—consider this a space to generate new work. \nEach Happening is a space designed to elicit a response; a place so alive with art and stimulus that everyone who experiences it leaves with the seeds of inspiration already sprouting in their minds. Each chamber contains an intentional mix of poetry and visual art\, performance and music\, all unified in their mission to awaken your aesthetic impulse. \nThis Happening is themed around Transition\, and features Noah Ahrm Choi (Poetry)\, Vicki Leona (Sound)\, India Lena Gonzales (Movement)\, and Ariel Kleinberg (Visual Art). \n**Doors open at 6:00PM\, event runs from 6:30PM-8:00PM** \n* *Tickets are donation-based with a suggested donation of $10**
URL:https://shapeshifterplus.org/event/psny-happening-transition/
LOCATION:ShapeShifter Lab\, 837 Union Street\, Ground Floor\, Brooklyn\, NY\, 11215\, United States
CATEGORIES:Collaboration Programs
ATTACH;FMTTYPE=image/png:https://shapeshifterplus.org/wp-content/uploads/2024/04/Screenshot-2024-04-30-at-7.14.05 PM.png
END:VEVENT
END:VCALENDAR