BEGIN:VCALENDAR
VERSION:2.0
PRODID:-//ShapeShifter Plus - ECPv6.15.20//NONSGML v1.0//EN
CALSCALE:GREGORIAN
METHOD:PUBLISH
X-ORIGINAL-URL:https://shapeshifterplus.org
X-WR-CALDESC:Events for ShapeShifter Plus
REFRESH-INTERVAL;VALUE=DURATION:PT1H
X-Robots-Tag:noindex
X-PUBLISHED-TTL:PT1H
BEGIN:VTIMEZONE
TZID:America/Halifax
BEGIN:DAYLIGHT
TZOFFSETFROM:-0400
TZOFFSETTO:-0300
TZNAME:ADT
DTSTART:20230312T060000
END:DAYLIGHT
BEGIN:STANDARD
TZOFFSETFROM:-0300
TZOFFSETTO:-0400
TZNAME:AST
DTSTART:20231105T050000
END:STANDARD
BEGIN:DAYLIGHT
TZOFFSETFROM:-0400
TZOFFSETTO:-0300
TZNAME:ADT
DTSTART:20240310T060000
END:DAYLIGHT
BEGIN:STANDARD
TZOFFSETFROM:-0300
TZOFFSETTO:-0400
TZNAME:AST
DTSTART:20241103T050000
END:STANDARD
BEGIN:DAYLIGHT
TZOFFSETFROM:-0400
TZOFFSETTO:-0300
TZNAME:ADT
DTSTART:20250309T060000
END:DAYLIGHT
BEGIN:STANDARD
TZOFFSETFROM:-0300
TZOFFSETTO:-0400
TZNAME:AST
DTSTART:20251102T050000
END:STANDARD
END:VTIMEZONE
BEGIN:VEVENT
DTSTART;TZID=America/Halifax:20240407T120000
DTEND;TZID=America/Halifax:20240407T130000
DTSTAMP:20260422T130900
CREATED:20240402T212941Z
LAST-MODIFIED:20240402T212941Z
UID:13066-1712491200-1712494800@shapeshifterplus.org
SUMMARY:Music Therapy Sings: Easy Like Sunday Morning
DESCRIPTION:Come join us for a captivating performer showcase that celebrates the power of music\, featuring the amazing talents of BKCM’s music therapy program! This event promises to uplift your spirits and fill your Sunday morning with beautiful music. Starring our seasoned performers as well as new talents joining the stage\, mark your calendars and join us for a memorable experience! \nEach ticket purchase includes a complimentary mimosa. \nInterested in donating? You can support our music therapy program by making an additional donation\, which goes directly to our financial aid program. \nClick here to donate. \n\n\n\n\n\n 
URL:https://shapeshifterplus.org/event/music-therapy-sings-easy-like-sunday-morning/
LOCATION:ShapeShifter Lab\, 837 Union Street\, Ground Floor\, Brooklyn\, NY\, 11215\, United States
CATEGORIES:Collaboration Programs,Education,Live Music
ATTACH;FMTTYPE=image/png:https://shapeshifterplus.org/wp-content/uploads/2024/04/Screenshot-2024-04-02-at-5.28.36 PM.png
END:VEVENT
BEGIN:VEVENT
DTSTART;TZID=America/Halifax:20240413T180000
DTEND;TZID=America/Halifax:20240413T210000
DTSTAMP:20260422T130900
CREATED:20240402T194256Z
LAST-MODIFIED:20240402T194256Z
UID:13036-1713031200-1713042000@shapeshifterplus.org
SUMMARY:Haitian Cultural Exchange Presents: DIASPORA NOW
DESCRIPTION:Join us for an evening of premiere presentations featuring multidisciplinary artists: Sheila Anozier\, Steeven Labady\, Atibon Nazaire\, & Nubian Néné who will each present their work and participate in a post-show dialogue. \nApril 13\, 2024\n6 – 9pm\nShapeshifter Lab\,\n837 Union St\, Brooklyn\, NY 11215 \n  \nAbout Diaspora NOW\nDiaspora NOW is a platform for literary and performing artists of Haitian descent to premiere works in New York City\, offering opportunities for Haitians and the general public to engage with new art that highlights experiences in the Diaspora.
URL:https://shapeshifterplus.org/event/haitian-cultural-exchange-presents-diaspora-now/
LOCATION:ShapeShifter Lab\, 837 Union Street\, Ground Floor\, Brooklyn\, NY\, 11215\, United States
CATEGORIES:Collaboration Programs,Live Music
ATTACH;FMTTYPE=image/png:https://shapeshifterplus.org/wp-content/uploads/2024/04/Screenshot-2024-04-02-at-3.18.38 PM.png
END:VEVENT
BEGIN:VEVENT
DTSTART;TZID=America/Halifax:20240414T160000
DTEND;TZID=America/Halifax:20240414T183000
DTSTAMP:20260422T130900
CREATED:20240402T002648Z
LAST-MODIFIED:20240404T212500Z
UID:13020-1713110400-1713119400@shapeshifterplus.org
SUMMARY:Transfiguration: Listening Session and Discussion of Alice Coltrane's Live Recording (1978) with Reggie Workman\, Ravi Coltrane\, and Matt Garrison
DESCRIPTION:Transfiguration: \nJoin us for a listening session and discussion of Alice Coltrane’s incredible 1978 live recording with Reggie Workman (who played in this concert)\, and Ravi Coltrane in conversation with Matthew Garrison. \n\nRecorded live in 1978 at UCLA\, Transfiguration is viewed as an important marker in Alice Coltrane’s career.  She would not make another major label recording until 2004\, with Translinear Light produced by Ravi Coltrane.\n\n\n4 pm  Event starts\n            Listening Session & Conversation\n            Q&A\n5:30 – 6:30 pm Mingle time\n\nDon’t miss this opportunity to journey through the sonic realms of one of jazz’s most influential figures.\n\n\nStudents and Seniors Discount: $15\nGeneral: $25
URL:https://shapeshifterplus.org/event/transfiguration-alice-coltrane/
LOCATION:ShapeShifter Lab\, 837 Union Street\, Ground Floor\, Brooklyn\, NY\, 11215\, United States
CATEGORIES:Collaboration Programs,Education,Live Music
ATTACH;FMTTYPE=image/png:https://shapeshifterplus.org/wp-content/uploads/2024/04/Screenshot-2024-04-01-at-8.23.03 PM.png
END:VEVENT
BEGIN:VEVENT
DTSTART;TZID=America/Halifax:20240414T200000
DTEND;TZID=America/Halifax:20240414T230000
DTSTAMP:20260422T130900
CREATED:20240402T011042Z
LAST-MODIFIED:20240404T204223Z
UID:13027-1713124800-1713135600@shapeshifterplus.org
SUMMARY:Free Form Funky Frēqs Performance #75
DESCRIPTION:Free Form Funky Frēqs Performance #75 \nG. Calvin Westen drums\, Vernon Reid\, guitar/electronics/ loops & Jamaaladeen Tacuma\, bass. \nThe number 75 represents the 75th time the trio has EVER played together\, totally improvised. No previous rehearsals. No soundchecks involving the 3 playing simultaneously. \nReview
URL:https://shapeshifterplus.org/event/ffff/
LOCATION:ShapeShifter Lab\, 837 Union Street\, Ground Floor\, Brooklyn\, NY\, 11215\, United States
CATEGORIES:Collaboration Programs,Live Music
ATTACH;FMTTYPE=image/png:https://shapeshifterplus.org/wp-content/uploads/2024/04/Screenshot-2024-04-04-at-4.41.00 PM.png
END:VEVENT
END:VCALENDAR