BEGIN:VCALENDAR
VERSION:2.0
PRODID:-//ShapeShifter Plus - ECPv6.15.20//NONSGML v1.0//EN
CALSCALE:GREGORIAN
METHOD:PUBLISH
X-ORIGINAL-URL:https://shapeshifterplus.org
X-WR-CALDESC:Events for ShapeShifter Plus
REFRESH-INTERVAL;VALUE=DURATION:PT1H
X-Robots-Tag:noindex
X-PUBLISHED-TTL:PT1H
BEGIN:VTIMEZONE
TZID:America/Halifax
BEGIN:DAYLIGHT
TZOFFSETFROM:-0400
TZOFFSETTO:-0300
TZNAME:ADT
DTSTART:20230312T060000
END:DAYLIGHT
BEGIN:STANDARD
TZOFFSETFROM:-0300
TZOFFSETTO:-0400
TZNAME:AST
DTSTART:20231105T050000
END:STANDARD
BEGIN:DAYLIGHT
TZOFFSETFROM:-0400
TZOFFSETTO:-0300
TZNAME:ADT
DTSTART:20240310T060000
END:DAYLIGHT
BEGIN:STANDARD
TZOFFSETFROM:-0300
TZOFFSETTO:-0400
TZNAME:AST
DTSTART:20241103T050000
END:STANDARD
BEGIN:DAYLIGHT
TZOFFSETFROM:-0400
TZOFFSETTO:-0300
TZNAME:ADT
DTSTART:20250309T060000
END:DAYLIGHT
BEGIN:STANDARD
TZOFFSETFROM:-0300
TZOFFSETTO:-0400
TZNAME:AST
DTSTART:20251102T050000
END:STANDARD
END:VTIMEZONE
BEGIN:VEVENT
DTSTART;TZID=America/Halifax:20240120T130000
DTEND;TZID=America/Halifax:20240120T180000
DTSTAMP:20260422T165312
CREATED:20240308T002016Z
LAST-MODIFIED:20240308T002016Z
UID:10898-1705755600-1705773600@shapeshifterplus.org
SUMMARY:New Year - New You - Get a New Portrait
DESCRIPTION:Headshot mini photo sessions in a studio setting\nThe studio is set up at Shapeshifter\n837 Union Street Brooklyn- Second floor \nThe session includes  different lightning studio set up\nTime will be taken to find the perfect light\, backdrop and outfit for your needs\nMaximum of 2 looks per session (a look is a clothing change-it is recommended to bring several top options to choose from\, even without a change) \nThe sitting fee of $190 for 30min includes : the photo session- the private online proofing gallery to choose from delivered within a week -one retouched digital file – additional package of files or prints available to purchase on your private site
URL:https://shapeshifterplus.org/event/new-year-new-you-get-a-new-portrait/
LOCATION:ShapeShifter Lab\, 837 Union Street\, Ground Floor\, Brooklyn\, NY\, 11215\, United States
CATEGORIES:Collaboration Programs
ATTACH;FMTTYPE=image/png:https://shapeshifterplus.org/wp-content/uploads/2024/01/Screenshot-2024-01-19-at-10.50.30 PM.png
END:VEVENT
BEGIN:VEVENT
DTSTART;TZID=America/Halifax:20240126T184500
DTEND;TZID=America/Halifax:20240126T223000
DTSTAMP:20260422T165312
CREATED:20240305T030653Z
LAST-MODIFIED:20240305T030657Z
UID:9463-1706294700-1706308200@shapeshifterplus.org
SUMMARY:Future Instruments Festival
DESCRIPTION:6:15pm Doors Open\n6:45 – 7:45pm Workshop On Electronic Music Live Performance\n8:30 – 9:30pm Dan FreeMan\n9:30 – 10:30pm Daedalus \n\n\nThe Future Instruments Festival is an immersive concert series and workshop showcasing future instruments\, digital music\, performance and art. We feature artists who are pushing the limits of technology and the use of these new tools in live music making. \nThe Future Instruments Festival will also include a live workshop with the artists who will discuss the technologies that they use and their process of creating a live electronic music performance. \nVisuals by 0h10M1ke and Jackson Lin. \n— \nDaedelus has been an instigator of electronic music culture for the past 20-plus years. A fore-figure of Los Angeles’ beat scene\, they have released more than 20 LPs\, countless EPs\, remixes\, and additional productions on labels such as Ninja Tune\, Brainfeeder\, Dome of Doom\, and more. As a performer they’re synonymous with performative controllers\, from the Monome to computer-free modular\, and have played 1\,000-plus shows across six continents at venues ranging from the underground Low End Theory to festival main stages such as Coachella. \nThey were the founding faculty member for the Berklee College of Music’s new EDI (electronic digital instrument) program where they continue to teach. \nDan FreeMan is a producer/bassist and music technologist based in Brooklyn\, New York and an expert on the integration of live instruments with laptops using Ableton Live and future instrument technology. Originally from Boston\, he came to New York at age 23 and worked for years as a session bassist\, playing and touring throughout NYC\, Europe\, and Latin America at venues from many underground Brooklyn parties to Carnegie Hall. He has performed and given workshops on electronic music production and performance at festivals\, universities\, and schools worldwide including at: SXSW\, Berghain (Berlin)\, DNA Music (Bogota)\, Argenlive (Buenos Aires)\, Universidad de Santiago (Chile)\, Teatro Rubén Dario (Nicaragua)\, and Sonar (Barcelona\, Spain). \nCurrently\, FreeMan teaches at Berklee College of Music in the EDI (electronic digital instrument) program while also serving on the faculty of New York University’s Clive Davis Institute of Recorded Music and the Juilliard School. He also has a production space in Brooklyn where he produces and sound designs records and live shows. \n0H10M1ke is a Brooklyn-based graffiti artist and performer known for his one-line street portraits and his contemporary art paintings in galleries and art fairs at Miami Art Basel and Art Expo New York. He served as official portrait artist for the Museum of Graffiti in December 2023 and has upcoming shows in Tokyo\, Japan and Cologne\, Germany. \n0H10M1ke brings an entirely live and highly analog approach to VJing. Focused on the line and using the simplest of design tools\, he digitally graffitis the stage and set. The frenetic energy of “drawing to music” directly on performers lights the space\, creating a digitally drawn live visual score as the backdrop to the show. \nAs resident visual artist for Comandante Zero\, 0H10M1ke has played extensively and toured with Dan Freeman\, adding live visuals to their multimedia spectacular for many years. \nJackson Lin is a New York-based artist who seamlessly combines art and technology to create immersive experiences. With a deep-rooted passion for pushing the boundaries of artistic expression\, he merges traditional techniques with innovative digital tools. Through interactive installations and mind-bending projection mapping displays\, he pushes the envelope of what is possible in the realm of art and technology. Jackson Lin’s work embodies the powerful union of creativity and innovation in today’s digital age.
URL:https://shapeshifterplus.org/event/future-instruments-fest-jan-26/
LOCATION:ShapeShifter Lab\, 837 Union Street\, Ground Floor\, Brooklyn\, NY\, 11215\, United States
CATEGORIES:Collaboration Programs,Education,Live Music,Open Call Program
ATTACH;FMTTYPE=image/png:https://shapeshifterplus.org/wp-content/uploads/2023/12/unnamed.png
END:VEVENT
BEGIN:VEVENT
DTSTART;TZID=America/Halifax:20240127T193000
DTEND;TZID=America/Halifax:20240127T220000
DTSTAMP:20260422T165312
CREATED:20240305T030653Z
LAST-MODIFIED:20240305T030657Z
UID:11194-1706383800-1706392800@shapeshifterplus.org
SUMMARY:PSNY Happening: A Collaborative Evening
DESCRIPTION:Imagine a space designed to elicit a response. A place so alive with art and stimulus that everyone who experiences it leaves with the seeds of inspiration already sprouting in their minds. Each chamber contains an intentional mix of poetry and visual art\, performance and music\, all unified in their mission to awaken your aesthetic impulse. \nHappenings is an event series designed to generate artistic collaborations. Each event invites creators of all mediums to come and create new work spontaneously and in dialogue with one another—consider this a space to generate new work. \nEach Happening results in a publishing project derived from the work that is presented and created on-site. \n**Doors open at 7:30PM\, event runs from 8PM-10PM** \n* *Tickets are donation-based with a suggested donation of $10**
URL:https://shapeshifterplus.org/event/psny-happening-a-collaborative-evening/
LOCATION:ShapeShifter Lab\, 837 Union Street\, Ground Floor\, Brooklyn\, NY\, 11215\, United States
CATEGORIES:Collaboration Programs
ATTACH;FMTTYPE=image/png:https://shapeshifterplus.org/wp-content/uploads/2024/01/Screenshot-2024-01-25-at-1.38.42 PM.png
END:VEVENT
END:VCALENDAR