BEGIN:VCALENDAR
VERSION:2.0
PRODID:-//ShapeShifter Plus - ECPv6.15.20//NONSGML v1.0//EN
CALSCALE:GREGORIAN
METHOD:PUBLISH
X-WR-CALNAME:ShapeShifter Plus
X-ORIGINAL-URL:https://shapeshifterplus.org
X-WR-CALDESC:Events for ShapeShifter Plus
REFRESH-INTERVAL;VALUE=DURATION:PT1H
X-Robots-Tag:noindex
X-PUBLISHED-TTL:PT1H
BEGIN:VTIMEZONE
TZID:America/New_York
BEGIN:DAYLIGHT
TZOFFSETFROM:-0500
TZOFFSETTO:-0400
TZNAME:EDT
DTSTART:20250309T070000
END:DAYLIGHT
BEGIN:STANDARD
TZOFFSETFROM:-0400
TZOFFSETTO:-0500
TZNAME:EST
DTSTART:20251102T060000
END:STANDARD
BEGIN:DAYLIGHT
TZOFFSETFROM:-0500
TZOFFSETTO:-0400
TZNAME:EDT
DTSTART:20260308T070000
END:DAYLIGHT
BEGIN:STANDARD
TZOFFSETFROM:-0400
TZOFFSETTO:-0500
TZNAME:EST
DTSTART:20261101T060000
END:STANDARD
BEGIN:DAYLIGHT
TZOFFSETFROM:-0500
TZOFFSETTO:-0400
TZNAME:EDT
DTSTART:20270314T070000
END:DAYLIGHT
BEGIN:STANDARD
TZOFFSETFROM:-0400
TZOFFSETTO:-0500
TZNAME:EST
DTSTART:20271107T060000
END:STANDARD
END:VTIMEZONE
BEGIN:VEVENT
DTSTART;TZID=America/New_York:20260423T190000
DTEND;TZID=America/New_York:20260423T210000
DTSTAMP:20260423T011809
CREATED:20260313T063313Z
LAST-MODIFIED:20260313T063627Z
UID:46946-1776970800-1776978000@shapeshifterplus.org
SUMMARY:Joe Melnicove // Dabin Ryu – DOUBLE BILL
DESCRIPTION:An evening of two eclectic bands featuring a wide array of musical influences.\n\n\nJoe Melnicove presents music with flute at the forefront.\nDabin Ryu presents her eclectic band featuring some of NYC’s most in-demand musicians.\n  \nJoe Melnicove Quartet: \nJoe Melnicove – flute \nTal Yahalom – guitar \nNadav Erlich – bass \nBen Silashi – drums \n  \nDabin Ryu Quintet: \nDabin Ryu – piano \nKevin Sun – tenor sax \nNathan Reising – alto sax \nBen Young – double bass \nWillis Edmundson – drums
URL:https://shapeshifterplus.org/event/joe-melnicove/
LOCATION:ShapeShifter Lab\, 837 Union Street\, Ground Floor\, Brooklyn\, NY\, 11215\, United States
CATEGORIES:Live Music,Open Call Program
ATTACH;FMTTYPE=image/jpeg:https://shapeshifterplus.org/wp-content/uploads/2026/03/9bb30eebcf5e6be1c48faaa4111d9a81-fdXoMm.tmp_.jpg
END:VEVENT
END:VCALENDAR