BEGIN:VCALENDAR
VERSION:2.0
PRODID:-//ShapeShifter Plus - ECPv6.15.20//NONSGML v1.0//EN
CALSCALE:GREGORIAN
METHOD:PUBLISH
X-WR-CALNAME:ShapeShifter Plus
X-ORIGINAL-URL:https://shapeshifterplus.org
X-WR-CALDESC:Events for ShapeShifter Plus
REFRESH-INTERVAL;VALUE=DURATION:PT1H
X-Robots-Tag:noindex
X-PUBLISHED-TTL:PT1H
BEGIN:VTIMEZONE
TZID:America/New_York
BEGIN:DAYLIGHT
TZOFFSETFROM:-0500
TZOFFSETTO:-0400
TZNAME:EDT
DTSTART:20250309T070000
END:DAYLIGHT
BEGIN:STANDARD
TZOFFSETFROM:-0400
TZOFFSETTO:-0500
TZNAME:EST
DTSTART:20251102T060000
END:STANDARD
BEGIN:DAYLIGHT
TZOFFSETFROM:-0500
TZOFFSETTO:-0400
TZNAME:EDT
DTSTART:20260308T070000
END:DAYLIGHT
BEGIN:STANDARD
TZOFFSETFROM:-0400
TZOFFSETTO:-0500
TZNAME:EST
DTSTART:20261101T060000
END:STANDARD
BEGIN:DAYLIGHT
TZOFFSETFROM:-0500
TZOFFSETTO:-0400
TZNAME:EDT
DTSTART:20270314T070000
END:DAYLIGHT
BEGIN:STANDARD
TZOFFSETFROM:-0400
TZOFFSETTO:-0500
TZNAME:EST
DTSTART:20271107T060000
END:STANDARD
END:VTIMEZONE
BEGIN:VEVENT
DTSTART;TZID=America/New_York:20260421T190000
DTEND;TZID=America/New_York:20260421T200000
DTSTAMP:20260421T020845
CREATED:20260401T200803Z
LAST-MODIFIED:20260401T201015Z
UID:47004-1776798000-1776801600@shapeshifterplus.org
SUMMARY:Chenxi Pan This Very Moment Album Release ShowConcert
DESCRIPTION:Chenxi Pan celebrates This Very Moment with original music blending voice\, poetry\, and improvisation across song and sound.\n\n\nChenxi Pan celebrates the release of This Very Moment with an evening of original music. Blending voice\, poetry\, and improvisation\, her work moves between song and sound\, treating the voice as both a narrative and instrumental force. \n  \n\nChenxi Pan – voice\,\nNathan Nakadegawa-Lee – tenor saxophone\, clarinet\,\nSteve Cardenas – guitar\,\nGeorge Grydkovets – guitar\,\nNicolas Bond – bass\nMatt Wilson – drums\n\n 
URL:https://shapeshifterplus.org/event/chenxi-pan/
LOCATION:ShapeShifter Lab\, 837 Union Street\, Ground Floor\, Brooklyn\, NY\, 11215\, United States
CATEGORIES:Live Music,Open Call Program
ATTACH;FMTTYPE=image/jpeg:https://shapeshifterplus.org/wp-content/uploads/2026/04/8f6049a679ff1996b1225f32ca3a6c75-jBShvQ.tmp_.jpg
END:VEVENT
BEGIN:VEVENT
DTSTART;TZID=America/New_York:20260421T203000
DTEND;TZID=America/New_York:20260421T213000
DTSTAMP:20260421T020845
CREATED:20260324T173922Z
LAST-MODIFIED:20260324T213214Z
UID:46969-1776803400-1776807000@shapeshifterplus.org
SUMMARY:Max Mahler Quintet
DESCRIPTION:Max Mahler Quintet Journey To The West Suite\n\nJourney To The West is a classic work of Chinese Buddhist Literature written by Wu Cheng’en during the Ming Dynasty. It is the mythologized account of a monk venturing west to bring Buddhist scriptures back to China. Panamanian-American jazz guitarist Max Mahler was inspired to write a suite representing the work as a whole\, converting its fantastical characters and themes into hard bop — echoing the music of Freddie Hubbard\, Joe Henderson\, and Wayne Shorter. The guitarist is joined by Tosh Kachad on drums and Felix Hartley on bass\, as well as saxophonist Theo Kornblum and trombonist Basil Moore.\n\n\n\nMax Mahler – Electric Guitar\nTheo Kornblum – Tenor Saxophone\nBasil Moore – Trombone\nFelix Hartley – Bass\nTosh Kachad – Drums\n\n@maxamahler\, @maxplaysjazz\, @basil_moore2009\, @theo_ksax\, @felixhartleybass\, @feef.s\, @toshkachadmusic
URL:https://shapeshifterplus.org/event/max-mahler-quintet/
LOCATION:ShapeShifter Lab\, 837 Union Street\, Ground Floor\, Brooklyn\, NY\, 11215\, United States
CATEGORIES:Live Music,Open Call Program
ATTACH;FMTTYPE=image/png:https://shapeshifterplus.org/wp-content/uploads/2026/03/PastedGraphic-1.png
END:VEVENT
END:VCALENDAR