BEGIN:VCALENDAR
VERSION:2.0
PRODID:-//ShapeShifter Plus - ECPv6.15.20//NONSGML v1.0//EN
CALSCALE:GREGORIAN
METHOD:PUBLISH
X-WR-CALNAME:ShapeShifter Plus
X-ORIGINAL-URL:https://shapeshifterplus.org
X-WR-CALDESC:Events for ShapeShifter Plus
REFRESH-INTERVAL;VALUE=DURATION:PT1H
X-Robots-Tag:noindex
X-PUBLISHED-TTL:PT1H
BEGIN:VTIMEZONE
TZID:America/New_York
BEGIN:DAYLIGHT
TZOFFSETFROM:-0500
TZOFFSETTO:-0400
TZNAME:EDT
DTSTART:20250309T070000
END:DAYLIGHT
BEGIN:STANDARD
TZOFFSETFROM:-0400
TZOFFSETTO:-0500
TZNAME:EST
DTSTART:20251102T060000
END:STANDARD
BEGIN:DAYLIGHT
TZOFFSETFROM:-0500
TZOFFSETTO:-0400
TZNAME:EDT
DTSTART:20260308T070000
END:DAYLIGHT
BEGIN:STANDARD
TZOFFSETFROM:-0400
TZOFFSETTO:-0500
TZNAME:EST
DTSTART:20261101T060000
END:STANDARD
BEGIN:DAYLIGHT
TZOFFSETFROM:-0500
TZOFFSETTO:-0400
TZNAME:EDT
DTSTART:20270314T070000
END:DAYLIGHT
BEGIN:STANDARD
TZOFFSETFROM:-0400
TZOFFSETTO:-0500
TZNAME:EST
DTSTART:20271107T060000
END:STANDARD
END:VTIMEZONE
BEGIN:VEVENT
DTSTART;TZID=America/New_York:20260411T160000
DTEND;TZID=America/New_York:20260411T170000
DTSTAMP:20260423T051041
CREATED:20260313T045342Z
LAST-MODIFIED:20260313T045732Z
UID:46934-1775923200-1775926800@shapeshifterplus.org
SUMMARY:Unspeakable Garbage
DESCRIPTION:Moppa Elliott’s 80s Rock band playing your favorite jams!\n\n\nMoppa Elliott’s 80s Rock band playing your favorite jams! \n\nKelly Roberge – tenor sax\nNick Millevoi – guitar\nRon Stabinsky – keyboards\nMoppa Elliott- bass\nDan Monaghan – drums\n\nwww.hotcuprecords.com \nhttps://www.facebook.com/kelly.roberge.39/ \nhttps://www.facebook.com/nick.millevoi/
URL:https://shapeshifterplus.org/event/unspeakable-garbage-2/
LOCATION:ShapeShifter Lab\, 837 Union Street\, Ground Floor\, Brooklyn\, NY\, 11215\, United States
CATEGORIES:Live Music,Open Call Program
ATTACH;FMTTYPE=image/jpeg:https://shapeshifterplus.org/wp-content/uploads/2026/03/4280ac21724b99f2b0e6c0afb1c26c74-Y4hwqd.tmp_.jpg
END:VEVENT
END:VCALENDAR