BEGIN:VCALENDAR
VERSION:2.0
PRODID:-//ShapeShifter Plus - ECPv6.15.20//NONSGML v1.0//EN
CALSCALE:GREGORIAN
METHOD:PUBLISH
X-ORIGINAL-URL:https://shapeshifterplus.org
X-WR-CALDESC:Events for ShapeShifter Plus
REFRESH-INTERVAL;VALUE=DURATION:PT1H
X-Robots-Tag:noindex
X-PUBLISHED-TTL:PT1H
BEGIN:VTIMEZONE
TZID:America/New_York
BEGIN:DAYLIGHT
TZOFFSETFROM:-0500
TZOFFSETTO:-0400
TZNAME:EDT
DTSTART:20250309T070000
END:DAYLIGHT
BEGIN:STANDARD
TZOFFSETFROM:-0400
TZOFFSETTO:-0500
TZNAME:EST
DTSTART:20251102T060000
END:STANDARD
BEGIN:DAYLIGHT
TZOFFSETFROM:-0500
TZOFFSETTO:-0400
TZNAME:EDT
DTSTART:20260308T070000
END:DAYLIGHT
BEGIN:STANDARD
TZOFFSETFROM:-0400
TZOFFSETTO:-0500
TZNAME:EST
DTSTART:20261101T060000
END:STANDARD
BEGIN:DAYLIGHT
TZOFFSETFROM:-0500
TZOFFSETTO:-0400
TZNAME:EDT
DTSTART:20270314T070000
END:DAYLIGHT
BEGIN:STANDARD
TZOFFSETFROM:-0400
TZOFFSETTO:-0500
TZNAME:EST
DTSTART:20271107T060000
END:STANDARD
END:VTIMEZONE
BEGIN:VEVENT
DTSTART;TZID=America/New_York:20260307T100000
DTEND;TZID=America/New_York:20260307T120000
DTSTAMP:20260423T064709
CREATED:20260129T180629Z
LAST-MODIFIED:20260129T193235Z
UID:46764-1772877600-1772884800@shapeshifterplus.org
SUMMARY:Wake Up & Dance with Suzi Shelton & Benjamin  ALBUM RELEASE PARTY!
DESCRIPTION:Families\, get ready to sing\, dance\, and celebrate friendship! Join us for a joyful Wake Up & Dance Indoor Concert!\n\n\nWake Up & Dance with Suzi Shelton & Benjamin\n🎶 ALBUM RELEASE PARTY! 🎶 at Shapeshifter lab \nFamilies\, get ready to sing\, dance\, and celebrate friendship! Join us for a joyful Wake Up & Dance Indoor Concert celebrating the release of Suzi Shelton & Benjamin’s brand-new album\, We’re Friends Now. \nSaturday\, March 7\, 2026 \n\n10:00 AM – Doors open\n10:15 AM – Little Miss Ann opens the show\n10:30–11:15 AM – Concert & celebration\n\nShapeshifter Lab\n837 Union Street\nBrooklyn\, NY 11215 \nGrab a hot drink or snack from the café and settle in for a magical morning! \n🎟 Tickets\n\n$15 per person\nFREE for babies under 12 months\n$45 Family Four-Pack\n\nPerfect for families with children ages 0–8. This early-morning concert series is designed to engage\, inspire\, and uplift kids and grown-ups alike. \n🎤 🎒 Princess Backpack will emcee this festive concert alongside: \n\n🎻 Melody Allegra (violin)\n⭐ Special Guest: Little Miss Ann (from Chicago!)\n\nAbout the Artists: \nSuzi Shelton\nFor over a decade\, Suzi Shelton has been a beloved voice in independent family music and a cornerstone of the NYC kids’ music scene. A Park Slope favorite\, she regularly fills playgrounds and venues like Old Stone House of Brooklyn\, Brooklyn Public Library\, and Jalopy Theatre. Her Wake Up & Dance series at Shapeshifter Lab has become a monthly hotspot for families with young children. \nBenjamin (Princess Backpack and Benjamin)\nBenjamin writes for beloved kids’ TV shows including Rosie’s Rules (PBS) and Dora (Nickelodeon). His musical project\, Princess Backpack\, features a magical talking bag from the kingdom of Backpackia. Together with friends like Suzi Shelton\, Benjamin creates playful\, joyful\, heartfelt kids’ music heard on kids’ radio stations around the world. \nLittle Miss Ann (Ann Torralba)\nA nationally touring Filipina American family music artist\, Little Miss Ann has released 9 kids’ albums. She’s a former Chicago Public School teacher\, instructor at the Old Town School of Folk Music\, and a social justice activist. Her music encourages kids to let their lights shine bright! \n💛 Proudly Sponsored By\nPark Slope Day Camp\nA Brooklyn favorite for 34 summers\, Park Slope Day Camp offers outdoor adventures\, exciting trips\, creative exploration\, and flexible scheduling—all in a safe\, welcoming environment that makes summer easy for families and unforgettable for kids. \nPark Slope Parents\nServing expectant parents and families with children under 18 in Brooklyn\, Park Slope Parents hosts over 100 members-only groups plus a robust public website filled with crowd-sourced parenting wisdom. \nPhotography and video recording may take place during this event. By attending\, you consent to being photographed or recorded for future promotional use. If you’d prefer not to be included\, please let our event staff know upon arrival. \n 
URL:https://shapeshifterplus.org/event/suzi-ben/
LOCATION:ShapeShifter Lab\, 837 Union Street\, Ground Floor\, Brooklyn\, NY\, 11215\, United States
CATEGORIES:Kids Concert,Live Music,Open Call Program
ATTACH;FMTTYPE=image/jpeg:https://shapeshifterplus.org/wp-content/uploads/2026/01/0b015f37371317b58dd7c513ef80cae8-F6EImM.tmp_.jpg
END:VEVENT
BEGIN:VEVENT
DTSTART;TZID=America/New_York:20260307T143000
DTEND;TZID=America/New_York:20260307T160000
DTSTAMP:20260423T064709
CREATED:20260207T214646Z
LAST-MODIFIED:20260207T214649Z
UID:46820-1772893800-1772899200@shapeshifterplus.org
SUMMARY:Human Library NYC @ ShapeShifter Lab
DESCRIPTION:Be part of a unique experience where real people are the books you can “check out” and learn from! The Human Library is empathy in action!\n\n\nWelcome to the Human Library NYC reading event at ShapeShifter Lab in NYC! Join us for a unique experience where instead of books\, you can “check out” human beings to hear their stories. It’s like a traditional library\, but with real people sharing their experiences and knowledge. Come engage in conversations that challenge stereotypes and promote understanding and empathy. Don’t miss this opportunity to connect with others in a meaningful way. Human Library NYC is proud to partner with ShapeShifter Plus\, Inc. 501(c)(3)\, which is generously donating their beautiful space to bring you this live reading. See you there!
URL:https://shapeshifterplus.org/event/human-library-nyc-shapeshifter-lab-3/
LOCATION:ShapeShifter Lab\, 837 Union Street\, Ground Floor\, Brooklyn\, NY\, 11215\, United States
ATTACH;FMTTYPE=image/jpeg:https://shapeshifterplus.org/wp-content/uploads/2026/02/94520b1c615b8d9dd94346e0ed435e6c-Decs4B.tmp_.jpg
END:VEVENT
END:VCALENDAR