BEGIN:VCALENDAR
VERSION:2.0
PRODID:-//ShapeShifter Plus - ECPv6.15.20//NONSGML v1.0//EN
CALSCALE:GREGORIAN
METHOD:PUBLISH
X-ORIGINAL-URL:https://shapeshifterplus.org
X-WR-CALDESC:Events for ShapeShifter Plus
REFRESH-INTERVAL;VALUE=DURATION:PT1H
X-Robots-Tag:noindex
X-PUBLISHED-TTL:PT1H
BEGIN:VTIMEZONE
TZID:America/New_York
BEGIN:DAYLIGHT
TZOFFSETFROM:-0500
TZOFFSETTO:-0400
TZNAME:EDT
DTSTART:20250309T070000
END:DAYLIGHT
BEGIN:STANDARD
TZOFFSETFROM:-0400
TZOFFSETTO:-0500
TZNAME:EST
DTSTART:20251102T060000
END:STANDARD
BEGIN:DAYLIGHT
TZOFFSETFROM:-0500
TZOFFSETTO:-0400
TZNAME:EDT
DTSTART:20260308T070000
END:DAYLIGHT
BEGIN:STANDARD
TZOFFSETFROM:-0400
TZOFFSETTO:-0500
TZNAME:EST
DTSTART:20261101T060000
END:STANDARD
BEGIN:DAYLIGHT
TZOFFSETFROM:-0500
TZOFFSETTO:-0400
TZNAME:EDT
DTSTART:20270314T070000
END:DAYLIGHT
BEGIN:STANDARD
TZOFFSETFROM:-0400
TZOFFSETTO:-0500
TZNAME:EST
DTSTART:20271107T060000
END:STANDARD
END:VTIMEZONE
BEGIN:VEVENT
DTSTART;TZID=America/New_York:20260301T110000
DTEND;TZID=America/New_York:20260301T170000
DTSTAMP:20260423T064708
CREATED:20251007T193016Z
LAST-MODIFIED:20251007T193023Z
UID:46311-1772362800-1772384400@shapeshifterplus.org
SUMMARY:The Fat Cats Youth Orchestra Open Workshop
DESCRIPTION:The Fat Cats Youth Orchestra Open Workshop and Rehearsals Weekly at ShapeShifter
URL:https://shapeshifterplus.org/event/the-fat-cats-youth-orchestra-open-workshop-17/
LOCATION:ShapeShifter Plus 501(c)(3)\, 837-839 Union Street\, Brooklyn\, NY\, 11215\, United States
ATTACH;FMTTYPE=image/jpeg:https://shapeshifterplus.org/wp-content/uploads/2025/10/826ecd12d43a7269dc102289bdc77f62-XirGsf.tmp_.jpg
END:VEVENT
BEGIN:VEVENT
DTSTART;TZID=America/New_York:20260301T190000
DTEND;TZID=America/New_York:20260301T200000
DTSTAMP:20260423T064708
CREATED:20260115T224205Z
LAST-MODIFIED:20260115T224943Z
UID:46702-1772391600-1772395200@shapeshifterplus.org
SUMMARY:Klazz-Ma-Tazz: A Progressive Purim Extravaganza
DESCRIPTION:Modern jazz arrangements of classic Purim music\n\n\nNY Music Daily described Klazz-Ma-Tazz as “Epically Haunting Lynchian Klezmer Jazz.” For this performance\, the group explores reimagined modern jazz arrangements of classic Purim music\, electrifying tradition for a nostalgically progressive 21st-century audience. \n  \nAbout:\nFounded in 2014\, Klazz-Ma-Tazz has released two albums and been featured on international radio\, performing at venues including City Winery\, Golden Fest\, Cornelia Street Café\, DROM\, and World Cafe Live. In 2018\, their arrangement of the Ukrainian folk song Svalava Kozatshok went viral\, garnering nearly 20K views. Described by RG Magazine as “wild\, yet reserved\,” the group blends surprise\, excitement\, and calm in a single sitting. \nLineup: \n\nBenjamin Sutin — violin\, bandleader\nElijah Shiffer — saxophone\, clarinet\nSam Day Harmet — guitar\nBen Rosenblum — piano\, accordion\nBenji Daniels — bass\nPeter Manheim — drums\n\n  \n\nInstagram: https://www.instagram.com/klazzmatazz/\nFacebook: https://www.facebook.com/klazzmatazzklezmerjazz/\nInstagram (Benjamin Sutin): https://www.instagram.com/bensutinmusic/\n\n 
URL:https://shapeshifterplus.org/event/klazz_ma_tazz/
LOCATION:ShapeShifter Lab\, 837 Union Street\, Ground Floor\, Brooklyn\, NY\, 11215\, United States
CATEGORIES:Live Music,Open Call Program
ATTACH;FMTTYPE=image/jpeg:https://shapeshifterplus.org/wp-content/uploads/2026/01/04b7d4c8bcfec7e2356fb67c9b370c31-P4bRuo.tmp_.jpg
END:VEVENT
END:VCALENDAR