BEGIN:VCALENDAR
VERSION:2.0
PRODID:-//ShapeShifter Plus - ECPv6.15.20//NONSGML v1.0//EN
CALSCALE:GREGORIAN
METHOD:PUBLISH
X-ORIGINAL-URL:https://shapeshifterplus.org
X-WR-CALDESC:Events for ShapeShifter Plus
REFRESH-INTERVAL;VALUE=DURATION:PT1H
X-Robots-Tag:noindex
X-PUBLISHED-TTL:PT1H
BEGIN:VTIMEZONE
TZID:America/New_York
BEGIN:DAYLIGHT
TZOFFSETFROM:-0500
TZOFFSETTO:-0400
TZNAME:EDT
DTSTART:20250309T070000
END:DAYLIGHT
BEGIN:STANDARD
TZOFFSETFROM:-0400
TZOFFSETTO:-0500
TZNAME:EST
DTSTART:20251102T060000
END:STANDARD
BEGIN:DAYLIGHT
TZOFFSETFROM:-0500
TZOFFSETTO:-0400
TZNAME:EDT
DTSTART:20260308T070000
END:DAYLIGHT
BEGIN:STANDARD
TZOFFSETFROM:-0400
TZOFFSETTO:-0500
TZNAME:EST
DTSTART:20261101T060000
END:STANDARD
BEGIN:DAYLIGHT
TZOFFSETFROM:-0500
TZOFFSETTO:-0400
TZNAME:EDT
DTSTART:20270314T070000
END:DAYLIGHT
BEGIN:STANDARD
TZOFFSETFROM:-0400
TZOFFSETTO:-0500
TZNAME:EST
DTSTART:20271107T060000
END:STANDARD
END:VTIMEZONE
BEGIN:VEVENT
DTSTART;TZID=America/New_York:20260214T140000
DTEND;TZID=America/New_York:20260214T150000
DTSTAMP:20260423T081757
CREATED:20251201T044929Z
LAST-MODIFIED:20260123T020200Z
UID:46557-1771077600-1771081200@shapeshifterplus.org
SUMMARY:Show Up\, Kids!
DESCRIPTION:Interactive comic storytelling kids show! \n  \n  \nThe main attraction didn’t show up! So Bebe gets the kids (and their grownups) to help her create a comedic storytelling show on the spot. This outrageous\, critically acclaimed\, interactive comedy for kids 3–10 returns to Brooklyn following raves from NYC to Hollywood to the UK. \nBebe Tabickman \nPeter Michael Marino \nhttps://www.facebook.com/showupkids \nhttps://www.instagram.com/showupkids \nwww.showup-theshow.com \nWatchhttps://www.youtube.com/watch?v=qJqtYiZg_i4
URL:https://shapeshifterplus.org/event/show-up-kids-2/
LOCATION:ShapeShifter Lab\, 837 Union Street\, Ground Floor\, Brooklyn\, NY\, 11215\, United States
CATEGORIES:Comedy,Kids Concert,Live Music,Open Call Program
ATTACH;FMTTYPE=image/jpeg:https://shapeshifterplus.org/wp-content/uploads/2025/11/5536d1e73788bac04c6f1ec53d6f95ba-8znxJ1.tmp_.jpg
END:VEVENT
BEGIN:VEVENT
DTSTART;TZID=America/New_York:20260214T200000
DTEND;TZID=America/New_York:20260214T220000
DTSTAMP:20260423T081757
CREATED:20260129T014827Z
LAST-MODIFIED:20260129T213444Z
UID:46760-1771099200-1771106400@shapeshifterplus.org
SUMMARY:Love Ain’t Dead.
DESCRIPTION:Paper Anniversary hosts their 5th Annual Valentine’s Day Show: Love Ain’t Dead. Join us for a night of comedy\, music\, and comedy music.\n\n\nPaper Anniversary hosts their 5th Annual Valentine’s Day Show: Love Ain’t Dead. \nJoin us for a night of comedy\, music\, and comedy music. This year’s lineup features Cory Cavin\, Jordan Carlos\, The Quinns\, and Paper Anniversary (family band and regular band). \n  \nPaper Anniversary is led by husband-and-wife songwriting duo Katherine Slingluff and Andy Stuckey. Their music blends Country\, Bluegrass\, and Americana\, spotlighting the highs and lows of relationships. Their debut album Signature Confessions was released in 2014. Both artists are originally from Dothan\, Alabama and currently based in Brooklyn\, NY. \n  \n\nAndy Stuckey — guitar\, vocals\nKatherine Slingluff — mandolin\, vocals\nMaggie Stuckey — piano\, guitar\, vocals\nMo Stuckey — bass\, cajon\, vocals\nCole Rotante — dobro\nDiane Stockwell — fiddle\nSam Dallas — bass\n\n 
URL:https://shapeshifterplus.org/event/love-aint-dead/
LOCATION:ShapeShifter Lab\, 837 Union Street\, Ground Floor\, Brooklyn\, NY\, 11215\, United States
CATEGORIES:Live Music,Open Call Program
ATTACH;FMTTYPE=image/jpeg:https://shapeshifterplus.org/wp-content/uploads/2026/01/VDay_2026_SQUARE.jpeg
END:VEVENT
END:VCALENDAR