BEGIN:VCALENDAR
VERSION:2.0
PRODID:-//ShapeShifter Plus - ECPv6.15.20//NONSGML v1.0//EN
CALSCALE:GREGORIAN
METHOD:PUBLISH
X-ORIGINAL-URL:https://shapeshifterplus.org
X-WR-CALDESC:Events for ShapeShifter Plus
REFRESH-INTERVAL;VALUE=DURATION:PT1H
X-Robots-Tag:noindex
X-PUBLISHED-TTL:PT1H
BEGIN:VTIMEZONE
TZID:America/New_York
BEGIN:DAYLIGHT
TZOFFSETFROM:-0500
TZOFFSETTO:-0400
TZNAME:EDT
DTSTART:20250309T070000
END:DAYLIGHT
BEGIN:STANDARD
TZOFFSETFROM:-0400
TZOFFSETTO:-0500
TZNAME:EST
DTSTART:20251102T060000
END:STANDARD
BEGIN:DAYLIGHT
TZOFFSETFROM:-0500
TZOFFSETTO:-0400
TZNAME:EDT
DTSTART:20260308T070000
END:DAYLIGHT
BEGIN:STANDARD
TZOFFSETFROM:-0400
TZOFFSETTO:-0500
TZNAME:EST
DTSTART:20261101T060000
END:STANDARD
BEGIN:DAYLIGHT
TZOFFSETFROM:-0500
TZOFFSETTO:-0400
TZNAME:EDT
DTSTART:20270314T070000
END:DAYLIGHT
BEGIN:STANDARD
TZOFFSETFROM:-0400
TZOFFSETTO:-0500
TZNAME:EST
DTSTART:20271107T060000
END:STANDARD
END:VTIMEZONE
BEGIN:VEVENT
DTSTART;TZID=America/New_York:20260213T183000
DTEND;TZID=America/New_York:20260213T203000
DTSTAMP:20260423T081752
CREATED:20251227T233603Z
LAST-MODIFIED:20260206T212457Z
UID:46664-1771007400-1771014600@shapeshifterplus.org
SUMMARY:The Park Slope Food Coop Concert Series #14
DESCRIPTION:A concert by and for the community—celebrating music and art produced by the Food Coop Concert Series Committee of the Park Slope Food Coop.\n\n\nSet 1 \nTime: 6:30 PM – 6:50 PM \nPorterfield — ft. Or Bareket and Ines Velasco \nLineup: \n\nJacob Aviner — vocals\, electric guitar\nOr Bareket — upright bass\nInes Velasco — drumset\nJered Yee – guest on saxophone\n\nAbout:\nJoined by Or Bareket and Ines Velasco\, Jacob Aviner leads this trio in a new batch of never-before-heard songs\, reimagining his band Porterfield. \n———————————————————————————————- \nSet 2 \nTime: 7:00 PM – 7:20 PM \nTheresa Rosas – Alan Grubner – Sam Weber Trio \nLineup: \n\nTheresa Rosas — piano\, vocals\nAlan Grubner — violin\nSam Weber — bass\n\nAbout:\nTrio project focused on songs\, compositions\, and improvisations. \n———————————————————————————————- \nSet 3 \nTime: 7:30 PM – 7:50 PM \nNoa Fort \nLineup: \n\nNoa Fort — voice\, piano\n\nAbout:\nSolo set featuring Noa Fort’s original songs. \n———————————————————————————————- \nSet 4 \nTime: 8:00 PM – 8:20 PM \nZosha Warpeha & Jonathan Kaiser \nLineup: \n\nZosha Warpeha — Hardanger d’amore\nJonathan Kaiser — cello\n\nAbout:\nNew atmospheric duo exploring textural\, drone-based\, and improvised spaces for Hardanger d’amore and cello. \n———————————————————————————————- \nThe Park Slope Food Coop Concert Series is one of the most exciting initiatives we undertake as a community. With so many gifted and talented members\, creating this series was a natural decision and a no-brainer. The baton of music and performance curation was passed on to Ludovica and Alexis by Beverly Grant—a great artist and long-time member since the inception of the Food Coop. Beverly is an artist\, photographer\, singer-songwriter\, composer\, and activist who has greatly contributed to our community. \nJason Weiner and the membership staff have played a key role in bringing this event to life. We thank them for sharing the same joy and respect for the arts\, which enriches all walks of life. Before the shutdown\, this concert series was a crucial and pinnacle way of bringing us closer together as a community that truly cares about the world around us. Art\, in every aspect of our human experience\, is a life-healing force. Alexis Cuadrado and Ludovica Burtone are both professional musicians\, composers\, producers\, and educators. They have expanded the vision of the curation to create a platform for freedom of expression for all. ShapeShifter Lab visionaries Fortuna Sung and Matthew Garrison have also become vital to our mission\, generously providing us with their performance space across the street from the Food Coop. Annie Keating does the magic with social media and Ave Carrillo is helping the group to the production side of things the concert series. \nInstagram
URL:https://shapeshifterplus.org/event/psfc-14/
LOCATION:ShapeShifter Lab\, 837 Union Street\, Ground Floor\, Brooklyn\, NY\, 11215\, United States
CATEGORIES:Live Music,Open Call Program
ATTACH;FMTTYPE=image/png:https://shapeshifterplus.org/wp-content/uploads/2025/12/Feb-2026.png
END:VEVENT
END:VCALENDAR