BEGIN:VCALENDAR
VERSION:2.0
PRODID:-//ShapeShifter Plus - ECPv6.15.20//NONSGML v1.0//EN
CALSCALE:GREGORIAN
METHOD:PUBLISH
X-WR-CALNAME:ShapeShifter Plus
X-ORIGINAL-URL:https://shapeshifterplus.org
X-WR-CALDESC:Events for ShapeShifter Plus
REFRESH-INTERVAL;VALUE=DURATION:PT1H
X-Robots-Tag:noindex
X-PUBLISHED-TTL:PT1H
BEGIN:VTIMEZONE
TZID:America/New_York
BEGIN:DAYLIGHT
TZOFFSETFROM:-0500
TZOFFSETTO:-0400
TZNAME:EDT
DTSTART:20250309T070000
END:DAYLIGHT
BEGIN:STANDARD
TZOFFSETFROM:-0400
TZOFFSETTO:-0500
TZNAME:EST
DTSTART:20251102T060000
END:STANDARD
BEGIN:DAYLIGHT
TZOFFSETFROM:-0500
TZOFFSETTO:-0400
TZNAME:EDT
DTSTART:20260308T070000
END:DAYLIGHT
BEGIN:STANDARD
TZOFFSETFROM:-0400
TZOFFSETTO:-0500
TZNAME:EST
DTSTART:20261101T060000
END:STANDARD
BEGIN:DAYLIGHT
TZOFFSETFROM:-0500
TZOFFSETTO:-0400
TZNAME:EDT
DTSTART:20270314T070000
END:DAYLIGHT
BEGIN:STANDARD
TZOFFSETFROM:-0400
TZOFFSETTO:-0500
TZNAME:EST
DTSTART:20271107T060000
END:STANDARD
END:VTIMEZONE
BEGIN:VEVENT
DTSTART;TZID=America/New_York:20260126T190000
DTEND;TZID=America/New_York:20260126T210000
DTSTAMP:20260423T081626
CREATED:20251223T052027Z
LAST-MODIFIED:20260126T192141Z
UID:46656-1769454000-1769461200@shapeshifterplus.org
SUMMARY:Tim Jago – Time Shift Album Celebration Show
DESCRIPTION:Tim Jago presents music from his latest album Time Shift. Jago’s unique vision shines through an eclectic program displaying a variety of grooves and stylistic influences\, all with a strong through-line of jazz sensibility. Supported by the cinematic sounds of Dion Kerr’s eko vizion meusik. \nSet 1: eko vizion meusik \n\nDion Kerr — bass\nTim Watson — guitar\nMiguel Russell — drums\n\nSet 2: Tim Jago Group \n\nTim Jago — guitar\nMark Small — saxophone\nSilvano Monasterios — keys\nDion Kerr — bass\nMichael Piolet — drums\n\ntimjagomusic.com \nhttps://www.instagram.com/timjago/ \nhttps://found.ee/Tim-Jago-Time-Shift-Album \nhttps://timjago.bandcamp.comhttps://dionkerr.xyz
URL:https://shapeshifterplus.org/event/tim-jago/
LOCATION:ShapeShifter Lab\, 837 Union Street\, Ground Floor\, Brooklyn\, NY\, 11215\, United States
CATEGORIES:Live Music,Open Call Program
ATTACH;FMTTYPE=image/jpeg:https://shapeshifterplus.org/wp-content/uploads/2025/12/a03c5d6ecb272898fc7a875b83e20435-coVuad.tmp_.jpg
END:VEVENT
END:VCALENDAR