BEGIN:VCALENDAR
VERSION:2.0
PRODID:-//ShapeShifter Plus - ECPv6.15.20//NONSGML v1.0//EN
CALSCALE:GREGORIAN
METHOD:PUBLISH
X-WR-CALNAME:ShapeShifter Plus
X-ORIGINAL-URL:https://shapeshifterplus.org
X-WR-CALDESC:Events for ShapeShifter Plus
REFRESH-INTERVAL;VALUE=DURATION:PT1H
X-Robots-Tag:noindex
X-PUBLISHED-TTL:PT1H
BEGIN:VTIMEZONE
TZID:America/New_York
BEGIN:DAYLIGHT
TZOFFSETFROM:-0500
TZOFFSETTO:-0400
TZNAME:EDT
DTSTART:20250309T070000
END:DAYLIGHT
BEGIN:STANDARD
TZOFFSETFROM:-0400
TZOFFSETTO:-0500
TZNAME:EST
DTSTART:20251102T060000
END:STANDARD
BEGIN:DAYLIGHT
TZOFFSETFROM:-0500
TZOFFSETTO:-0400
TZNAME:EDT
DTSTART:20260308T070000
END:DAYLIGHT
BEGIN:STANDARD
TZOFFSETFROM:-0400
TZOFFSETTO:-0500
TZNAME:EST
DTSTART:20261101T060000
END:STANDARD
BEGIN:DAYLIGHT
TZOFFSETFROM:-0500
TZOFFSETTO:-0400
TZNAME:EDT
DTSTART:20270314T070000
END:DAYLIGHT
BEGIN:STANDARD
TZOFFSETFROM:-0400
TZOFFSETTO:-0500
TZNAME:EST
DTSTART:20271107T060000
END:STANDARD
END:VTIMEZONE
BEGIN:VEVENT
DTSTART;TZID=America/New_York:20260111T100000
DTEND;TZID=America/New_York:20260111T110000
DTSTAMP:20260423T112448
CREATED:20251110T033808Z
LAST-MODIFIED:20251111T014237Z
UID:46456-1768125600-1768129200@shapeshifterplus.org
SUMMARY:Sunday FamJam with Debbie Brukman -  Nov 2025\, Jan 2026 Shows
DESCRIPTION:Debbie believes in community music and engagement. Come sing and wiggle along — it’s going to be fun!\n\n\nDebbie Brukman is a Park Slope mom who has been jamming with our neighborhood kids for years! Come out for these two FAMJAM Sunday morning shows with your family!
URL:https://shapeshifterplus.org/event/debbie-20260111/
LOCATION:ShapeShifter Lab\, 837 Union Street\, Ground Floor\, Brooklyn\, NY\, 11215\, United States
CATEGORIES:Kids Concert,Live Music
ATTACH;FMTTYPE=image/png:https://shapeshifterplus.org/wp-content/uploads/2025/09/Screenshot-2025-11-10-at-8.38.23-PM.png
END:VEVENT
BEGIN:VEVENT
DTSTART;TZID=America/New_York:20260111T110000
DTEND;TZID=America/New_York:20260111T170000
DTSTAMP:20260423T112448
CREATED:20251007T193006Z
LAST-MODIFIED:20251007T193014Z
UID:46304-1768129200-1768150800@shapeshifterplus.org
SUMMARY:The Fat Cats Youth Orchestra Open Workshop
DESCRIPTION:The Fat Cats Youth Orchestra Open Workshop and Rehearsals Weekly at ShapeShifter
URL:https://shapeshifterplus.org/event/the-fat-cats-youth-orchestra-open-workshop-12/
LOCATION:ShapeShifter Plus 501(c)(3)\, 837-839 Union Street\, Brooklyn\, NY\, 11215\, United States
ATTACH;FMTTYPE=image/jpeg:https://shapeshifterplus.org/wp-content/uploads/2025/10/826ecd12d43a7269dc102289bdc77f62-XirGsf.tmp_.jpg
END:VEVENT
BEGIN:VEVENT
DTSTART;TZID=America/New_York:20260111T160000
DTEND;TZID=America/New_York:20260111T170000
DTSTAMP:20260423T112448
CREATED:20251215T080246Z
LAST-MODIFIED:20251215T081412Z
UID:46615-1768147200-1768150800@shapeshifterplus.org
SUMMARY:The Big Niko & GiGi Puppet Singalong
DESCRIPTION:Family-friendly musical experience from Brooklyn’s children’s music school NikosKids. Live music + puppetry for young children + families.\n\n\nThe Big Niko & GiGi Puppet Singalong is the creation of musician Nikolai Moderbacher. The performance blends live music and interactive puppetry\, designed for children ages 0–4 and their families.\nThe program explores emotional development and themes of growing up through playful\, age-appropriate songs and stories. GiGi\, a beloved puppet character\, co-leads the singalong alongside live musicians.\nLineup:\n\nNikolai Moderbacher – Vocals\, Guitar\nDerek Nievergelt – Electric bass\nAlexander Klimovitsky – Electric guitar\nEvan Pazner – Drums\nLute Breuer – Vocals
URL:https://shapeshifterplus.org/event/the-big-niko-gigi-puppet-singalong/
LOCATION:ShapeShifter Lab\, 837 Union Street\, Ground Floor\, Brooklyn\, NY\, 11215\, United States
CATEGORIES:Education,Kids Concert,Live Music
ATTACH;FMTTYPE=image/png:https://shapeshifterplus.org/wp-content/uploads/2025/12/Screenshot-2025-12-15-at-2.41.27-AM.png
END:VEVENT
END:VCALENDAR