BEGIN:VCALENDAR
VERSION:2.0
PRODID:-//ShapeShifter Plus - ECPv6.15.20//NONSGML v1.0//EN
CALSCALE:GREGORIAN
METHOD:PUBLISH
X-WR-CALNAME:ShapeShifter Plus
X-ORIGINAL-URL:https://shapeshifterplus.org
X-WR-CALDESC:Events for ShapeShifter Plus
REFRESH-INTERVAL;VALUE=DURATION:PT1H
X-Robots-Tag:noindex
X-PUBLISHED-TTL:PT1H
BEGIN:VTIMEZONE
TZID:America/New_York
BEGIN:DAYLIGHT
TZOFFSETFROM:-0500
TZOFFSETTO:-0400
TZNAME:EDT
DTSTART:20240310T070000
END:DAYLIGHT
BEGIN:STANDARD
TZOFFSETFROM:-0400
TZOFFSETTO:-0500
TZNAME:EST
DTSTART:20241103T060000
END:STANDARD
BEGIN:DAYLIGHT
TZOFFSETFROM:-0500
TZOFFSETTO:-0400
TZNAME:EDT
DTSTART:20250309T070000
END:DAYLIGHT
BEGIN:STANDARD
TZOFFSETFROM:-0400
TZOFFSETTO:-0500
TZNAME:EST
DTSTART:20251102T060000
END:STANDARD
BEGIN:DAYLIGHT
TZOFFSETFROM:-0500
TZOFFSETTO:-0400
TZNAME:EDT
DTSTART:20260308T070000
END:DAYLIGHT
BEGIN:STANDARD
TZOFFSETFROM:-0400
TZOFFSETTO:-0500
TZNAME:EST
DTSTART:20261101T060000
END:STANDARD
END:VTIMEZONE
BEGIN:VEVENT
DTSTART;TZID=America/New_York:20251212T190000
DTEND;TZID=America/New_York:20251212T233000
DTSTAMP:20260423T130755
CREATED:20251128T212704Z
LAST-MODIFIED:20251128T212738Z
UID:46533-1765566000-1765582200@shapeshifterplus.org
SUMMARY:7 Year Anniversary & Farewell Open Mic Night
DESCRIPTION:About this event\n\n\n🌹✨ The Rose Garden Presents: 7th Anniversary Open Mic ✨🌹For 7 years\, our open mic has been the heartbeat of The Rose Garden\, an intimate space where voices have bloomed\, connections have flourished\, and countless memories have been made. \nNow\, we invite you to join us for one final celebration: our 7th Anniversary & Farewell Open Mic. This night will mark the closing of our long-running open mic series as we prepare to launch a brand-new showcase series in 2026. \nExpect a night filled with powerful performances\, heartfelt tributes\, and the raw energy that has defined our community for nearly a decade. Whether you’ve taken the stage once or a hundred times\, this night is for YOU. \nJoin The Rose Garden Events\, and lose yourself in an unforgettable night where creativity thrives\, and the vibes are unmatched! \nDoors Open: 7:00pm \nShowtime: 7:30pm – 11:30pm \nThings to Know: \n\nThis is a ticketed event\nOpen Mic sign up list opens up from 7:00pm-7:30pm. First come\, first served.\nOpen mic slots are limited (20 slots MAX)\n5 minute stage time – ONE poem or ONE song that is 5 minutes or less\nAll music files must be sent to info@therosegardenevents.com\nAmp available upon request for musical instruments\n\nhttps://posh.vip/g/rose-garden-events \n  \n#KeepGrowing \n\n 
URL:https://shapeshifterplus.org/event/rose-garden-open-mic/
CATEGORIES:Open Mic
ATTACH;FMTTYPE=image/png:https://shapeshifterplus.org/wp-content/uploads/2025/11/Screenshot-2025-11-28-at-4.24.36-PM.png
END:VEVENT
END:VCALENDAR