BEGIN:VCALENDAR
VERSION:2.0
PRODID:-//ShapeShifter Plus - ECPv6.15.20//NONSGML v1.0//EN
CALSCALE:GREGORIAN
METHOD:PUBLISH
X-WR-CALNAME:ShapeShifter Plus
X-ORIGINAL-URL:https://shapeshifterplus.org
X-WR-CALDESC:Events for ShapeShifter Plus
REFRESH-INTERVAL;VALUE=DURATION:PT1H
X-Robots-Tag:noindex
X-PUBLISHED-TTL:PT1H
BEGIN:VTIMEZONE
TZID:America/New_York
BEGIN:DAYLIGHT
TZOFFSETFROM:-0500
TZOFFSETTO:-0400
TZNAME:EDT
DTSTART:20240310T070000
END:DAYLIGHT
BEGIN:STANDARD
TZOFFSETFROM:-0400
TZOFFSETTO:-0500
TZNAME:EST
DTSTART:20241103T060000
END:STANDARD
BEGIN:DAYLIGHT
TZOFFSETFROM:-0500
TZOFFSETTO:-0400
TZNAME:EDT
DTSTART:20250309T070000
END:DAYLIGHT
BEGIN:STANDARD
TZOFFSETFROM:-0400
TZOFFSETTO:-0500
TZNAME:EST
DTSTART:20251102T060000
END:STANDARD
BEGIN:DAYLIGHT
TZOFFSETFROM:-0500
TZOFFSETTO:-0400
TZNAME:EDT
DTSTART:20260308T070000
END:DAYLIGHT
BEGIN:STANDARD
TZOFFSETFROM:-0400
TZOFFSETTO:-0500
TZNAME:EST
DTSTART:20261101T060000
END:STANDARD
END:VTIMEZONE
BEGIN:VEVENT
DTSTART;TZID=America/New_York:20251121T190000
DTEND;TZID=America/New_York:20251121T203000
DTSTAMP:20260423T143043
CREATED:20251005T004133Z
LAST-MODIFIED:20251005T004509Z
UID:46241-1763751600-1763757000@shapeshifterplus.org
SUMMARY:Los Mas Valientes at ShapeShifter Lab
DESCRIPTION:Los Mas Valientes’ 6-tet takes a deep dive into folkloric rhythms and unfettered improvisation: Latin jazz reimagined.\n\n\nLos Mas Valientes’ 6-tet takes a deep dive into folkloric rhythms and unfettered improvisation: Latin jazz reimagined through the lens of tradition and experimentation. Featuring selections from our recent release Valientazos and gems from earlier albums. \n\nJessica Valiente – flutes\nRick Faulkner – trombone\, didgeridoo\, etc.\nAmy Quint Millan – piano\nAnna Milat-Meyer – bass\nYasuyo Kimura – congas\nRenato Thoms – bongo & percussion\n\nlosmasvalientes.com\, jessicavaliente.com \n \n\nFacebook: Los Mas Valientes\nFacebook: Anna Milat-Meyer\nFacebook: Jessica Valiente\nFacebook: Jessica Valiente Flutist\nFacebook: Yasuyo Kimura\nFacebook: Renato Thoms\nInstagram: Anna Milat\nInstagram: Dr. Jessica Valiente\nInstagram: Yasuyo Kimura
URL:https://shapeshifterplus.org/event/los-mas-valientes/
LOCATION:ShapeShifter Lab\, 837 Union Street\, Ground Floor\, Brooklyn\, NY\, 11215\, United States
CATEGORIES:Live Music,Open Call Program
ATTACH;FMTTYPE=image/jpeg:https://shapeshifterplus.org/wp-content/uploads/2025/10/576dfa52f845cdde5fc1db4aaf5b1793-bTkWwb.tmp_.jpg
END:VEVENT
BEGIN:VEVENT
DTSTART;TZID=America/New_York:20251121T203000
DTEND;TZID=America/New_York:20251121T213000
DTSTAMP:20260423T143043
CREATED:20251028T192846Z
LAST-MODIFIED:20251028T200545Z
UID:46411-1763757000-1763760600@shapeshifterplus.org
SUMMARY:"Another Sky" Record Release Show
DESCRIPTION:Original singer-song writer\, Jazz performance by Uta Habbig – album release!\n\n\nUta Habbig celebrates the release of her new album “Another Sky” at ShapeShifter Lab. With a uniquely genre-blending sound\, the German-born\, New York-based jazz singer and songwriter creates an intimate\, expressive performance. Don’t miss this special night of original music and creative energy! \n \n\nUta Habbig – vocals\, piano\, composition\nCeren Buttermann – additional vocals\nFranky Rousseau – guitar\nJulieta Eugenio – tenor sax\nGlenn Zaleski – piano\nSam Minaie – bass\ntbd – drums
URL:https://shapeshifterplus.org/event/uta-habbig/
LOCATION:ShapeShifter Lab\, 837 Union Street\, Ground Floor\, Brooklyn\, NY\, 11215\, United States
CATEGORIES:Live Music,Open Call Program
ATTACH;FMTTYPE=image/jpeg:https://shapeshifterplus.org/wp-content/uploads/2025/10/ebce8737c1c9584a904167f5e137952e-UjyO1N.tmp_.jpg
END:VEVENT
END:VCALENDAR