BEGIN:VCALENDAR
VERSION:2.0
PRODID:-//ShapeShifter Plus - ECPv6.15.20//NONSGML v1.0//EN
CALSCALE:GREGORIAN
METHOD:PUBLISH
X-WR-CALNAME:ShapeShifter Plus
X-ORIGINAL-URL:https://shapeshifterplus.org
X-WR-CALDESC:Events for ShapeShifter Plus
REFRESH-INTERVAL;VALUE=DURATION:PT1H
X-Robots-Tag:noindex
X-PUBLISHED-TTL:PT1H
BEGIN:VTIMEZONE
TZID:America/New_York
BEGIN:DAYLIGHT
TZOFFSETFROM:-0500
TZOFFSETTO:-0400
TZNAME:EDT
DTSTART:20240310T070000
END:DAYLIGHT
BEGIN:STANDARD
TZOFFSETFROM:-0400
TZOFFSETTO:-0500
TZNAME:EST
DTSTART:20241103T060000
END:STANDARD
BEGIN:DAYLIGHT
TZOFFSETFROM:-0500
TZOFFSETTO:-0400
TZNAME:EDT
DTSTART:20250309T070000
END:DAYLIGHT
BEGIN:STANDARD
TZOFFSETFROM:-0400
TZOFFSETTO:-0500
TZNAME:EST
DTSTART:20251102T060000
END:STANDARD
BEGIN:DAYLIGHT
TZOFFSETFROM:-0500
TZOFFSETTO:-0400
TZNAME:EDT
DTSTART:20260308T070000
END:DAYLIGHT
BEGIN:STANDARD
TZOFFSETFROM:-0400
TZOFFSETTO:-0500
TZNAME:EST
DTSTART:20261101T060000
END:STANDARD
END:VTIMEZONE
BEGIN:VEVENT
DTSTART;TZID=America/New_York:20251116T100000
DTEND;TZID=America/New_York:20251116T110000
DTSTAMP:20260423T143038
CREATED:20250930T221928Z
LAST-MODIFIED:20251111T014104Z
UID:46224-1763287200-1763290800@shapeshifterplus.org
SUMMARY:Sunday FamJam with Debbie Brukman - Nov and Jan  Shows
DESCRIPTION:Debbie believes in community music and engagement. Come sing and wiggle along — it’s going to be fun!
URL:https://shapeshifterplus.org/event/debbie-nov-2025/
LOCATION:ShapeShifter Lab\, 837 Union Street\, Ground Floor\, Brooklyn\, NY\, 11215\, United States
CATEGORIES:Kids Concert,Live Music
ATTACH;FMTTYPE=image/png:https://shapeshifterplus.org/wp-content/uploads/2025/09/Screenshot-2025-11-10-at-8.38.23-PM.png
END:VEVENT
BEGIN:VEVENT
DTSTART;TZID=America/New_York:20251116T110000
DTEND;TZID=America/New_York:20251116T170000
DTSTAMP:20260423T143038
CREATED:20251007T192949Z
LAST-MODIFIED:20251007T192953Z
UID:46291-1763290800-1763312400@shapeshifterplus.org
SUMMARY:The Fat Cats Youth Orchestra Open Workshop
DESCRIPTION:The Fat Cats Youth Orchestra Open Workshop and Rehearsals Weekly at ShapeShifter
URL:https://shapeshifterplus.org/event/the-fat-cats-youth-orchestra-open-workshop-6/
LOCATION:ShapeShifter Plus 501(c)(3)\, 837-839 Union Street\, Brooklyn\, NY\, 11215\, United States
ATTACH;FMTTYPE=image/jpeg:https://shapeshifterplus.org/wp-content/uploads/2025/10/826ecd12d43a7269dc102289bdc77f62-XirGsf.tmp_.jpg
END:VEVENT
BEGIN:VEVENT
DTSTART;TZID=America/New_York:20251116T160000
DTEND;TZID=America/New_York:20251116T170000
DTSTAMP:20260423T143038
CREATED:20251023T063717Z
LAST-MODIFIED:20251023T064303Z
UID:46382-1763308800-1763312400@shapeshifterplus.org
SUMMARY:The Niko & GiGi Puppet Singalong
DESCRIPTION:Puppet singalong to the big stage\, with a full live band and grand arrangements for kids and families.\n\n\nNikosKids Inc is bringing their intimate puppet singalong to the big stage\, with a full band and grand arrangements. This engaging show blends live music with playful puppetry to create a nostalgic\, yet fresh\, experience for young children and their families. \nInstagram – @nikoskids \n  \nBio: \n“The Niko & GiGi Puppet Singalong” immediately brings to mind the wholesome\, folk-music-inspired performances from Brooklyn-based NikosKids. These engaging shows blend live music with playful puppetry to create a nostalgic\, yet fresh\, experience for young children and their families. The performances subtly explore emotional development and themes of growing up through relatable and age-appropriate stories and songs. \nLine-up \n\nNikolai Moderbacher – guitar & vocals\nAlexander Klimovitsky – electric guitar & back-up vocals\nDerek Nievergelt – electric bass & back-up vocals\nEvan Pazner – drums\nLute Breuer (puppeteer) – vocals\, needs a headset mic
URL:https://shapeshifterplus.org/event/niko-gigi/
LOCATION:ShapeShifter Lab\, 837 Union Street\, Ground Floor\, Brooklyn\, NY\, 11215\, United States
CATEGORIES:Kids Concert,Live Music,Open Call Program
ATTACH;FMTTYPE=image/png:https://shapeshifterplus.org/wp-content/uploads/2025/10/The-Big-Niko-GiGi-Show-Horizontal-NikosKids-Inc-scaled.png
END:VEVENT
END:VCALENDAR