BEGIN:VCALENDAR
VERSION:2.0
PRODID:-//ShapeShifter Plus - ECPv6.15.20//NONSGML v1.0//EN
CALSCALE:GREGORIAN
METHOD:PUBLISH
X-WR-CALNAME:ShapeShifter Plus
X-ORIGINAL-URL:https://shapeshifterplus.org
X-WR-CALDESC:Events for ShapeShifter Plus
REFRESH-INTERVAL;VALUE=DURATION:PT1H
X-Robots-Tag:noindex
X-PUBLISHED-TTL:PT1H
BEGIN:VTIMEZONE
TZID:America/New_York
BEGIN:DAYLIGHT
TZOFFSETFROM:-0500
TZOFFSETTO:-0400
TZNAME:EDT
DTSTART:20240310T070000
END:DAYLIGHT
BEGIN:STANDARD
TZOFFSETFROM:-0400
TZOFFSETTO:-0500
TZNAME:EST
DTSTART:20241103T060000
END:STANDARD
BEGIN:DAYLIGHT
TZOFFSETFROM:-0500
TZOFFSETTO:-0400
TZNAME:EDT
DTSTART:20250309T070000
END:DAYLIGHT
BEGIN:STANDARD
TZOFFSETFROM:-0400
TZOFFSETTO:-0500
TZNAME:EST
DTSTART:20251102T060000
END:STANDARD
BEGIN:DAYLIGHT
TZOFFSETFROM:-0500
TZOFFSETTO:-0400
TZNAME:EDT
DTSTART:20260308T070000
END:DAYLIGHT
BEGIN:STANDARD
TZOFFSETFROM:-0400
TZOFFSETTO:-0500
TZNAME:EST
DTSTART:20261101T060000
END:STANDARD
END:VTIMEZONE
BEGIN:VEVENT
DTSTART;TZID=America/New_York:20251110T200000
DTEND;TZID=America/New_York:20251110T210000
DTSTAMP:20260423T143041
CREATED:20251005T012021Z
LAST-MODIFIED:20251005T012232Z
UID:46245-1762804800-1762808400@shapeshifterplus.org
SUMMARY:Simone Baron & Arco Belo
DESCRIPTION:“ego-less\, genre-agnostic\, and without expectations” (JazzTimes)\n\n\nHigh-energy\, circus-adjacent\, diasporic\, genre-fluid chamber jazz from Arco Belo — described as “ego-less\, genre-agnostic\, and without expectations” (JazzTimes). The group will present original compositions and arrangements at ShapeShifter Lab\, closing out their South Arts Jazz Roads tour! \n  \nARCO BELO is a group of high-energy improvisers. Drawing its name from the words bow and bellow\, the ensemble captures an irreverent sound melding reeds\, strings\, and percussive timbres. \n\nSimone Baron – accordion\, piano\, etc.\nMinnie Moline Jordan – violin\nCarrie Frey – viola\nRaffi Boden – cello\nSteve Arnold – double bass\nLucas Ashby – percussion\n\n  \n 
URL:https://shapeshifterplus.org/event/simone-baron-arco-belo/
LOCATION:ShapeShifter Lab\, 837 Union Street\, Ground Floor\, Brooklyn\, NY\, 11215\, United States
CATEGORIES:Live Music,Open Call Program
ATTACH;FMTTYPE=image/jpeg:https://shapeshifterplus.org/wp-content/uploads/2025/10/2ad3068bbaa36b4838fef3341a82536f-KwNEaC.tmp_.jpg
END:VEVENT
END:VCALENDAR