BEGIN:VCALENDAR
VERSION:2.0
PRODID:-//ShapeShifter Plus - ECPv6.15.20//NONSGML v1.0//EN
CALSCALE:GREGORIAN
METHOD:PUBLISH
X-WR-CALNAME:ShapeShifter Plus
X-ORIGINAL-URL:https://shapeshifterplus.org
X-WR-CALDESC:Events for ShapeShifter Plus
REFRESH-INTERVAL;VALUE=DURATION:PT1H
X-Robots-Tag:noindex
X-PUBLISHED-TTL:PT1H
BEGIN:VTIMEZONE
TZID:America/New_York
BEGIN:DAYLIGHT
TZOFFSETFROM:-0500
TZOFFSETTO:-0400
TZNAME:EDT
DTSTART:20240310T070000
END:DAYLIGHT
BEGIN:STANDARD
TZOFFSETFROM:-0400
TZOFFSETTO:-0500
TZNAME:EST
DTSTART:20241103T060000
END:STANDARD
BEGIN:DAYLIGHT
TZOFFSETFROM:-0500
TZOFFSETTO:-0400
TZNAME:EDT
DTSTART:20250309T070000
END:DAYLIGHT
BEGIN:STANDARD
TZOFFSETFROM:-0400
TZOFFSETTO:-0500
TZNAME:EST
DTSTART:20251102T060000
END:STANDARD
BEGIN:DAYLIGHT
TZOFFSETFROM:-0500
TZOFFSETTO:-0400
TZNAME:EDT
DTSTART:20260308T070000
END:DAYLIGHT
BEGIN:STANDARD
TZOFFSETFROM:-0400
TZOFFSETTO:-0500
TZNAME:EST
DTSTART:20261101T060000
END:STANDARD
END:VTIMEZONE
BEGIN:VEVENT
DTSTART;TZID=America/New_York:20251108T200000
DTEND;TZID=America/New_York:20251108T235900
DTSTAMP:20260423T143042
CREATED:20251027T030023Z
LAST-MODIFIED:20251027T031932Z
UID:46399-1762632000-1762646340@shapeshifterplus.org
SUMMARY:Forró Sem Palavras (concert & dance party)
DESCRIPTION:Doors open at 8pm (With DJ). Concert starts at 9:30pm. \n\n\n\n\n\n\n\n\n\n\n\nTime & Location\n\n\nNov 08\, 2025\, 8:00 PM EST – Nov 09\, 2025\, 12:00 AM EST \n\n\n\nAbout the Event\n\n\n\nForrós em Palavras at ShapeShifter Lab\nJoin us for a special edition of Forrós em Palavras — a project that expands the world of forró through the expressivity and freedom of jazz\, and the rich textures of a large ensemble. \nThis project celebrates the authentic energy of forró — its rhythm\, pulse\, and danceable drive — while exploring new musical colors inspired by jazz and chamber music traditions. The result is a vibrant soundscape that keeps the dance floor alive and\, at the same time\, offers a fresh and engaging experience for jazz and Latin jazz listeners. \nAfter performances in cities across the Americas — from the U.S. to Canada and Brazil — Forrós em Palavras now comes to ShapeShifter Lab for the very first time. This four-hour event combines the concert with a forró DJ set\, creating space for both listening and dancing throughout the evening. \nThe concert is part of the Forró New York Weekend\, a festival dedicated to forró culture with live shows\, dance workshops\, and social events featuring instructors and artists from around the world. \n\nTickets HERE \nWatch
URL:https://shapeshifterplus.org/event/forro/
CATEGORIES:Dance,Live Music
ATTACH;FMTTYPE=image/png:https://shapeshifterplus.org/wp-content/uploads/2025/10/Screenshot-2025-10-26-at-11.18.09-PM.png
END:VEVENT
END:VCALENDAR