BEGIN:VCALENDAR
VERSION:2.0
PRODID:-//ShapeShifter Plus - ECPv6.15.20//NONSGML v1.0//EN
CALSCALE:GREGORIAN
METHOD:PUBLISH
X-ORIGINAL-URL:https://shapeshifterplus.org
X-WR-CALDESC:Events for ShapeShifter Plus
REFRESH-INTERVAL;VALUE=DURATION:PT1H
X-Robots-Tag:noindex
X-PUBLISHED-TTL:PT1H
BEGIN:VTIMEZONE
TZID:America/New_York
BEGIN:DAYLIGHT
TZOFFSETFROM:-0500
TZOFFSETTO:-0400
TZNAME:EDT
DTSTART:20240310T070000
END:DAYLIGHT
BEGIN:STANDARD
TZOFFSETFROM:-0400
TZOFFSETTO:-0500
TZNAME:EST
DTSTART:20241103T060000
END:STANDARD
BEGIN:DAYLIGHT
TZOFFSETFROM:-0500
TZOFFSETTO:-0400
TZNAME:EDT
DTSTART:20250309T070000
END:DAYLIGHT
BEGIN:STANDARD
TZOFFSETFROM:-0400
TZOFFSETTO:-0500
TZNAME:EST
DTSTART:20251102T060000
END:STANDARD
BEGIN:DAYLIGHT
TZOFFSETFROM:-0500
TZOFFSETTO:-0400
TZNAME:EDT
DTSTART:20260308T070000
END:DAYLIGHT
BEGIN:STANDARD
TZOFFSETFROM:-0400
TZOFFSETTO:-0500
TZNAME:EST
DTSTART:20261101T060000
END:STANDARD
END:VTIMEZONE
BEGIN:VEVENT
DTSTART;TZID=America/New_York:20251031T203000
DTEND;TZID=America/New_York:20251031T223000
DTSTAMP:20260423T143120
CREATED:20250915T060704Z
LAST-MODIFIED:20250915T061747Z
UID:46095-1761942600-1761949800@shapeshifterplus.org
SUMMARY:K&R’s Pleasantville Album Release & Halloween Party
DESCRIPTION:K&R’s Pleasantville Album Release & Halloween Party\n\n\nK&R is a dynamic music duo hailing from New York made up of best friends\, guitarist Kevin Quinn and vocalist Rosie Barker\, who captivate audiences with their unique yet nostalgic twist on music. \n\nKevin Quinn – Guitar\nRosie Barker – Vocals\nDave Savitsky – Saxophone\nBrian Anderson – Bass\nKarol Zabka – Drums\nhttps://www.instagram.com/k_and_r.music?utm_source=ig_web_button_share_sheet&igsh=ZDNlZDc0MzIxNw%3D%3D
URL:https://shapeshifterplus.org/event/krs-halloween-party/
LOCATION:ShapeShifter Lab\, 837 Union Street\, Ground Floor\, Brooklyn\, NY\, 11215\, United States
CATEGORIES:Live Music,Open Call Program
ATTACH;FMTTYPE=image/jpeg:https://shapeshifterplus.org/wp-content/uploads/2025/09/f00b1442f3c0678cea0082aba1d757e0-EsoMdc.tmp_.jpg
END:VEVENT
END:VCALENDAR