BEGIN:VCALENDAR
VERSION:2.0
PRODID:-//ShapeShifter Plus - ECPv6.15.20//NONSGML v1.0//EN
CALSCALE:GREGORIAN
METHOD:PUBLISH
X-ORIGINAL-URL:https://shapeshifterplus.org
X-WR-CALDESC:Events for ShapeShifter Plus
REFRESH-INTERVAL;VALUE=DURATION:PT1H
X-Robots-Tag:noindex
X-PUBLISHED-TTL:PT1H
BEGIN:VTIMEZONE
TZID:America/New_York
BEGIN:DAYLIGHT
TZOFFSETFROM:-0500
TZOFFSETTO:-0400
TZNAME:EDT
DTSTART:20240310T070000
END:DAYLIGHT
BEGIN:STANDARD
TZOFFSETFROM:-0400
TZOFFSETTO:-0500
TZNAME:EST
DTSTART:20241103T060000
END:STANDARD
BEGIN:DAYLIGHT
TZOFFSETFROM:-0500
TZOFFSETTO:-0400
TZNAME:EDT
DTSTART:20250309T070000
END:DAYLIGHT
BEGIN:STANDARD
TZOFFSETFROM:-0400
TZOFFSETTO:-0500
TZNAME:EST
DTSTART:20251102T060000
END:STANDARD
BEGIN:DAYLIGHT
TZOFFSETFROM:-0500
TZOFFSETTO:-0400
TZNAME:EDT
DTSTART:20260308T070000
END:DAYLIGHT
BEGIN:STANDARD
TZOFFSETFROM:-0400
TZOFFSETTO:-0500
TZNAME:EST
DTSTART:20261101T060000
END:STANDARD
END:VTIMEZONE
BEGIN:VEVENT
DTSTART;TZID=America/New_York:20251030T190000
DTEND;TZID=America/New_York:20251030T200000
DTSTAMP:20260423T143124
CREATED:20251005T044724Z
LAST-MODIFIED:20251011T021311Z
UID:46271-1761850800-1761854400@shapeshifterplus.org
SUMMARY:Josh Levinson and His Soul & Swing Ensemble (CD Release “Healing”)
DESCRIPTION:Josh Levinson and His Soul & Swing Ensemble (CD Release “Healing”)\n\n\n\nDavid Zalud\, Joey Curreri\, Irv Grossman\, Josh Levinson – Trumpets\nHani’el Mastriani-Levi\, Mark Kraszewski – Tenor Saxophone\nMax Bessesen\, Ben Lerner – Alto Saxophone\nSaul Dautch – Baritone Saxophone\nTim Shneier\, Matt Musselman\, Ric Becker\, Zach Andrews – Trombones\nNitsan Kolko – Piano\nMark Lau – Bass\nNir Furman – Drums\n\n  \nThis concert celebrates the release of Healing\, the second CD by Josh Levinson’s Soul & Swing Ensemble. All songs are composed and arranged by Levinson\, whose track “For Roy” was named Best Jazz Song in the first session of the 2025 John Lennon Songwriting Contest. \n  \n\nBandzoogle – Soul & Swing Ensemble\nYouTube Channel\nSoundCloud
URL:https://shapeshifterplus.org/event/josh-levinson-2/
LOCATION:ShapeShifter Lab\, 837 Union Street\, Ground Floor\, Brooklyn\, NY\, 11215\, United States
CATEGORIES:Live Music,Open Call Program
ATTACH;FMTTYPE=image/jpeg:https://shapeshifterplus.org/wp-content/uploads/2025/10/57b6355eba2bbc13e68364cb3317d583-5vKCPy.tmp_.jpg
END:VEVENT
END:VCALENDAR