BEGIN:VCALENDAR
VERSION:2.0
PRODID:-//ShapeShifter Plus - ECPv6.15.20//NONSGML v1.0//EN
CALSCALE:GREGORIAN
METHOD:PUBLISH
X-ORIGINAL-URL:https://shapeshifterplus.org
X-WR-CALDESC:Events for ShapeShifter Plus
REFRESH-INTERVAL;VALUE=DURATION:PT1H
X-Robots-Tag:noindex
X-PUBLISHED-TTL:PT1H
BEGIN:VTIMEZONE
TZID:America/New_York
BEGIN:DAYLIGHT
TZOFFSETFROM:-0500
TZOFFSETTO:-0400
TZNAME:EDT
DTSTART:20240310T070000
END:DAYLIGHT
BEGIN:STANDARD
TZOFFSETFROM:-0400
TZOFFSETTO:-0500
TZNAME:EST
DTSTART:20241103T060000
END:STANDARD
BEGIN:DAYLIGHT
TZOFFSETFROM:-0500
TZOFFSETTO:-0400
TZNAME:EDT
DTSTART:20250309T070000
END:DAYLIGHT
BEGIN:STANDARD
TZOFFSETFROM:-0400
TZOFFSETTO:-0500
TZNAME:EST
DTSTART:20251102T060000
END:STANDARD
BEGIN:DAYLIGHT
TZOFFSETFROM:-0500
TZOFFSETTO:-0400
TZNAME:EDT
DTSTART:20260308T070000
END:DAYLIGHT
BEGIN:STANDARD
TZOFFSETFROM:-0400
TZOFFSETTO:-0500
TZNAME:EST
DTSTART:20261101T060000
END:STANDARD
END:VTIMEZONE
BEGIN:VEVENT
DTSTART;TZID=America/New_York:20251028T190000
DTEND;TZID=America/New_York:20251028T213000
DTSTAMP:20260423T143120
CREATED:20251005T014426Z
LAST-MODIFIED:20251005T134732Z
UID:46250-1761678000-1761687000@shapeshifterplus.org
SUMMARY:Alexander's Swing-Time Orchestra with Kostabi and Friends Quartet
DESCRIPTION:Alexander’s Swing-Time Orchestra with Kostabi and Friends Quartet\n\n\nGet ready for a night of fresh sounds and swinging energy! The Kostabi & Friends Quartet opens with new works\, followed by Alexander’s Swing-Time Orchestra with jazz greats Dave Taylor\, John Clark\, Franz Hackl\, and Gottfried Stöger performing classics\, new compositions\, and works by Clark and Berger. \n  \n7 pm  \nKostabi and Friends Quartet: \n\nMark Kostabi – Piano\nGene Pritsker – Guitar\nLorenzo M. – Bass\nLaura K. – Drums\n\n8:00 pm \nAlexander’s Swing-Time Orchestra: \n\nMattia Kaltenhauser – Reeds\nMarkus Stern – Reeds\nRainer Schulze – Reeds\nVinzenz Gassner – Reeds\nSimon Wachter – Reeds\nJohannes Niederhauser – Trombone\nSebastian Poppeller – Trombone\nThomas Werner – Trombone\nDave Taylor – Bass Trombone\nAlexander Kuttler – Trumpet/Vocals\nFranz Hackl – Trumpet\nAdrian Schöpf – Trumpet\nJosef Seeber – Trumpet\nFlorian Baumgartner – Drums\nJohannes Auer – Drums\nDarko Peranovic – Bass\nRaphael Besler – Guitar\nRupert Kirchmair – Piano\nSpecial Guests: Gottfried Stöger\, John Clark\n\n\n\n@alexanders_swingtime_orchestra\n@genenoizepunkpritsker\n@alex_kuttler_\n@alexander_kuttler_trumpet
URL:https://shapeshifterplus.org/event/composers-concordance-swing-time/
LOCATION:ShapeShifter Lab\, 837 Union Street\, Ground Floor\, Brooklyn\, NY\, 11215\, United States
CATEGORIES:Live Music,Open Call Program
ATTACH;FMTTYPE=image/jpeg:https://shapeshifterplus.org/wp-content/uploads/2025/10/f33a08889045374d55a06f7f49e2413a-WBty4k.tmp_.jpg
END:VEVENT
END:VCALENDAR