BEGIN:VCALENDAR
VERSION:2.0
PRODID:-//ShapeShifter Plus - ECPv6.15.20//NONSGML v1.0//EN
CALSCALE:GREGORIAN
METHOD:PUBLISH
X-ORIGINAL-URL:https://shapeshifterplus.org
X-WR-CALDESC:Events for ShapeShifter Plus
REFRESH-INTERVAL;VALUE=DURATION:PT1H
X-Robots-Tag:noindex
X-PUBLISHED-TTL:PT1H
BEGIN:VTIMEZONE
TZID:America/New_York
BEGIN:DAYLIGHT
TZOFFSETFROM:-0500
TZOFFSETTO:-0400
TZNAME:EDT
DTSTART:20240310T070000
END:DAYLIGHT
BEGIN:STANDARD
TZOFFSETFROM:-0400
TZOFFSETTO:-0500
TZNAME:EST
DTSTART:20241103T060000
END:STANDARD
BEGIN:DAYLIGHT
TZOFFSETFROM:-0500
TZOFFSETTO:-0400
TZNAME:EDT
DTSTART:20250309T070000
END:DAYLIGHT
BEGIN:STANDARD
TZOFFSETFROM:-0400
TZOFFSETTO:-0500
TZNAME:EST
DTSTART:20251102T060000
END:STANDARD
BEGIN:DAYLIGHT
TZOFFSETFROM:-0500
TZOFFSETTO:-0400
TZNAME:EDT
DTSTART:20260308T070000
END:DAYLIGHT
BEGIN:STANDARD
TZOFFSETFROM:-0400
TZOFFSETTO:-0500
TZNAME:EST
DTSTART:20261101T060000
END:STANDARD
END:VTIMEZONE
BEGIN:VEVENT
DTSTART;TZID=America/New_York:20251027T193000
DTEND;TZID=America/New_York:20251027T223000
DTSTAMP:20260423T143120
CREATED:20250915T044000Z
LAST-MODIFIED:20250915T044424Z
UID:46091-1761593400-1761604200@shapeshifterplus.org
SUMMARY:JazzLabNY Show
DESCRIPTION:JazzLabNY gives adult jazz students the opportunity to play\, study\, and perform in a regular band year round.\n\n\n 7:30 pm  \nSt. Marks Combo: \n\nMike Coppola – Alto\nChris Gifford – Trumpet\nLes Krevsky – Woodwinds\nJustin Berhang – Piano\nDavid Frankel – Bass\nJohn Mitchell – Guitar\nNick Melissinos – Drums\n\n \n8:30 pm \nDave’s of Our Lives Combo: \n\nSumi Govindaraju – Alto\nJohn Cardinale – Piano\nDavid Levine – Bass\nAmit Lissack – Guitar\nDrew Vogelman – Drums\n\nAbout: https://jazzlabny.com
URL:https://shapeshifterplus.org/event/jazzlabny/
LOCATION:ShapeShifter Lab\, 837 Union Street\, Ground Floor\, Brooklyn\, NY\, 11215\, United States
CATEGORIES:Live Music
ATTACH;FMTTYPE=image/jpeg:https://shapeshifterplus.org/wp-content/uploads/2025/09/9c5fff9cb4642d1227350fb75bd79f79-1H9Y37.tmp_.jpg
END:VEVENT
END:VCALENDAR