BEGIN:VCALENDAR
VERSION:2.0
PRODID:-//ShapeShifter Plus - ECPv6.15.20//NONSGML v1.0//EN
CALSCALE:GREGORIAN
METHOD:PUBLISH
X-ORIGINAL-URL:https://shapeshifterplus.org
X-WR-CALDESC:Events for ShapeShifter Plus
REFRESH-INTERVAL;VALUE=DURATION:PT1H
X-Robots-Tag:noindex
X-PUBLISHED-TTL:PT1H
BEGIN:VTIMEZONE
TZID:America/New_York
BEGIN:DAYLIGHT
TZOFFSETFROM:-0500
TZOFFSETTO:-0400
TZNAME:EDT
DTSTART:20240310T070000
END:DAYLIGHT
BEGIN:STANDARD
TZOFFSETFROM:-0400
TZOFFSETTO:-0500
TZNAME:EST
DTSTART:20241103T060000
END:STANDARD
BEGIN:DAYLIGHT
TZOFFSETFROM:-0500
TZOFFSETTO:-0400
TZNAME:EDT
DTSTART:20250309T070000
END:DAYLIGHT
BEGIN:STANDARD
TZOFFSETFROM:-0400
TZOFFSETTO:-0500
TZNAME:EST
DTSTART:20251102T060000
END:STANDARD
BEGIN:DAYLIGHT
TZOFFSETFROM:-0500
TZOFFSETTO:-0400
TZNAME:EDT
DTSTART:20260308T070000
END:DAYLIGHT
BEGIN:STANDARD
TZOFFSETFROM:-0400
TZOFFSETTO:-0500
TZNAME:EST
DTSTART:20261101T060000
END:STANDARD
END:VTIMEZONE
BEGIN:VEVENT
DTSTART;TZID=America/New_York:20251019T100000
DTEND;TZID=America/New_York:20251019T110000
DTSTAMP:20260423T160833
CREATED:20250930T220128Z
LAST-MODIFIED:20251001T042053Z
UID:46219-1760868000-1760871600@shapeshifterplus.org
SUMMARY:Sunday FamJam with Debbie Brukman - October & Nov  Shows
DESCRIPTION:Debbie believes in community music and engagement. Come sing and wiggle along — it’s going to be fun!
URL:https://shapeshifterplus.org/event/debbie-oct-2025/
LOCATION:ShapeShifter Lab\, 837 Union Street\, Ground Floor\, Brooklyn\, NY\, 11215\, United States
CATEGORIES:Kids Concert,Live Music
ATTACH;FMTTYPE=image/png:https://shapeshifterplus.org/wp-content/uploads/2025/09/Debbie.png
END:VEVENT
BEGIN:VEVENT
DTSTART;TZID=America/New_York:20251019T110000
DTEND;TZID=America/New_York:20251019T170000
DTSTAMP:20260423T160833
CREATED:20251007T192941Z
LAST-MODIFIED:20251007T192946Z
UID:46283-1760871600-1760893200@shapeshifterplus.org
SUMMARY:The Fat Cats Youth Orchestra Open Workshop
DESCRIPTION:The Fat Cats Youth Orchestra Open Workshop and Rehearsals Weekly at ShapeShifter
URL:https://shapeshifterplus.org/event/the-fat-cats-youth-orchestra-open-workshop-2/
LOCATION:ShapeShifter Plus 501(c)(3)\, 837-839 Union Street\, Brooklyn\, NY\, 11215\, United States
ATTACH;FMTTYPE=image/jpeg:https://shapeshifterplus.org/wp-content/uploads/2025/10/826ecd12d43a7269dc102289bdc77f62-XirGsf.tmp_.jpg
END:VEVENT
BEGIN:VEVENT
DTSTART;TZID=America/New_York:20251019T173000
DTEND;TZID=America/New_York:20251019T220000
DTSTAMP:20260423T160833
CREATED:20251010T014347Z
LAST-MODIFIED:20251010T014715Z
UID:46352-1760895000-1760911200@shapeshifterplus.org
SUMMARY:72’s HALLOWEEN BASH
DESCRIPTION:72’s HALLOWEEN BASH\nCostume Contest + Prizes + Open Mic \nPresenting: \n\nGWEN\nJUGGF NESSE9\nJOON\nSERVANTS\nBURDEN OF CHRIS
URL:https://shapeshifterplus.org/event/72s-halloween-bash/
LOCATION:ShapeShifter Lab\, 837 Union Street\, Ground Floor\, Brooklyn\, NY\, 11215\, United States
CATEGORIES:Live Music,Party
ATTACH;FMTTYPE=image/jpeg:https://shapeshifterplus.org/wp-content/uploads/2025/10/5a3e5e5d0735ed68bf665404d5843384-3YUD4A.tmp_.jpg
END:VEVENT
END:VCALENDAR