BEGIN:VCALENDAR
VERSION:2.0
PRODID:-//ShapeShifter Plus - ECPv6.15.20//NONSGML v1.0//EN
CALSCALE:GREGORIAN
METHOD:PUBLISH
X-ORIGINAL-URL:https://shapeshifterplus.org
X-WR-CALDESC:Events for ShapeShifter Plus
REFRESH-INTERVAL;VALUE=DURATION:PT1H
X-Robots-Tag:noindex
X-PUBLISHED-TTL:PT1H
BEGIN:VTIMEZONE
TZID:America/New_York
BEGIN:DAYLIGHT
TZOFFSETFROM:-0500
TZOFFSETTO:-0400
TZNAME:EDT
DTSTART:20240310T070000
END:DAYLIGHT
BEGIN:STANDARD
TZOFFSETFROM:-0400
TZOFFSETTO:-0500
TZNAME:EST
DTSTART:20241103T060000
END:STANDARD
BEGIN:DAYLIGHT
TZOFFSETFROM:-0500
TZOFFSETTO:-0400
TZNAME:EDT
DTSTART:20250309T070000
END:DAYLIGHT
BEGIN:STANDARD
TZOFFSETFROM:-0400
TZOFFSETTO:-0500
TZNAME:EST
DTSTART:20251102T060000
END:STANDARD
BEGIN:DAYLIGHT
TZOFFSETFROM:-0500
TZOFFSETTO:-0400
TZNAME:EDT
DTSTART:20260308T070000
END:DAYLIGHT
BEGIN:STANDARD
TZOFFSETFROM:-0400
TZOFFSETTO:-0500
TZNAME:EST
DTSTART:20261101T060000
END:STANDARD
END:VTIMEZONE
BEGIN:VEVENT
DTSTART;TZID=America/New_York:20251017T183000
DTEND;TZID=America/New_York:20251017T203000
DTSTAMP:20260423T160837
CREATED:20250912T065518Z
LAST-MODIFIED:20251014T191657Z
UID:46069-1760725800-1760733000@shapeshifterplus.org
SUMMARY:The Park Slope Food Coop Concert Series #11
DESCRIPTION:https://www.foodcoopconcerts.com\n\n\n• Set 1 – 6:30 PM to 6:50 PMPerforming Artist / Band: Jameh Daran EnsemblePersonnel:– Mahnaz Kalani (Santur)– Kaveh Haghtalab (Kamancheh)– Siavash Haghtalab (Tar)– Nima Torabkhani (Tombak)About: Jameh Daran is an Iranian classical ensemble led by brothers Kaveh Haghtalab (Kamancheh) and Siavash Haghtalab (Tar). For this program\, they are honored to be joined by their mother\, Mahnaz Kalani on Santur\, whose musicality and presence have deeply shaped their artistic journey. Also joining them is guest percussionist Nima Torabkhani on Tombak. The group has appeared at the Rubin Museum of Art\, Columbia University’s WKCR\, and the Emrooz Music Festival\, presenting nuanced performances alongside research-driven talks on the history of Persian classical and folk music. \n——————————————————————————— \n• Set 2 – 7:00 PM to 7:20 PMPerforming Artist / Band: Stoddard BlackallPersonnel:– Stoddard Blackall (Piano\, Vocals)About: New York–based songwriter Stoddard Blackall\, a proud Berklee and BMI Musical Theater Workshop alumnus\, will grace the stage with an eclectic set of his original songs—many of which are available on Spotify\, Apple Music\, and Amazon Music—delivering a raw performance with his crooning voice and lightning-smooth touch on the baby grand. \n——————————————————————————— \n• Set 3 – 7:30 PM to 7:50 PMPerforming Artist / Band: Maggie CarsonPersonnel:– Maggie Carson (Banjo\, Guitar\, Vocals)– Or Zubalsky (Guitar\, Keys)About: A banjo-centric Americana set blending rootsy storytelling with warm\, acoustic textures. \n——————————————————————————— \n• Set 4 – 8:00 PM to 8:20 PMPerforming Artist / Band: PAULA TPersonnel:– Paula Tartell (Vocals\, Synth)– Benny Woodard (Drums)– Leah Greene (Bass Guitar)– Sean Saville (Electric Guitar)About: “Get On My Lawn!” Join Brooklyn-based songwriter\, producer\, and singer Paula Tartell and her powerhouse band (Sean Saville\, Benny Woodard\, Leah Greene) on PAULA’S LAWN—where feeling and expression are celebrated\, and the music always hits hard. \n——————————————————————————————— \nThe Park Slope Food Coop Concert Series is one of the most exciting initiatives we undertake as a community. With so many gifted and talented members\, creating this series was a natural decision and a no-brainer. The baton of music and performance curation was passed on to Jay and Alexis by Beverly Grant—a great artist and long-time member since the inception of the Food Coop. Beverly is an artist\, photographer\, singer-songwriter\, composer\, and activist who has greatly contributed to our community. \nJason Weiner and the membership staff have played a key role in bringing this event to life. We thank them for sharing the same joy and respect for the arts\, which enriches all walks of life. Before the shutdown\, this concert series was a crucial and pinnacle way of bringing us closer together as a community that truly cares about the world around us. Art\, in every aspect of our human experience\, is a life-healing force. Alexis Cuadrado\, Ludovica Burtone\, and Jay Rodriguez are both professional musicians\, composers\, and producers. They have expanded the vision of the curation to create a platform for freedom of expression for all. Shapeshifter Lab visionaries Fortuna Sung and Matthew Garrison have also become vital to our mission\, generously providing us with their performance space across the street from the Food Coop. \nInstagram
URL:https://shapeshifterplus.org/event/psfc10/
LOCATION:ShapeShifter Lab\, 837 Union Street\, Ground Floor\, Brooklyn\, NY\, 11215\, United States
CATEGORIES:Collaboration Programs,Live Music
ATTACH;FMTTYPE=image/png:https://shapeshifterplus.org/wp-content/uploads/2025/07/Oct-2025.png
END:VEVENT
BEGIN:VEVENT
DTSTART;TZID=America/New_York:20251017T213000
DTEND;TZID=America/New_York:20251017T223000
DTSTAMP:20260423T160837
CREATED:20250805T172943Z
LAST-MODIFIED:20250807T143724Z
UID:45845-1760736600-1760740200@shapeshifterplus.org
SUMMARY:Kioea: Echolocation
DESCRIPTION:Each ticket includes a free digital download of Kioea’s new EP Electric Surf\, distributed at the show. https://kioea.bandcamp.com/\n\n\nEach ticket includes a free digital download of Kioea’s new EP Electric Surf\, distributed at the show. \n\nCarand Burnet – Electric Guitar\, Vocals\, Electric Sitar\nNeil Collins – Bass\nMatt Wilson – Drums\n\nEcholocation is a music and film performance blending surf rock\, psychedelia\, and global influences. Kioea delivers a cinematic experience\, using visuals and music to explore soundscapes and the natural world. \n \nPRESS RELEASE:  \nOn October 17 at 9:30 PM\, psych-surf rock band Kioea from Maine is set to light up ShapeShifter Lab with their special blend of audio and visuals in an immersive live performance called “Echolocation.”Guitarist Carand Burnet leads Kioea (pronounced kēōˈāə). With captivating guitar riffs and backed by the dynamic duo of Neil Collins on bass and Matt Wilson on drums\, this trio creates a blend of surf rock\, psychedelia\, and world influences. Their innovative artistry has already caught the eye of music reviewers\, like J. Swartwood from Aquarium Drunkard\, who praises Burnet’s merging of “simultaneously modern and vintage” sounds. Twice featured as a “New & Notable” on Bandcamp\, Burnet’s music is described as a cinematic listening experience. Their most recent EP\, Electric Surf\, was released in June.The night will also showcase a film featuring over 300 stunning 35mm landscape photos captured during an epic 10\,000-mile road trip. Together\, the music and visuals will take listeners on a captivating journey through the connections between nature and instrumental sound. Kioea’s band name derives from an extinct Hawaiian songbird. It symbolizes strength and translates to mean “Stand Tall.” Lead guitarist Carand Burnet adds\, “Stand Tall is a mantra that empowers me as a female musician\, and I hope this music inspires others.”ShapeShifter Lab\, located at 837 Union Street in Park Slope\, Brooklyn\, is a performance space that opened in 2011 and was initially located in Gowanus. The venue hosts some of the world’s most innovative artists who seek a flexible platform to present their work.For more information about the show\, please visit https://shapeshifterplus.org/event/kioea-echolocation/.FOR MORE INFO ON KIOEA:kioeamusic.comkioea.bandcamp.com/album/electric-surfinstagram.com/kioeamusicABOUT KIOEA (kioeamusic.com|kioea.bandcamp.com)Kioea’s name derives from an extinct Hawaiian songbird. It symbolizes strength and translates to mean “Stand Tall.” Guitarist Carand Burnet\, the driving force behind the band’s intricate melodies\, wants to uplift listeners with her music. Burnet adds\, “Stand Tall is a mantra that empowers me as a female musician\, and I hope this album inspires others.”Kioea (pronounced kēōˈāə) is a music group featuring Carand Burnet(she/her) as lead guitarist and songwriter\, supported by Neil Collins on bass and Matt Wilson on drums. Their music blends sounds of surf rock\, psychedelia\, and global influences. J. Swartwood (Aquarium Drunkard) described Burnet’s music as “simultaneously modern and vintage.” \nBandcamp recognized Kioea for their EP and album\, Stand Tall\, which they selected as New & Notable releases. Bandcamp’s Editorial Director writes\, “The debut LP from Kioea is dreamy psychedelic surf music that calls back to the ’60s while feeling remarkably contemporary.” Jason M. Rubin (The Arts Fuse) comments\, “Burnet’s surf guitar takes the listener on journeys of their own\, all of which feed a desire to hear more.” \nDoyle Dean\, host of The Dean’s List on NCPR\, notes that “Burnet’s guitar playing owes a little bit to the sound of The Ventures\, Dick Dale\, and the ’90s Canadian daredevils of the form\, Shadowy Men on a Shadowy Planet. But her singular voice owes just as much to that of Sonny Rollins – lost in the madness of a late 1950s session for Riverside. It’s that departure Kioea offers.” \nKioea has performed at The Thing in the Spring Festival\, Tidelands Festival\, Twenty Summers\, 3S Artspace\, The Music Hall\, Center for Maine Contemporary Art\, SPACE Gallery\, and other venues. Burnet performs solo and with her band\, and she has had the privilege of opening for artists such as William Tyler\, Jeff Parker\, Cut Worms\, and Lady Lamb at venues and festivals. In 2023\, Burnet received a Maine ARP Grant through SPACE Gallery and the National Endowment for the Arts\, which supported the making of Kioea’s album Stand Tall. Their most recent EP\, Electric Surf\, was released in June 2025.
URL:https://shapeshifterplus.org/event/kioea-echolocation/
LOCATION:ShapeShifter Lab\, 837 Union Street\, Ground Floor\, Brooklyn\, NY\, 11215\, United States
CATEGORIES:Live Music,Open Call Program
ATTACH;FMTTYPE=image/jpeg:https://shapeshifterplus.org/wp-content/uploads/2025/08/a216b7ec869d76cb22e7916e6015e3ed-dsDpOv.tmp_.jpg
END:VEVENT
END:VCALENDAR