BEGIN:VCALENDAR
VERSION:2.0
PRODID:-//ShapeShifter Plus - ECPv6.15.20//NONSGML v1.0//EN
CALSCALE:GREGORIAN
METHOD:PUBLISH
X-WR-CALNAME:ShapeShifter Plus
X-ORIGINAL-URL:https://shapeshifterplus.org
X-WR-CALDESC:Events for ShapeShifter Plus
REFRESH-INTERVAL;VALUE=DURATION:PT1H
X-Robots-Tag:noindex
X-PUBLISHED-TTL:PT1H
BEGIN:VTIMEZONE
TZID:America/New_York
BEGIN:DAYLIGHT
TZOFFSETFROM:-0500
TZOFFSETTO:-0400
TZNAME:EDT
DTSTART:20240310T070000
END:DAYLIGHT
BEGIN:STANDARD
TZOFFSETFROM:-0400
TZOFFSETTO:-0500
TZNAME:EST
DTSTART:20241103T060000
END:STANDARD
BEGIN:DAYLIGHT
TZOFFSETFROM:-0500
TZOFFSETTO:-0400
TZNAME:EDT
DTSTART:20250309T070000
END:DAYLIGHT
BEGIN:STANDARD
TZOFFSETFROM:-0400
TZOFFSETTO:-0500
TZNAME:EST
DTSTART:20251102T060000
END:STANDARD
BEGIN:DAYLIGHT
TZOFFSETFROM:-0500
TZOFFSETTO:-0400
TZNAME:EDT
DTSTART:20260308T070000
END:DAYLIGHT
BEGIN:STANDARD
TZOFFSETFROM:-0400
TZOFFSETTO:-0500
TZNAME:EST
DTSTART:20261101T060000
END:STANDARD
END:VTIMEZONE
BEGIN:VEVENT
DTSTART;TZID=America/New_York:20251002T190000
DTEND;TZID=America/New_York:20251002T200000
DTSTAMP:20260423T160811
CREATED:20250823T050612Z
LAST-MODIFIED:20250823T050927Z
UID:46013-1759431600-1759435200@shapeshifterplus.org
SUMMARY:Sophie Dunér & Steve Beck swing Stockhausen
DESCRIPTION:Sophie Dunér & Steve Beck swing Stockhausen\n\n\nKarlheinz Stockhausen\, the controversial leader in postwar German music\, influenced artists from The Beatles to Miles Davis. Sophie Dunér studied at his legendary courses\, and in her new CD release with pianist Steve Beck\, they deliver a unique jazz interpretation of Stockhausen’s Tierkreis\, coupled with Francis Schwartz’s The Neon Pterodactyl. \n\nSophie Duner Music\nSteve Beck\nFacebook Group\nInstagram\nX/Twitter\nUrlicht – Sophie Dunér\nUrlicht – Steve Beck
URL:https://shapeshifterplus.org/event/sophie-duner/
LOCATION:ShapeShifter Lab\, 837 Union Street\, Ground Floor\, Brooklyn\, NY\, 11215\, United States
CATEGORIES:Live Music,Open Call Program
ATTACH;FMTTYPE=image/jpeg:https://shapeshifterplus.org/wp-content/uploads/2025/08/a1c86c1662b47f84e962a48fac92d2e8-TZxdCi.tmp_.jpg
END:VEVENT
END:VCALENDAR