BEGIN:VCALENDAR
VERSION:2.0
PRODID:-//ShapeShifter Plus - ECPv6.15.20//NONSGML v1.0//EN
CALSCALE:GREGORIAN
METHOD:PUBLISH
X-WR-CALNAME:ShapeShifter Plus
X-ORIGINAL-URL:https://shapeshifterplus.org
X-WR-CALDESC:Events for ShapeShifter Plus
REFRESH-INTERVAL;VALUE=DURATION:PT1H
X-Robots-Tag:noindex
X-PUBLISHED-TTL:PT1H
BEGIN:VTIMEZONE
TZID:America/New_York
BEGIN:DAYLIGHT
TZOFFSETFROM:-0500
TZOFFSETTO:-0400
TZNAME:EDT
DTSTART:20240310T070000
END:DAYLIGHT
BEGIN:STANDARD
TZOFFSETFROM:-0400
TZOFFSETTO:-0500
TZNAME:EST
DTSTART:20241103T060000
END:STANDARD
BEGIN:DAYLIGHT
TZOFFSETFROM:-0500
TZOFFSETTO:-0400
TZNAME:EDT
DTSTART:20250309T070000
END:DAYLIGHT
BEGIN:STANDARD
TZOFFSETFROM:-0400
TZOFFSETTO:-0500
TZNAME:EST
DTSTART:20251102T060000
END:STANDARD
BEGIN:DAYLIGHT
TZOFFSETFROM:-0500
TZOFFSETTO:-0400
TZNAME:EDT
DTSTART:20260308T070000
END:DAYLIGHT
BEGIN:STANDARD
TZOFFSETFROM:-0400
TZOFFSETTO:-0500
TZNAME:EST
DTSTART:20261101T060000
END:STANDARD
END:VTIMEZONE
BEGIN:VEVENT
DTSTART;TZID=America/New_York:20250924T190000
DTEND;TZID=America/New_York:20250924T210000
DTSTAMP:20260423T172935
CREATED:20250806T174153Z
LAST-MODIFIED:20250806T174155Z
UID:45865-1758740400-1758747600@shapeshifterplus.org
SUMMARY:ShapeShifter - The New JAM
DESCRIPTION:ShapeShifter Lab is where outside-the-box thinkers find their creative home – JAM with us!
URL:https://shapeshifterplus.org/event/shapeshifter-the-new-jam-7/
LOCATION:ShapeShifter Lab\, 837 Union Street\, Ground Floor\, Brooklyn\, NY\, 11215\, United States
ATTACH;FMTTYPE=image/jpeg:https://shapeshifterplus.org/wp-content/uploads/2025/08/82f4ab27f4fa5abb10f6e36fde20dcbc-H2s3Ez.tmp_.jpg
END:VEVENT
BEGIN:VEVENT
DTSTART;TZID=America/New_York:20250924T213000
DTEND;TZID=America/New_York:20250924T223000
DTSTAMP:20260423T172935
CREATED:20250911T023735Z
LAST-MODIFIED:20250924T153529Z
UID:46058-1758749400-1758753000@shapeshifterplus.org
SUMMARY:Garden Mini Project
DESCRIPTION:Blend of pop\, jazz\, R&B\, and Chinese folk influenced music\n\n\nVivi Hu is a multi-talented artist whose music weaves from her heritage\, deep faith\, and love for life into a unique blend of pop\, jazz\, R&B\, and Chinese folk influences. Her heartfelt compositions explore themes of love\, hope\, and resilience\, offering a meditative and uplifting experience. \n\nVivi Hu – Vocal/Composition\nShereen Cheong – Keyboard\nAnthony Muthurajah – Bass / BGV\nNahshon Seville – Drums\nWei Sun – Guzheng\nPJ Brutzman – Guitar\nAlex Cummings – Flute / Sax / BGV\nMatthew Griffin – BGV
URL:https://shapeshifterplus.org/event/garden-mini-project/
LOCATION:ShapeShifter Lab\, 837 Union Street\, Ground Floor\, Brooklyn\, NY\, 11215\, United States
ATTACH;FMTTYPE=image/jpeg:https://shapeshifterplus.org/wp-content/uploads/2025/09/0b67e2a3a1100e3a6176bb9622e1f9b6-M7UvvJ.tmp_.jpg
END:VEVENT
END:VCALENDAR