BEGIN:VCALENDAR
VERSION:2.0
PRODID:-//ShapeShifter Plus - ECPv6.15.20//NONSGML v1.0//EN
CALSCALE:GREGORIAN
METHOD:PUBLISH
X-WR-CALNAME:ShapeShifter Plus
X-ORIGINAL-URL:https://shapeshifterplus.org
X-WR-CALDESC:Events for ShapeShifter Plus
REFRESH-INTERVAL;VALUE=DURATION:PT1H
X-Robots-Tag:noindex
X-PUBLISHED-TTL:PT1H
BEGIN:VTIMEZONE
TZID:America/New_York
BEGIN:DAYLIGHT
TZOFFSETFROM:-0500
TZOFFSETTO:-0400
TZNAME:EDT
DTSTART:20240310T070000
END:DAYLIGHT
BEGIN:STANDARD
TZOFFSETFROM:-0400
TZOFFSETTO:-0500
TZNAME:EST
DTSTART:20241103T060000
END:STANDARD
BEGIN:DAYLIGHT
TZOFFSETFROM:-0500
TZOFFSETTO:-0400
TZNAME:EDT
DTSTART:20250309T070000
END:DAYLIGHT
BEGIN:STANDARD
TZOFFSETFROM:-0400
TZOFFSETTO:-0500
TZNAME:EST
DTSTART:20251102T060000
END:STANDARD
BEGIN:DAYLIGHT
TZOFFSETFROM:-0500
TZOFFSETTO:-0400
TZNAME:EDT
DTSTART:20260308T070000
END:DAYLIGHT
BEGIN:STANDARD
TZOFFSETFROM:-0400
TZOFFSETTO:-0500
TZNAME:EST
DTSTART:20261101T060000
END:STANDARD
END:VTIMEZONE
BEGIN:VEVENT
DTSTART;TZID=America/New_York:20250922T190000
DTEND;TZID=America/New_York:20250922T200000
DTSTAMP:20260423T172932
CREATED:20250817T200948Z
LAST-MODIFIED:20250817T200951Z
UID:45994-1758567600-1758571200@shapeshifterplus.org
SUMMARY:Dahveed Behroozi Trio
DESCRIPTION:Dahveed Behroozi Trio unites piano\, bass & drums for a night of original music blending classical\, jazz & ambient worlds.\n\n\nPianist and composer Dahveed Behroozi’s expansive musical palette draws from Bach\, Brahms\, Schoenberg\, Alban Berg\, 20th-century jazz luminaries\, as well as rock and ambient influences. He has released 3 full-length records\, the most recent being Standard Fare (solo piano\, Sunnyside Records\, June 2023). \n \n\nDahveed Behroozi – piano\nThomas Morgan – bass\nRJ Miller – drums
URL:https://shapeshifterplus.org/event/dahveed-behroozi-trio/
LOCATION:ShapeShifter Lab\, 837 Union Street\, Ground Floor\, Brooklyn\, NY\, 11215\, United States
ATTACH;FMTTYPE=image/jpeg:https://shapeshifterplus.org/wp-content/uploads/2025/08/e39bdefeef20b66667e831603145ffc3-P1ViFX.tmp_.jpg
END:VEVENT
END:VCALENDAR