BEGIN:VCALENDAR
VERSION:2.0
PRODID:-//ShapeShifter Plus - ECPv6.15.20//NONSGML v1.0//EN
CALSCALE:GREGORIAN
METHOD:PUBLISH
X-WR-CALNAME:ShapeShifter Plus
X-ORIGINAL-URL:https://shapeshifterplus.org
X-WR-CALDESC:Events for ShapeShifter Plus
REFRESH-INTERVAL;VALUE=DURATION:PT1H
X-Robots-Tag:noindex
X-PUBLISHED-TTL:PT1H
BEGIN:VTIMEZONE
TZID:America/New_York
BEGIN:DAYLIGHT
TZOFFSETFROM:-0500
TZOFFSETTO:-0400
TZNAME:EDT
DTSTART:20240310T070000
END:DAYLIGHT
BEGIN:STANDARD
TZOFFSETFROM:-0400
TZOFFSETTO:-0500
TZNAME:EST
DTSTART:20241103T060000
END:STANDARD
BEGIN:DAYLIGHT
TZOFFSETFROM:-0500
TZOFFSETTO:-0400
TZNAME:EDT
DTSTART:20250309T070000
END:DAYLIGHT
BEGIN:STANDARD
TZOFFSETFROM:-0400
TZOFFSETTO:-0500
TZNAME:EST
DTSTART:20251102T060000
END:STANDARD
BEGIN:DAYLIGHT
TZOFFSETFROM:-0500
TZOFFSETTO:-0400
TZNAME:EDT
DTSTART:20260308T070000
END:DAYLIGHT
BEGIN:STANDARD
TZOFFSETFROM:-0400
TZOFFSETTO:-0500
TZNAME:EST
DTSTART:20261101T060000
END:STANDARD
END:VTIMEZONE
BEGIN:VEVENT
DTSTART;TZID=America/New_York:20250910T190000
DTEND;TZID=America/New_York:20250910T200000
DTSTAMP:20260423T172935
CREATED:20250806T174150Z
LAST-MODIFIED:20250910T232832Z
UID:45861-1757530800-1757534400@shapeshifterplus.org
SUMMARY:ShapeShifter - The New JAM
DESCRIPTION:ShapeShifter Lab is where outside-the-box thinkers find their creative home – JAM with us!
URL:https://shapeshifterplus.org/event/shapeshifter-the-new-jam-5/
LOCATION:ShapeShifter Lab\, 837 Union Street\, Ground Floor\, Brooklyn\, NY\, 11215\, United States
ATTACH;FMTTYPE=image/jpeg:https://shapeshifterplus.org/wp-content/uploads/2025/08/0769f7b8d8f2c55a236aedc81af6e98a-SZ3SFK.tmp_.jpg
END:VEVENT
BEGIN:VEVENT
DTSTART;TZID=America/New_York:20250910T203000
DTEND;TZID=America/New_York:20250910T213000
DTSTAMP:20260423T172935
CREATED:20250720T012625Z
LAST-MODIFIED:20250806T192820Z
UID:45768-1757536200-1757539800@shapeshifterplus.org
SUMMARY:Divi Roxx Band
DESCRIPTION:Divinity stands out as a transformative and inspiring figure in the music industry\, known for her extraordinary bass playing and dynamic art\n\n\nNew Show Date! \nDivinity stands out as a transformative and inspiring figure in the music industry\, known for her extraordinary bass playing and dynamic artistry. \n\nDivinity Roxx (lead vocals/bass)\,\nGranville Mullings Jr. (drums)\,\nWes Mingus (guitar)
URL:https://shapeshifterplus.org/event/divinity-roxx-trio-2/
LOCATION:ShapeShifter Lab\, 837 Union Street\, Ground Floor\, Brooklyn\, NY\, 11215\, United States
CATEGORIES:Live Music,Open Call Program
ATTACH;FMTTYPE=image/jpeg:https://shapeshifterplus.org/wp-content/uploads/2025/08/23c4653bd0520d8a7ff677e3bf3cb59e-tHL7vJ.tmp_.jpg
END:VEVENT
END:VCALENDAR