BEGIN:VCALENDAR
VERSION:2.0
PRODID:-//ShapeShifter Plus - ECPv6.15.20//NONSGML v1.0//EN
CALSCALE:GREGORIAN
METHOD:PUBLISH
X-ORIGINAL-URL:https://shapeshifterplus.org
X-WR-CALDESC:Events for ShapeShifter Plus
REFRESH-INTERVAL;VALUE=DURATION:PT1H
X-Robots-Tag:noindex
X-PUBLISHED-TTL:PT1H
BEGIN:VTIMEZONE
TZID:America/New_York
BEGIN:DAYLIGHT
TZOFFSETFROM:-0500
TZOFFSETTO:-0400
TZNAME:EDT
DTSTART:20240310T070000
END:DAYLIGHT
BEGIN:STANDARD
TZOFFSETFROM:-0400
TZOFFSETTO:-0500
TZNAME:EST
DTSTART:20241103T060000
END:STANDARD
BEGIN:DAYLIGHT
TZOFFSETFROM:-0500
TZOFFSETTO:-0400
TZNAME:EDT
DTSTART:20250309T070000
END:DAYLIGHT
BEGIN:STANDARD
TZOFFSETFROM:-0400
TZOFFSETTO:-0500
TZNAME:EST
DTSTART:20251102T060000
END:STANDARD
BEGIN:DAYLIGHT
TZOFFSETFROM:-0500
TZOFFSETTO:-0400
TZNAME:EDT
DTSTART:20260308T070000
END:DAYLIGHT
BEGIN:STANDARD
TZOFFSETFROM:-0400
TZOFFSETTO:-0500
TZNAME:EST
DTSTART:20261101T060000
END:STANDARD
END:VTIMEZONE
BEGIN:VEVENT
DTSTART;TZID=America/New_York:20250907T190000
DTEND;TZID=America/New_York:20250907T200000
DTSTAMP:20260423T172958
CREATED:20250719T074546Z
LAST-MODIFIED:20250820T225848Z
UID:45759-1757271600-1757275200@shapeshifterplus.org
SUMMARY:Feet Don’t Change
DESCRIPTION:“Feet Don’t Change” is an evening-length suite written for jazz quartet (saxophone\, piano\, acoustic bass\, and drums) and string quartet.\n\n\n“Feet Don’t Change” is an evening-length suite written for jazz quartet (saxophone\, piano\, acoustic bass\, and drums) and string quartet (two violins\, viola\, and cello). While primarily a jazz project\, this music is also influenced by 19th and 20th Century European Classical and Ghanaian musical styles. Far from depicting something exotic\, “Feet Don’t Change” gets to the heart of the music I have listened to for my entire life. It is intended to provide audiences a joyful listening experience that celebrates what we have in common during a historical moment that is more divided than ever. \n\nMax Bessesen saxophone\nJosh Henderson violin\nSunjay Jayaram violin\nKayla Williams viola\nRaffi Boden cello\nSimon Willson bass\nMike Piolet drums
URL:https://shapeshifterplus.org/event/feet-dont-change/
LOCATION:ShapeShifter Lab\, 837 Union Street\, Ground Floor\, Brooklyn\, NY\, 11215\, United States
CATEGORIES:Live Music,Open Call Program
ATTACH;FMTTYPE=image/jpeg:https://shapeshifterplus.org/wp-content/uploads/2025/07/1404ae904d846d11aa351b1765a99aea-dVmSSP.tmp_.jpg
END:VEVENT
END:VCALENDAR