BEGIN:VCALENDAR
VERSION:2.0
PRODID:-//ShapeShifter Plus - ECPv6.15.20//NONSGML v1.0//EN
CALSCALE:GREGORIAN
METHOD:PUBLISH
X-WR-CALNAME:ShapeShifter Plus
X-ORIGINAL-URL:https://shapeshifterplus.org
X-WR-CALDESC:Events for ShapeShifter Plus
REFRESH-INTERVAL;VALUE=DURATION:PT1H
X-Robots-Tag:noindex
X-PUBLISHED-TTL:PT1H
BEGIN:VTIMEZONE
TZID:America/Halifax
BEGIN:DAYLIGHT
TZOFFSETFROM:-0400
TZOFFSETTO:-0300
TZNAME:ADT
DTSTART:20230312T060000
END:DAYLIGHT
BEGIN:STANDARD
TZOFFSETFROM:-0300
TZOFFSETTO:-0400
TZNAME:AST
DTSTART:20231105T050000
END:STANDARD
BEGIN:DAYLIGHT
TZOFFSETFROM:-0400
TZOFFSETTO:-0300
TZNAME:ADT
DTSTART:20240310T060000
END:DAYLIGHT
BEGIN:STANDARD
TZOFFSETFROM:-0300
TZOFFSETTO:-0400
TZNAME:AST
DTSTART:20241103T050000
END:STANDARD
BEGIN:DAYLIGHT
TZOFFSETFROM:-0400
TZOFFSETTO:-0300
TZNAME:ADT
DTSTART:20250309T060000
END:DAYLIGHT
BEGIN:STANDARD
TZOFFSETFROM:-0300
TZOFFSETTO:-0400
TZNAME:AST
DTSTART:20251102T050000
END:STANDARD
END:VTIMEZONE
BEGIN:VEVENT
DTSTART;TZID=America/Halifax:20241120T190000
DTEND;TZID=America/Halifax:20241120T220000
DTSTAMP:20260421T040451
CREATED:20241117T224028Z
LAST-MODIFIED:20241117T224255Z
UID:42466-1732129200-1732140000@shapeshifterplus.org
SUMMARY:Singer-Songwriter Night: Pat Hull\, Kaylor Otwell\, EW Harris
DESCRIPTION:7pm – Pat Hull\n8pm – Kaylor Otwell\n9pm – EW Harris\n\n\n\n\n\n\nPat Hull:\nPat Hull is a singer-songwriter from Connecticut currently based out of Northern California. His music intertwines a melodic\, soulful\, counter-tenor vocal range with a unique finger picking style\, creating a dreamy landscape with unpredictable hooks and turns. Most of his songs are played on a nylon guitar\, adding a warmth and color to the sensitivity of Pat’s song writing. His latest studio album\, Madrona\, was recorded in Portland\, OR. This release\, as well as his back catalog\, showcase layered compositions\, songs written for piano\, and rich vocal harmonies.\n\nKaylor Otwell:\nKaylor Otwell is an Americana singer-songwriter\, actor\, and visual artist. Originally from Birmingham\, Alabama\, Otwell was born and bred on the country and blues music of the South\, and started writing songs and performing as a young child. Growing up in church choirs\, she fell in love with multi-voice harmony – something she still incorporates into her music. Post-college she formed her band\, The Tin Cans\, and began performing her own songs regularly. Her first self-titled album was recorded live at 2nd Row Studio and released in 2010. “Hell or High Water\,” her sophomore EP\, was published in 2016. Otwell took her musical talents to New York City in 2017 and began preforming under her own name. She has graced the stage of many iconic venues there with her band. Recently Otwell completed a third\, full-length studio album\, “Pioneer\,” which is set to be released in 2025. The album was recorded at the legendary Blackbird Studios and produced at The Studio Nashville.\n\nE.W. Harris:\nE.W. Harris is a Rust Belt born\, Southern wrought\, alt-folk singer/songwriter\, producer\, and artist based in Brooklyn\, NY. A self-styled “Dystopian Romantic\,” Harris combines sonic textures\, memorable melodies\, and powerful vocals to create music he calls “speculative folk.” At present\, he can be found throughout the northeastern US performing in anticipation of his forthcoming release Machine Living In Relief\, joined by his band The Zero Saga featuring bassist Georgia Weber\, drummer Sonny Ratcliff\, and multi-instrumentalist Ginja Skwurl.\n\n\n\n\n\n  \nDoors at 6:30 pm;\nonline ticket sales close 30 mins before the 1st set.\ntickets are available at door for sale but get your tickets asap!
URL:https://shapeshifterplus.org/event/pat-hull-kaylor-otwell-ew-harris/
LOCATION:ShapeShifter Lab\, 837 Union Street\, Ground Floor\, Brooklyn\, NY\, 11215\, United States
CATEGORIES:Live Music,Open Call Program
ATTACH;FMTTYPE=image/png:https://shapeshifterplus.org/wp-content/uploads/2024/11/Promo-image-Nov-20-Kaylor-Otwell.png
END:VEVENT
END:VCALENDAR