BEGIN:VCALENDAR
VERSION:2.0
PRODID:-//ShapeShifter Plus - ECPv6.15.20//NONSGML v1.0//EN
CALSCALE:GREGORIAN
METHOD:PUBLISH
X-ORIGINAL-URL:https://shapeshifterplus.org
X-WR-CALDESC:Events for ShapeShifter Plus
REFRESH-INTERVAL;VALUE=DURATION:PT1H
X-Robots-Tag:noindex
X-PUBLISHED-TTL:PT1H
BEGIN:VTIMEZONE
TZID:America/Halifax
BEGIN:DAYLIGHT
TZOFFSETFROM:-0400
TZOFFSETTO:-0300
TZNAME:ADT
DTSTART:20230312T060000
END:DAYLIGHT
BEGIN:STANDARD
TZOFFSETFROM:-0300
TZOFFSETTO:-0400
TZNAME:AST
DTSTART:20231105T050000
END:STANDARD
BEGIN:DAYLIGHT
TZOFFSETFROM:-0400
TZOFFSETTO:-0300
TZNAME:ADT
DTSTART:20240310T060000
END:DAYLIGHT
BEGIN:STANDARD
TZOFFSETFROM:-0300
TZOFFSETTO:-0400
TZNAME:AST
DTSTART:20241103T050000
END:STANDARD
BEGIN:DAYLIGHT
TZOFFSETFROM:-0400
TZOFFSETTO:-0300
TZNAME:ADT
DTSTART:20250309T060000
END:DAYLIGHT
BEGIN:STANDARD
TZOFFSETFROM:-0300
TZOFFSETTO:-0400
TZNAME:AST
DTSTART:20251102T050000
END:STANDARD
END:VTIMEZONE
BEGIN:VEVENT
DTSTART;TZID=America/Halifax:20241103T090000
DTEND;TZID=America/Halifax:20241103T103000
DTSTAMP:20260421T052219
CREATED:20241102T230506Z
LAST-MODIFIED:20241220T223336Z
UID:42002-1730624400-1730629800@shapeshifterplus.org
SUMMARY:Diving Deeper - Mixed Level Iyengar Yoga
DESCRIPTION:Diving Deeper – Mixed Level Iyengar Yoga\n  \nSUNDAYS 9 am to 10:30 am \n$25 \n  \nPay Online or Pay In Person! \n  \nSeasoned and dynamic instructor Lara Warren invites you to reconnect with your practice and explore new depths in her weekly classes and immersive monthly workshops! \nThis mixed level Iyengar Yoga class is designed for you to explore more complex poses and to dive deeper into your practice. You will observe the subtle connections in the body\, and the role of the breath and mind in refining our actions and experiences within the asanas. \nExpect to learn the difference between healthy and unhealthy will power\, that in turn supports remaining in the asanas longer and with ease. \n  \nAge Group: Adult \nClass Length: 90 min. \nLevel: Mixed \n  \nPlease Note: \n\nDoors open 15 min before class.\nWear comfy\, easy to move in clothing.\nBring your own mat\, optional.\nBe prepared to remove shoes when entering studio.\n\n  \nThank you! 🙂 \n  \nCLASS DATES: \nSUNDAY SEPT. 8TH – SUNDAY DEC. 29TH
URL:https://shapeshifterplus.org/event/diving-deeper-mixed-level-iyengar-yoga/
LOCATION:ShapeShifter Lab\, 837 Union Street\, Ground Floor\, Brooklyn\, NY\, 11215\, United States
CATEGORIES:Education,Movement Arts Program MAP
END:VEVENT
BEGIN:VEVENT
DTSTART;TZID=America/Halifax:20241117T100000
DTEND;TZID=America/Halifax:20241117T110000
DTSTAMP:20260421T052219
CREATED:20241027T142247Z
LAST-MODIFIED:20241114T190345Z
UID:41800-1731837600-1731841200@shapeshifterplus.org
SUMMARY:Ravioli Cooking Lab by Allora
DESCRIPTION:Class Experience\n\n  \nJoin us for a delightful Ravioli Cooking Class designed for children and their caregivers! In this hands-on experience\, participants will learn how to make fresh ricotta cheese and spinach ravioli from scratch under the expert guidance of our talented Chef Valentina. \n2.5 yrs – 10 yrs \nClass Highlights: \n\n\n\nHands-On Cooking: Together\, you and your little chef will mix\, knead\, and roll out the dough\, and then fill the ravioli with ricotta and spinach. Chef Valentina will share tips and techniques to make the perfect pasta!\nBring home your creation: children will bring home their raw ravioli in a beautiful box\, to be cooked and shared with the rest of their family. A certificate of completion will be given to each participant.\nTaste Testing: everyone will gather to sample some ravioli with butter and parmesan cheese prepared by our chef.\n\n\n\n \nThis class is a wonderful opportunity for bonding\, learning\, and enjoying a delicious meal together. Bring your aprons and get ready for a fun-filled culinary adventure! \nREGISTER HERE
URL:https://shapeshifterplus.org/event/ravioli-cooking-lab-by-allora/
LOCATION:ShapeShifter Lab\, 837 Union Street\, Ground Floor\, Brooklyn\, NY\, 11215\, United States
CATEGORIES:Kids Class
ATTACH;FMTTYPE=image/webp:https://shapeshifterplus.org/wp-content/uploads/2024/10/IMG_9973.webp
END:VEVENT
BEGIN:VEVENT
DTSTART;TZID=America/Halifax:20241117T100000
DTEND;TZID=America/Halifax:20241117T110000
DTSTAMP:20260421T052219
CREATED:20241103T205902Z
LAST-MODIFIED:20241103T205902Z
UID:42045-1731837600-1731841200@shapeshifterplus.org
SUMMARY:Cooking with my child
DESCRIPTION:Cooking with my child: Ravioli Workshop\n\n\nClass Experience\n\n2.5-10 yrs \nJoin us for a delightful Ravioli Cooking Class designed for children and their caregivers! In this hands-on experience\, participants will learn how to make fresh ricotta cheese and spinach ravioli from scratch under the expert guidance of our talented Chef Valentina. \nClass Highlights: \n\n\n\n\nHands-On Cooking: Together\, you and your little chef will mix\, knead\, and roll out the dough\, and then fill the ravioli with ricotta and spinach. Chef Valentina will share tips and techniques to make the perfect pasta!\n\nBring home your creation: children will bring home their raw ravioli in a beautiful box\, to be cooked and shared with the rest of their family. A certificate of completion will be given to each participant.\n\nTaste Testing: everyone will gather to sample some ravioli with butter and parmesan cheese prepared by our chef.\n\n\n\nThis class is a wonderful opportunity for bonding\, learning\, and enjoying a delicious meal together. Bring your aprons and get ready for a fun-filled culinary adventure!
URL:https://shapeshifterplus.org/event/cooking-allora-ravioli/
LOCATION:ShapeShifter Lab\, 837 Union Street\, Ground Floor\, Brooklyn\, NY\, 11215\, United States
ATTACH;FMTTYPE=image/webp:https://shapeshifterplus.org/wp-content/uploads/2024/11/Cooking-Workshop-series-4.webp
END:VEVENT
BEGIN:VEVENT
DTSTART;TZID=America/Halifax:20241103T110000
DTEND;TZID=America/Halifax:20241103T170000
DTSTAMP:20260421T052219
CREATED:20241103T210417Z
LAST-MODIFIED:20241103T210417Z
UID:42050-1730631600-1730653200@shapeshifterplus.org
SUMMARY:The Fat Cats Youth Orchestra Open Workshop and Rehearsals
DESCRIPTION:The Fat Cats Youth Orchestra Open Workshop and Rehearsals Weekly at ShapeShifter\n  \nSparkling with the sound of young talent\, The Fat Cats is a pre-professional youth orchestra. The group is composed of one big band and two small ensembles that perform Latin jazz and standard jazz pieces and showcase the finest young talent from across all NYC boroughs. \nFounded in 2010 by Arturo O’Farril and managed by the Afro Latin Jazz Alliance\,  The Fat Cats is led by Zack O’Farrill with Afro Latin Jazz Orchestra members Jim Seeley\, Berta Moreno\, and Jasim Perales\, as well as Arthur Alvarez and Adam Baksh-García. \nOver the years\, The Fat Cats have taken the stage at New York venues such as the Brooklyn Museum\, New York Library for the Performing Arts at Lincoln Center\, the Frick Collection\, the Greene Space at WNYC\, BRIC House\, Birdland and Brooklyn’s Shapeshifter Lab who has welcomed the band for weekly rehearsals since their 2023-2024 season.
URL:https://shapeshifterplus.org/event/fat-cats-youth-orchestra-open-workshop-and-rehearsals-fall2024/
LOCATION:ShapeShifter Lab 2nd Floor\, 837 Union Street\, 2nd Foor\, Brooklyn\, NY\, 11215\, United States
CATEGORIES:Education,Live Music
ATTACH;FMTTYPE=image/png:https://shapeshifterplus.org/wp-content/uploads/2023/11/Screenshot-2023-11-03-at-12.59.08-PM.png
END:VEVENT
BEGIN:VEVENT
DTSTART;TZID=America/Halifax:20241117T190000
DTEND;TZID=America/Halifax:20241117T220000
DTSTAMP:20260421T052219
CREATED:20241022T045856Z
LAST-MODIFIED:20241113T153412Z
UID:41707-1731870000-1731880800@shapeshifterplus.org
SUMMARY:A Memorial and Musical Celebration of the Life of Jay Clayton
DESCRIPTION:A memorial and musical celebration of the life of Jay Clayton\, hosted by her daughter\, Dejha Colantuono and J. Anthony Granelli. This special event will feature performances by Jay’s former students\, musical friends\, and collaborators\, all coming together to honor her legacy as a world-renowned jazz singer\, vocal innovator\, improviser\, educator\, mentor\, and beloved mother\, grandmother\, and friend.\nWe will celebrate her extraordinary talent\, quiet humility\, and infectious humor that touched everyone who knew her. Jay was more than a musical pioneer; she was a beacon of inspiration\, always encouraging those around her to embrace their own creative self-expression. Let us gather to remember her wisdom\, boundless love\, and unwavering grace\, and to celebrate the profound impact she made on all of our lives.
URL:https://shapeshifterplus.org/event/jay-clayton/
LOCATION:ShapeShifter Lab\, 837 Union Street\, Ground Floor\, Brooklyn\, NY\, 11215\, United States
ATTACH;FMTTYPE=image/jpeg:https://shapeshifterplus.org/wp-content/uploads/2024/10/MamaJayConcertNov2024-4-MamaJayConcert_PosterB-scaled.jpg
END:VEVENT
END:VCALENDAR