BEGIN:VCALENDAR
VERSION:2.0
PRODID:-//ShapeShifter Plus - ECPv6.15.20//NONSGML v1.0//EN
CALSCALE:GREGORIAN
METHOD:PUBLISH
X-ORIGINAL-URL:https://shapeshifterplus.org
X-WR-CALDESC:Events for ShapeShifter Plus
REFRESH-INTERVAL;VALUE=DURATION:PT1H
X-Robots-Tag:noindex
X-PUBLISHED-TTL:PT1H
BEGIN:VTIMEZONE
TZID:America/Halifax
BEGIN:DAYLIGHT
TZOFFSETFROM:-0400
TZOFFSETTO:-0300
TZNAME:ADT
DTSTART:20230312T060000
END:DAYLIGHT
BEGIN:STANDARD
TZOFFSETFROM:-0300
TZOFFSETTO:-0400
TZNAME:AST
DTSTART:20231105T050000
END:STANDARD
BEGIN:DAYLIGHT
TZOFFSETFROM:-0400
TZOFFSETTO:-0300
TZNAME:ADT
DTSTART:20240310T060000
END:DAYLIGHT
BEGIN:STANDARD
TZOFFSETFROM:-0300
TZOFFSETTO:-0400
TZNAME:AST
DTSTART:20241103T050000
END:STANDARD
BEGIN:DAYLIGHT
TZOFFSETFROM:-0400
TZOFFSETTO:-0300
TZNAME:ADT
DTSTART:20250309T060000
END:DAYLIGHT
BEGIN:STANDARD
TZOFFSETFROM:-0300
TZOFFSETTO:-0400
TZNAME:AST
DTSTART:20251102T050000
END:STANDARD
END:VTIMEZONE
BEGIN:VEVENT
DTSTART;TZID=America/Halifax:20241113T120000
DTEND;TZID=America/Halifax:20241113T150000
DTSTAMP:20260421T040503
CREATED:20241103T002349Z
LAST-MODIFIED:20241103T002349Z
UID:42012-1731499200-1731510000@shapeshifterplus.org
SUMMARY:Workshops & Jam Sessions Hosted by Matt Garrison
DESCRIPTION:Wednesdays. 12pm-12:45pm \nWorkshop\, 1pm-3pm \n  \nWorkshops & Jam Sessions Hosted by Matt Garrison @ShapeShifterLab \nWednesdays November 6 and 13\, 2024 \n\n\n12pm-12:45 pm Workshop: Jam Session Ideas/Approaches \n\n\n\nMatt will discuss how the Jam Sessions he hosts can and will be approached.\nHe will discuss: Songs\, Forms\, Improvisation\, Dynamics\, Tempos\, Feel\, Genres\, Technique\, Emotional State and other important topics that will set the stage for the actual ShapeShifter Lab Jam Session.\nHe feels that doing so will give a strong basis for all jammers to get a sense of what’s possible.\nThe further idea of the workshop is to trigger a conversation\, spark ideas and open the floor for clear dialogue about a possible set of Jam Session frameworks.\nAll Experience levels welcome! FREE!\n\n\n\n1pm-3pm Jam Session
URL:https://shapeshifterplus.org/event/workshops-jam-sessions-hosted-by-matt-garrison-12/
LOCATION:ShapeShifter Lab\, 837 Union Street\, Ground Floor\, Brooklyn\, NY\, 11215\, United States
CATEGORIES:Live Music,Open Jam
ATTACH;FMTTYPE=image/png:https://shapeshifterplus.org/wp-content/uploads/2024/11/Matt-Garrison-Workshop-and-Jam-4.png
END:VEVENT
BEGIN:VEVENT
DTSTART;TZID=America/Halifax:20241113T200000
DTEND;TZID=America/Halifax:20241113T210000
DTSTAMP:20260421T040503
CREATED:20241021T185648Z
LAST-MODIFIED:20241114T012537Z
UID:41695-1731528000-1731531600@shapeshifterplus.org
SUMMARY:Ester Wiesnerova: Blue Journal
DESCRIPTION:Ester Wiesnerova is a Slovak vocalist and composer whose music bridges contemporary jazz and poetic storytelling. Her album “Blue Journal” features original compositions in Slovak and English\, performed by an unusual quintet featuring harp and percussion. Praised as “an artist of rare imagination and formidable arranging skills” (JazzWise\, UK)\, Ester’s voice is described as a “warm\, inviting\, whispered breath” (The Whole Note\, CA) and “manifesting itself quietly and with great gravity” (All About Jazz\, US). Recognized by Forbes in their 30 under 30 and considered for Grammy awards in two categories\, Ester’s poetic depth and distinctive artistry leave a lasting impression on all careful listeners. \n\nsaxophone – Sam Knight\, \nharp – Riza Printup\, \nbass – Chris Worden\, \npercussion – Keita Ogawa \n\nDoors open 30 mins prior to showtime;\nonline ticket sales ends 30 mins prior to show;\ntickets at door =$25
URL:https://shapeshifterplus.org/event/ester-wiesnerova/
LOCATION:ShapeShifter Lab\, 837 Union Street\, Ground Floor\, Brooklyn\, NY\, 11215\, United States
CATEGORIES:Live Music,Open Call Program
ATTACH;FMTTYPE=image/jpeg:https://shapeshifterplus.org/wp-content/uploads/2024/10/Blue-Journal-foto-titulka-Ester-Wiesnerova.jpg
END:VEVENT
END:VCALENDAR