BEGIN:VCALENDAR
VERSION:2.0
PRODID:-//ShapeShifter Plus - ECPv6.15.20//NONSGML v1.0//EN
CALSCALE:GREGORIAN
METHOD:PUBLISH
X-ORIGINAL-URL:https://shapeshifterplus.org
X-WR-CALDESC:Events for ShapeShifter Plus
REFRESH-INTERVAL;VALUE=DURATION:PT1H
X-Robots-Tag:noindex
X-PUBLISHED-TTL:PT1H
BEGIN:VTIMEZONE
TZID:America/Halifax
BEGIN:DAYLIGHT
TZOFFSETFROM:-0400
TZOFFSETTO:-0300
TZNAME:ADT
DTSTART:20230312T060000
END:DAYLIGHT
BEGIN:STANDARD
TZOFFSETFROM:-0300
TZOFFSETTO:-0400
TZNAME:AST
DTSTART:20231105T050000
END:STANDARD
BEGIN:DAYLIGHT
TZOFFSETFROM:-0400
TZOFFSETTO:-0300
TZNAME:ADT
DTSTART:20240310T060000
END:DAYLIGHT
BEGIN:STANDARD
TZOFFSETFROM:-0300
TZOFFSETTO:-0400
TZNAME:AST
DTSTART:20241103T050000
END:STANDARD
BEGIN:DAYLIGHT
TZOFFSETFROM:-0400
TZOFFSETTO:-0300
TZNAME:ADT
DTSTART:20250309T060000
END:DAYLIGHT
BEGIN:STANDARD
TZOFFSETFROM:-0300
TZOFFSETTO:-0400
TZNAME:AST
DTSTART:20251102T050000
END:STANDARD
END:VTIMEZONE
BEGIN:VEVENT
DTSTART;TZID=America/Halifax:20240904T120000
DTEND;TZID=America/Halifax:20240904T150000
DTSTAMP:20260421T112020
CREATED:20240902T191318Z
LAST-MODIFIED:20240902T192908Z
UID:16634-1725451200-1725462000@shapeshifterplus.org
SUMMARY:Workshops & Jam Sessions Hosted by Matt Garrison
DESCRIPTION:Wednesdays. 12pm-12:45pm \nWorkshop\, 1pm-3pm \n  \nWorkshops & Jam Sessions Hosted by Matt Garrison @ShapeShifterLab \nEvery Wednesday in Sept\, 2024 \n\n\n12pm-12:45 pm Workshop: Jam Session Ideas/Approaches \n\n\n\nMatt will discuss how the Jam Sessions he hosts can and will be approached.\nHe will discuss: Songs\, Forms\, Improvisation\, Dynamics\, Tempos\, Feel\, Genres\, Technique\, Emotional State and other important topics that will set the stage for the actual ShapeShifter Lab Jam Session.\nHe feels that doing so will give a strong basis for all jammers to get a sense of what’s possible.\nThe further idea of the workshop is to trigger a conversation\, spark ideas and open the floor for clear dialogue about a possible set of Jam Session frameworks.\nAll Experience levels welcome! FREE!\n\n\n\n1pm-3pm Jam Session
URL:https://shapeshifterplus.org/event/workshop-jam-matt-garrison/
LOCATION:ShapeShifter Lab\, 837 Union Street\, Ground Floor\, Brooklyn\, NY\, 11215\, United States
CATEGORIES:Live Music,Open Jam
ATTACH;FMTTYPE=image/png:https://shapeshifterplus.org/wp-content/uploads/2024/09/Matt-Garrison-Workshop-and-Jam.png
END:VEVENT
BEGIN:VEVENT
DTSTART;TZID=America/Halifax:20240918T183000
DTEND;TZID=America/Halifax:20240918T203000
DTSTAMP:20260421T112020
CREATED:20240819T021616Z
LAST-MODIFIED:20240918T211753Z
UID:16289-1726684200-1726691400@shapeshifterplus.org
SUMMARY:Unwine - Wine painting event guided by artist Maria Paula Rennis
DESCRIPTION:Unwine – Wine painting event guided by artist Maria Paula Rennis\n$40\nUnwine is a 2-hour fun guided workshop integrating interesting subjects while experimenting in painting with wine. And tasting some too! \nPaula is an Artist\, Designer and Educator focusing on female abstract painting. She has been showing women’s strength in her large screaming-in-color women to protest against censorship.\nArgentinean by nature\, New Yorker by heart she will be guiding this event with a lot of humor. \nwww.mariapaularennis.com\n@mariapaularennis \nEVENT INCLUDES:\n2hrs with Instructor guiding\, a glass of wine + all materials needed.\nOnly 15 spots available.\n$40 \n 
URL:https://shapeshifterplus.org/event/paula-unwine-1/
LOCATION:ShapeShifter Lab\, 837 Union Street\, Ground Floor\, Brooklyn\, NY\, 11215\, United States
CATEGORIES:Visual Art
ATTACH;FMTTYPE=image/jpeg:https://shapeshifterplus.org/wp-content/uploads/2024/08/Unwine-IG-HR-Paula-Rennis.jpg
END:VEVENT
END:VCALENDAR