BEGIN:VCALENDAR
VERSION:2.0
PRODID:-//ShapeShifter Plus - ECPv6.15.20//NONSGML v1.0//EN
CALSCALE:GREGORIAN
METHOD:PUBLISH
X-WR-CALNAME:ShapeShifter Plus
X-ORIGINAL-URL:https://shapeshifterplus.org
X-WR-CALDESC:Events for ShapeShifter Plus
REFRESH-INTERVAL;VALUE=DURATION:PT1H
X-Robots-Tag:noindex
X-PUBLISHED-TTL:PT1H
BEGIN:VTIMEZONE
TZID:America/Halifax
BEGIN:DAYLIGHT
TZOFFSETFROM:-0400
TZOFFSETTO:-0300
TZNAME:ADT
DTSTART:20230312T060000
END:DAYLIGHT
BEGIN:STANDARD
TZOFFSETFROM:-0300
TZOFFSETTO:-0400
TZNAME:AST
DTSTART:20231105T050000
END:STANDARD
BEGIN:DAYLIGHT
TZOFFSETFROM:-0400
TZOFFSETTO:-0300
TZNAME:ADT
DTSTART:20240310T060000
END:DAYLIGHT
BEGIN:STANDARD
TZOFFSETFROM:-0300
TZOFFSETTO:-0400
TZNAME:AST
DTSTART:20241103T050000
END:STANDARD
BEGIN:DAYLIGHT
TZOFFSETFROM:-0400
TZOFFSETTO:-0300
TZNAME:ADT
DTSTART:20250309T060000
END:DAYLIGHT
BEGIN:STANDARD
TZOFFSETFROM:-0300
TZOFFSETTO:-0400
TZNAME:AST
DTSTART:20251102T050000
END:STANDARD
END:VTIMEZONE
BEGIN:VEVENT
DTSTART;TZID=America/Halifax:20240916T190000
DTEND;TZID=America/Halifax:20240916T200000
DTSTAMP:20260421T140808
CREATED:20240820T075409Z
LAST-MODIFIED:20240829T051327Z
UID:16310-1726513200-1726516800@shapeshifterplus.org
SUMMARY:Sam Konin Trio
DESCRIPTION:Sam Konin is an acclaimed young electric and upright bassist. At 15 years old has worked with the likes of Johnathan Blake\, Dayna Stephens\, Ben Solomon\, and Gilad Hekselman\, among others. A native of New Jersey\, he performs regularly across NJ and New York City. Joining him on his first NYC date as a bandleader are tenor saxophonist Mark Shim and drummer Jongkuk Kim. This trio’s unique layout was designed to allow Konin to take a more chordal approach\, expanding the traditional role of the electric bass. \n  \nSam Konin: electric bass\nMark Shim: saxophone and EWI\nJongkuk Kim: drums
URL:https://shapeshifterplus.org/event/konin/
LOCATION:ShapeShifter Lab\, 837 Union Street\, Ground Floor\, Brooklyn\, NY\, 11215\, United States
CATEGORIES:Live Music,Open Call Program
ATTACH;FMTTYPE=image/png:https://shapeshifterplus.org/wp-content/uploads/2024/08/Untitled-design-Sam-Konin.png
END:VEVENT
END:VCALENDAR