BEGIN:VCALENDAR
VERSION:2.0
PRODID:-//ShapeShifter Plus - ECPv6.15.20//NONSGML v1.0//EN
CALSCALE:GREGORIAN
METHOD:PUBLISH
X-ORIGINAL-URL:https://shapeshifterplus.org
X-WR-CALDESC:Events for ShapeShifter Plus
REFRESH-INTERVAL;VALUE=DURATION:PT1H
X-Robots-Tag:noindex
X-PUBLISHED-TTL:PT1H
BEGIN:VTIMEZONE
TZID:America/Halifax
BEGIN:DAYLIGHT
TZOFFSETFROM:-0400
TZOFFSETTO:-0300
TZNAME:ADT
DTSTART:20230312T060000
END:DAYLIGHT
BEGIN:STANDARD
TZOFFSETFROM:-0300
TZOFFSETTO:-0400
TZNAME:AST
DTSTART:20231105T050000
END:STANDARD
BEGIN:DAYLIGHT
TZOFFSETFROM:-0400
TZOFFSETTO:-0300
TZNAME:ADT
DTSTART:20240310T060000
END:DAYLIGHT
BEGIN:STANDARD
TZOFFSETFROM:-0300
TZOFFSETTO:-0400
TZNAME:AST
DTSTART:20241103T050000
END:STANDARD
BEGIN:DAYLIGHT
TZOFFSETFROM:-0400
TZOFFSETTO:-0300
TZNAME:ADT
DTSTART:20250309T060000
END:DAYLIGHT
BEGIN:STANDARD
TZOFFSETFROM:-0300
TZOFFSETTO:-0400
TZNAME:AST
DTSTART:20251102T050000
END:STANDARD
END:VTIMEZONE
BEGIN:VEVENT
DTSTART;TZID=America/Halifax:20240915T103000
DTEND;TZID=America/Halifax:20240915T120000
DTSTAMP:20260421T154130
CREATED:20240914T163343Z
LAST-MODIFIED:20240914T163641Z
UID:17100-1726396200-1726401600@shapeshifterplus.org
SUMMARY:Movement Arts Program: Diving Deeper - Mixed Level Iyengar Yoga
DESCRIPTION:Diving Deeper – Mixed Level Iyengar Yoga\n  \nSUNDAYS 10:30am-12pm \n$25 \n  \nPay Online or Pay In Person! \n  \nSeasoned and dynamic instructor Lara Warren invites you to reconnect with your practice and explore new depths in her weekly classes and immersive monthly workshops! \nThis mixed level Iyengar Yoga class is designed for you to explore more complex poses and to dive deeper into your practice. You will observe the subtle connections in the body\, and the role of the breath and mind in refining our actions and experiences within the asanas. \nExpect to learn the difference between healthy and unhealthy will power\, that in turn supports remaining in the asanas longer and with ease. \n  \nAge Group: Adult \nClass Length: 90 min. \nLevel: Mixed \n  \nPlease Note: \n\nDoors open 15 min before class.\nWear comfy\, easy to move in clothing.\nBring your own mat\, optional.\nBe prepared to remove shoes when entering studio.
URL:https://shapeshifterplus.org/event/movement-arts-program-diving-deeper-mixed-level-iyengar-yoga/
LOCATION:ShapeShifter Lab\, 837 Union Street\, Ground Floor\, Brooklyn\, NY\, 11215\, United States
CATEGORIES:Education,Movement Arts Program MAP
END:VEVENT
BEGIN:VEVENT
DTSTART;TZID=America/Halifax:20240915T190000
DTEND;TZID=America/Halifax:20240915T200000
DTSTAMP:20260421T154130
CREATED:20240723T041813Z
LAST-MODIFIED:20240723T041813Z
UID:15677-1726426800-1726430400@shapeshifterplus.org
SUMMARY:Buffi Jacobs Live Cello Looping Immersive
DESCRIPTION:Buffi Jacobs – Cello \nJoel Olivas – Visuals \n  \nBuffi Jacobs\, a distinguished modernistic cellist and composer\, currently resides in the vibrant New York City. Celebrated for her role in The Polyphonic Spree\, Jacobs is renowned for her enthralling performances\, innovative compositions\, and complex arrangements. Her career\, spanning over three decades\, is marked by a continuous exploration of new artistic dimensions\, pushing the limits of musical expression and captivating audiences with her distinctive performances. \nHer most recent project\, “Solitary Contemplations\,” is a poignant collection of compositions born out of the isolation experienced during the pandemic\, and is visually enhanced by Joel Olivas. This artistic venture began as Jacobs was transitioning from the national tour of “Hamilton” to a new chapter in New York City. However\, her move was soon eclipsed by the city’s lockdown\, which forced her into solitude in an environment that was still new and unfamiliar. The compositions in this collection deeply reflect her experiences during this challenging time\, capturing a wide range of emotions and thoughts she faced while isolated in a city that was yet to feel like home. Including both original works and reimagined pieces\, “Solitary Contemplations” provides a deep and introspective look into Jacobs’ experiences of solitude during the pandemic.
URL:https://shapeshifterplus.org/event/buffi-jacobs/
LOCATION:ShapeShifter Lab\, 837 Union Street\, Ground Floor\, Brooklyn\, NY\, 11215\, United States
CATEGORIES:Live Music,Open Call Program
ATTACH;FMTTYPE=image/png:https://shapeshifterplus.org/wp-content/uploads/2024/07/Solitary-Contemplations_V4-with-words-Buffi-Jacobs.png
END:VEVENT
END:VCALENDAR