BEGIN:VCALENDAR
VERSION:2.0
PRODID:-//ShapeShifter Plus - ECPv6.15.20//NONSGML v1.0//EN
CALSCALE:GREGORIAN
METHOD:PUBLISH
X-WR-CALNAME:ShapeShifter Plus
X-ORIGINAL-URL:https://shapeshifterplus.org
X-WR-CALDESC:Events for ShapeShifter Plus
REFRESH-INTERVAL;VALUE=DURATION:PT1H
X-Robots-Tag:noindex
X-PUBLISHED-TTL:PT1H
BEGIN:VTIMEZONE
TZID:America/Halifax
BEGIN:DAYLIGHT
TZOFFSETFROM:-0400
TZOFFSETTO:-0300
TZNAME:ADT
DTSTART:20230312T060000
END:DAYLIGHT
BEGIN:STANDARD
TZOFFSETFROM:-0300
TZOFFSETTO:-0400
TZNAME:AST
DTSTART:20231105T050000
END:STANDARD
BEGIN:DAYLIGHT
TZOFFSETFROM:-0400
TZOFFSETTO:-0300
TZNAME:ADT
DTSTART:20240310T060000
END:DAYLIGHT
BEGIN:STANDARD
TZOFFSETFROM:-0300
TZOFFSETTO:-0400
TZNAME:AST
DTSTART:20241103T050000
END:STANDARD
BEGIN:DAYLIGHT
TZOFFSETFROM:-0400
TZOFFSETTO:-0300
TZNAME:ADT
DTSTART:20250309T060000
END:DAYLIGHT
BEGIN:STANDARD
TZOFFSETFROM:-0300
TZOFFSETTO:-0400
TZNAME:AST
DTSTART:20251102T050000
END:STANDARD
END:VTIMEZONE
BEGIN:VEVENT
DTSTART;TZID=America/Halifax:20240906T170000
DTEND;TZID=America/Halifax:20240906T183000
DTSTAMP:20260421T065244
CREATED:20240902T161010Z
LAST-MODIFIED:20240902T161058Z
UID:16624-1725642000-1725647400@shapeshifterplus.org
SUMMARY:Movement Arts Program: YOGA & MUSIC MEDITATION WITH HILLAI GOVREEN
DESCRIPTION:YOGA & MUSIC MEDITATION\nTaught by HILLAI GOVREEN \n  \nFRIDAYS 5-6:30pm \n$18 \n  \nPay Online or Pay In Person! \n  \nJoin Hillai in a unique class that blends her passions for yoga\, teaching\, and music! Firmly grounded in the conviction that yoga offers profound benefits for students of all ages\, abilities\, and experience levels\, this inclusive\, all-level class emphasizes breath-work\, meditation\, and incorporates sound as a powerful tool for mindfulness. \nRecommended for musicians\, this class aims to improve awareness of the body and a conscious state while playing\, as well as help alleviate the physical strains associated with playing instruments. \n  \nAge Group: Adult \nClass Length: 90 min. \nLevel: All Levels \n  \nPlease Note: \n\nDoors open 15 min before class.\nWear comfy\, easy to move in clothing.\nChanging space is limited.\nBring your own mat\, optional.\nBring an instrument\, optional.\nBe prepared to remove shoes when entering studio.\n\n  \nThank you! 🙂 \n  \nCLASS DATES: \nFRIDAY AUG. 23 – FRIDAY NOV. 22
URL:https://shapeshifterplus.org/event/mcg-map-4-2/
LOCATION:ShapeShifter Lab\, 837 Union Street\, Ground Floor\, Brooklyn\, NY\, 11215\, United States
CATEGORIES:Education,Movement Arts Program MAP
END:VEVENT
END:VCALENDAR