BEGIN:VCALENDAR
VERSION:2.0
PRODID:-//ShapeShifter Plus - ECPv6.15.20//NONSGML v1.0//EN
CALSCALE:GREGORIAN
METHOD:PUBLISH
X-ORIGINAL-URL:https://shapeshifterplus.org
X-WR-CALDESC:Events for ShapeShifter Plus
REFRESH-INTERVAL;VALUE=DURATION:PT1H
X-Robots-Tag:noindex
X-PUBLISHED-TTL:PT1H
BEGIN:VTIMEZONE
TZID:America/Halifax
BEGIN:DAYLIGHT
TZOFFSETFROM:-0400
TZOFFSETTO:-0300
TZNAME:ADT
DTSTART:20230312T060000
END:DAYLIGHT
BEGIN:STANDARD
TZOFFSETFROM:-0300
TZOFFSETTO:-0400
TZNAME:AST
DTSTART:20231105T050000
END:STANDARD
BEGIN:DAYLIGHT
TZOFFSETFROM:-0400
TZOFFSETTO:-0300
TZNAME:ADT
DTSTART:20240310T060000
END:DAYLIGHT
BEGIN:STANDARD
TZOFFSETFROM:-0300
TZOFFSETTO:-0400
TZNAME:AST
DTSTART:20241103T050000
END:STANDARD
BEGIN:DAYLIGHT
TZOFFSETFROM:-0400
TZOFFSETTO:-0300
TZNAME:ADT
DTSTART:20250309T060000
END:DAYLIGHT
BEGIN:STANDARD
TZOFFSETFROM:-0300
TZOFFSETTO:-0400
TZNAME:AST
DTSTART:20251102T050000
END:STANDARD
END:VTIMEZONE
BEGIN:VEVENT
DTSTART;TZID=America/Halifax:20240905T190000
DTEND;TZID=America/Halifax:20240905T200000
DTSTAMP:20260421T052253
CREATED:20240816T013630Z
LAST-MODIFIED:20240829T134951Z
UID:15643-1725562800-1725566400@shapeshifterplus.org
SUMMARY:Winther / Andersson / Watts
DESCRIPTION:Don’t miss an electrifying world-class jazz experience with Carl Winther\, Richard Andersson\, and Grammy winner Jeff “Tain” Watts.\n\nCarl Winther: Piano\nRichard Andersson: Bass\nJeff “Tain” Watts: Drums\n\nPrepare for an unforgettable evening of jazz with this unique trio\, blending Danish and American jazz traditions. Their music is a captivating fusion of modern jazz with global influences\, reflecting their virtuosity\, spontaneity\, and pure love for the art.\n\nLatest Album Release: June 2024\n\nThe Danish pianist Carl Winther and bassist Richard Andersson have been collaborating for years. In 2023\, they invited American drum phenomenon Jeff “Tain” Watts to join them for a European tour\, culminating in the album WAW! (HobbyHorse Records\, June 2024). This album captures the trio’s energy and unique synergy.\n\n“The music evolves constantly when the three of us play together. I’m really looking forward to seeing where the music takes us this time and bringing the audience along for the journey\,” says Carl Winther.\n\nJeff “Tain” Watts: Jeff is widely recognized as one of the most influential drummers of his generation\, having performed with icons like George Benson\, Harry Connick Jr.\, McCoy Tyner\, and Kenny Garrett. He has won multiple Grammy Awards\, including two with the Branford Marsalis Quartet\, three with Wynton Marsalis\, one with Harry Connick Jr.\, one with the Mingus Big Band\, and two with the Metropolitan Opera.\n\nCarl Winther: Carl is highly regarded as one of the most talented and innovative jazz pianists of his generation\, earning recognition both in Denmark and internationally. He has worked with renowned artists like Jerry Bergonzi\, Billy Hart\, Adam Nussbaum\, and Till Brönner.\n\nRichard Andersson: Richard is celebrated for his work as a composer and bassist in modern jazz. Described as “one of the most interesting characters on the Danish jazz scene” (Gaffa)\, he has released several albums as a bandleader\, featuring both Danish and international musicians.\n\nDon’t miss the chance to witness this remarkable trio live. Check my Facebook page for tour dates and ticket information: Richard Andersson’s Facebook Page.\n\nFREE EVENT\, NO COVER CHARGE \nDoors at 6:30 pm\, first come first serve
URL:https://shapeshifterplus.org/event/jeff-tain-watts/
LOCATION:ShapeShifter Lab\, 837 Union Street\, Ground Floor\, Brooklyn\, NY\, 11215\, United States
CATEGORIES:Live Music
ATTACH;FMTTYPE=image/jpeg:https://shapeshifterplus.org/wp-content/uploads/2024/08/Jeff-_Tain_-Watts-Jonas-Hansen-scaled.jpg
END:VEVENT
END:VCALENDAR