BEGIN:VCALENDAR
VERSION:2.0
PRODID:-//ShapeShifter Plus - ECPv6.15.20//NONSGML v1.0//EN
CALSCALE:GREGORIAN
METHOD:PUBLISH
X-ORIGINAL-URL:https://shapeshifterplus.org
X-WR-CALDESC:Events for ShapeShifter Plus
REFRESH-INTERVAL;VALUE=DURATION:PT1H
X-Robots-Tag:noindex
X-PUBLISHED-TTL:PT1H
BEGIN:VTIMEZONE
TZID:America/Halifax
BEGIN:DAYLIGHT
TZOFFSETFROM:-0400
TZOFFSETTO:-0300
TZNAME:ADT
DTSTART:20230312T060000
END:DAYLIGHT
BEGIN:STANDARD
TZOFFSETFROM:-0300
TZOFFSETTO:-0400
TZNAME:AST
DTSTART:20231105T050000
END:STANDARD
BEGIN:DAYLIGHT
TZOFFSETFROM:-0400
TZOFFSETTO:-0300
TZNAME:ADT
DTSTART:20240310T060000
END:DAYLIGHT
BEGIN:STANDARD
TZOFFSETFROM:-0300
TZOFFSETTO:-0400
TZNAME:AST
DTSTART:20241103T050000
END:STANDARD
BEGIN:DAYLIGHT
TZOFFSETFROM:-0400
TZOFFSETTO:-0300
TZNAME:ADT
DTSTART:20250309T060000
END:DAYLIGHT
BEGIN:STANDARD
TZOFFSETFROM:-0300
TZOFFSETTO:-0400
TZNAME:AST
DTSTART:20251102T050000
END:STANDARD
END:VTIMEZONE
BEGIN:VEVENT
DTSTART;TZID=America/Halifax:20240812T103000
DTEND;TZID=America/Halifax:20240816T183000
DTSTAMP:20260422T231136
CREATED:20240807T034919Z
LAST-MODIFIED:20240807T034919Z
UID:15908-1723458600-1723833000@shapeshifterplus.org
SUMMARY:SIM 2024 SUMMER JAZZ INTENSIVE FOR IMPROVISING MUSICIANS
DESCRIPTION:Collaboration with SIM & Coltrane Home\n(School for Improvisation Music)\nSUMMER INTENSIVE WORKSHOPS\nMonday – Friday\, August 12 – 15\, 2024 \n10.30am – 6.30pm \nThe SIM experience encompasses ample playing opportunities and discussion of improvisational concepts. SIM is less about teaching through the lens of style and more about the overarching concepts of improvisation\, touching on multiple disciplines. That said\, students are offered two private lessons per week with our faculty\, allowing personal instruction on any musical topic. \nWorkshops\, Classes and Private Concerts will take place at ShapeShifter Lab.
URL:https://shapeshifterplus.org/event/sim-2024/
LOCATION:ShapeShifter Lab\, 837 Union Street\, Ground Floor\, Brooklyn\, NY\, 11215\, United States
CATEGORIES:Collaboration Programs,Education,Live Music
ATTACH;FMTTYPE=image/png:https://shapeshifterplus.org/wp-content/uploads/2024/08/76298fc9-76fa-6815-1710-38aee8650a7d.png
END:VEVENT
END:VCALENDAR