BEGIN:VCALENDAR
VERSION:2.0
PRODID:-//ShapeShifter Plus - ECPv6.15.20//NONSGML v1.0//EN
CALSCALE:GREGORIAN
METHOD:PUBLISH
X-WR-CALNAME:ShapeShifter Plus
X-ORIGINAL-URL:https://shapeshifterplus.org
X-WR-CALDESC:Events for ShapeShifter Plus
REFRESH-INTERVAL;VALUE=DURATION:PT1H
X-Robots-Tag:noindex
X-PUBLISHED-TTL:PT1H
BEGIN:VTIMEZONE
TZID:America/Halifax
BEGIN:DAYLIGHT
TZOFFSETFROM:-0400
TZOFFSETTO:-0300
TZNAME:ADT
DTSTART:20230312T060000
END:DAYLIGHT
BEGIN:STANDARD
TZOFFSETFROM:-0300
TZOFFSETTO:-0400
TZNAME:AST
DTSTART:20231105T050000
END:STANDARD
BEGIN:DAYLIGHT
TZOFFSETFROM:-0400
TZOFFSETTO:-0300
TZNAME:ADT
DTSTART:20240310T060000
END:DAYLIGHT
BEGIN:STANDARD
TZOFFSETFROM:-0300
TZOFFSETTO:-0400
TZNAME:AST
DTSTART:20241103T050000
END:STANDARD
BEGIN:DAYLIGHT
TZOFFSETFROM:-0400
TZOFFSETTO:-0300
TZNAME:ADT
DTSTART:20250309T060000
END:DAYLIGHT
BEGIN:STANDARD
TZOFFSETFROM:-0300
TZOFFSETTO:-0400
TZNAME:AST
DTSTART:20251102T050000
END:STANDARD
END:VTIMEZONE
BEGIN:VEVENT
DTSTART;TZID=America/Halifax:20240811T190000
DTEND;TZID=America/Halifax:20240811T200000
DTSTAMP:20260422T214243
CREATED:20240731T022243Z
LAST-MODIFIED:20240731T022243Z
UID:15848-1723402800-1723406400@shapeshifterplus.org
SUMMARY:Joshua Trio Two
DESCRIPTION:Joshua Davis – bass \nGilad Hekselman – guitar \nIvanna Cuesta – drums \n  \nThis evening features the beauty of 11 and 13\, in compositions and arrangements by Josh and Gilad. \nJoshua Davis is the Director of Jazz Studies at Penn State. Recent performances include televised concerts in Turkey with Randy Brecker\, Sean Rickman\, and Timucin Sahin\, and a U.S. Dept. of State-sponsored Armenia concert with Jerry Bergonzi and Vardan Ovsepian. \nGilad Hekselman tours globally as a bandleader\, and has shared the stage with some of the greatest artists in jazz including Chris Potter\, Eric Harland\, Fred Hersch\, Mark Turner\, Anat Cohen\, Ari Hoenig\, Esperanza Spalding\, Jeff Ballard\, Ben Wendel\, Gretchen Parlato\, Ben Williams\, Avishai Cohen\, Tigran Hamasyan\, Aaron Parks and Becca Stevens among many others. \nIvanna Cuesta won ﬁrst place in the PASIC “Hit like a Girl 2019” contest\, and has performed with Kris Davis\, Dee Dee Bridgewater\, Cassandra Wilson\, Leo Blanco\, Jacques Schwarz-Bart\, Tia Fuller\, and many more. She is currently a member of the Berklee Institute for Jazz and Gender Justice directed by Terri Lyne Carrington.
URL:https://shapeshifterplus.org/event/joshua-davis-3/
LOCATION:ShapeShifter Lab\, 837 Union Street\, Ground Floor\, Brooklyn\, NY\, 11215\, United States
CATEGORIES:Open Call Program
ATTACH;FMTTYPE=image/png:https://shapeshifterplus.org/wp-content/uploads/2024/07/Joshua-Davis-Trio-1.png
END:VEVENT
END:VCALENDAR