BEGIN:VCALENDAR
VERSION:2.0
PRODID:-//ShapeShifter Plus - ECPv6.15.20//NONSGML v1.0//EN
CALSCALE:GREGORIAN
METHOD:PUBLISH
X-WR-CALNAME:ShapeShifter Plus
X-ORIGINAL-URL:https://shapeshifterplus.org
X-WR-CALDESC:Events for ShapeShifter Plus
REFRESH-INTERVAL;VALUE=DURATION:PT1H
X-Robots-Tag:noindex
X-PUBLISHED-TTL:PT1H
BEGIN:VTIMEZONE
TZID:America/Halifax
BEGIN:DAYLIGHT
TZOFFSETFROM:-0400
TZOFFSETTO:-0300
TZNAME:ADT
DTSTART:20230312T060000
END:DAYLIGHT
BEGIN:STANDARD
TZOFFSETFROM:-0300
TZOFFSETTO:-0400
TZNAME:AST
DTSTART:20231105T050000
END:STANDARD
BEGIN:DAYLIGHT
TZOFFSETFROM:-0400
TZOFFSETTO:-0300
TZNAME:ADT
DTSTART:20240310T060000
END:DAYLIGHT
BEGIN:STANDARD
TZOFFSETFROM:-0300
TZOFFSETTO:-0400
TZNAME:AST
DTSTART:20241103T050000
END:STANDARD
BEGIN:DAYLIGHT
TZOFFSETFROM:-0400
TZOFFSETTO:-0300
TZNAME:ADT
DTSTART:20250309T060000
END:DAYLIGHT
BEGIN:STANDARD
TZOFFSETFROM:-0300
TZOFFSETTO:-0400
TZNAME:AST
DTSTART:20251102T050000
END:STANDARD
END:VTIMEZONE
BEGIN:VEVENT
DTSTART;TZID=America/Halifax:20240727T200000
DTEND;TZID=America/Halifax:20240727T220000
DTSTAMP:20260422T061330
CREATED:20240616T041123Z
LAST-MODIFIED:20240709T192018Z
UID:14726-1722110400-1722117600@shapeshifterplus.org
SUMMARY:Eclipse Presents: The Dark Side of The Moon
DESCRIPTION:Advance tickets – $20 | Tickets at door – $25 (Online ticket sales end two hours before showtime) \n8-8:45pm: Opener (Dear Bongo) \n9-9:45pm: Eclipse \n  \nDear Bongo: \nDear Bongo is a vibrant jam band and outlaw country cover act that seamlessly blends the eclectic sounds of the Grateful Dead\, Phish\, Ween\, Willie Nelson\, and Waylon Jennings. Hailing from New York City\, this band has carved a niche for itself by celebrating the rich traditions of psychedelic rock and outlaw country\, creating an unforgettable live experience that pays homage to their musical heroes. With a deep love for improvisation and a knack for reinterpreting classic tunes\, Dear Bongo delivers performances that are as unpredictable as they are electrifying. The band members\, each accomplished musicians in their own right\, bring a diverse array of influences and a wealth of experience to the stage\, ensuring that every show is a unique journey through the landscapes of jam band exploration and country storytelling. As they continue to grow and evolve\, Dear Bongo remains committed to honoring the legacy of the artists they admire while pushing the boundaries of what a cover band can be. Whether you’re a seasoned Deadhead\, a Phish fanatic\, or a lover of classic country\, Dear Bongo promises a musical experience that will leave you wanting more. \n  \nJackson Bell – Lead Guitar and Vocals \nJim Campbell – Bass and Vocals \nAndrew Sheron – Keyboards and Vocals \nMax Azarmehr – Drum Set \n  \nEclipse: \nPaying homage to the visuals and music of the legendary album\, Eclipse’s supergroup of 14 professional musicians seek to perform the most emblematic and captivating Pink Floyd live show since the real thing. For Eclipse\, it’s much more than simply being a tribute band. It’s about capturing a defining moment in rock and roll history and sharing Dark Side of the Moon’s unique\, raw and enigmatic atmosphere\, leaving audiences feeling elated and longing for more. \n  \nTom Corrado – Vocals\, guitar\, keyboard\, sampling \nSam Behr – Vocals\, keyboard\, piano \nJackson Bell – Lead guitar \nFrank Poma – Bass \nJen Fischer – Vocals\, keyboard \nZach Forlenza-Bailey – Saxophone \nNico Fauceglia – Drums \nThe Choir:  \nLaura Pagello \nAshley Miles \nDee Pasha \nDeborah Gross \nMaria Roberts \nKarina Padron \nEmily Goldstein
URL:https://shapeshifterplus.org/event/eclipse/
LOCATION:ShapeShifter Lab\, 837 Union Street\, Ground Floor\, Brooklyn\, NY\, 11215\, United States
CATEGORIES:Live Music
ATTACH;FMTTYPE=image/jpeg:https://shapeshifterplus.org/wp-content/uploads/2024/06/UPDATED-IMAGE-scaled.jpeg
END:VEVENT
END:VCALENDAR