BEGIN:VCALENDAR
VERSION:2.0
PRODID:-//ShapeShifter Plus - ECPv6.15.20//NONSGML v1.0//EN
CALSCALE:GREGORIAN
METHOD:PUBLISH
X-WR-CALNAME:ShapeShifter Plus
X-ORIGINAL-URL:https://shapeshifterplus.org
X-WR-CALDESC:Events for ShapeShifter Plus
REFRESH-INTERVAL;VALUE=DURATION:PT1H
X-Robots-Tag:noindex
X-PUBLISHED-TTL:PT1H
BEGIN:VTIMEZONE
TZID:America/Halifax
BEGIN:DAYLIGHT
TZOFFSETFROM:-0400
TZOFFSETTO:-0300
TZNAME:ADT
DTSTART:20230312T060000
END:DAYLIGHT
BEGIN:STANDARD
TZOFFSETFROM:-0300
TZOFFSETTO:-0400
TZNAME:AST
DTSTART:20231105T050000
END:STANDARD
BEGIN:DAYLIGHT
TZOFFSETFROM:-0400
TZOFFSETTO:-0300
TZNAME:ADT
DTSTART:20240310T060000
END:DAYLIGHT
BEGIN:STANDARD
TZOFFSETFROM:-0300
TZOFFSETTO:-0400
TZNAME:AST
DTSTART:20241103T050000
END:STANDARD
BEGIN:DAYLIGHT
TZOFFSETFROM:-0400
TZOFFSETTO:-0300
TZNAME:ADT
DTSTART:20250309T060000
END:DAYLIGHT
BEGIN:STANDARD
TZOFFSETFROM:-0300
TZOFFSETTO:-0400
TZNAME:AST
DTSTART:20251102T050000
END:STANDARD
END:VTIMEZONE
BEGIN:VEVENT
DTSTART;TZID=America/Halifax:20240711T120000
DTEND;TZID=America/Halifax:20240711T120000
DTSTAMP:20260421T183519
CREATED:20240630T001622Z
LAST-MODIFIED:20240806T001135Z
UID:15216-1720699200-1720699200@shapeshifterplus.org
SUMMARY:Summer Thursday Music Baby Classes with Debbie Brukman 12pm
DESCRIPTION:Join Debbie in the beautiful ShapeShifter Lab on Union Street with her happy music for grooving with her guitar\, scarves\, parachute\, and drums! Babies will discover\, groove\, and make some friends\, while adults can feel community while engaging with your child. Debbie is a local mom with two decades of singing for our neighborhood kids.
URL:https://shapeshifterplus.org/event/summer-thursday-music-baby-classes-with-debbie-brukman-12pm/
LOCATION:ShapeShifter Lab\, 837 Union Street\, Ground Floor\, Brooklyn\, NY\, 11215\, United States
CATEGORIES:Education,Kids Class
ATTACH;FMTTYPE=image/jpeg:https://shapeshifterplus.org/wp-content/uploads/2024/03/IMG_1774-scaled.jpeg
END:VEVENT
BEGIN:VEVENT
DTSTART;TZID=America/Halifax:20240718T190000
DTEND;TZID=America/Halifax:20240718T200000
DTSTAMP:20260421T183519
CREATED:20240430T025404Z
LAST-MODIFIED:20240607T221141Z
UID:13717-1721329200-1721332800@shapeshifterplus.org
SUMMARY:Stephen Philip Harvey Octet
DESCRIPTION:Stephen Philip Harvey – Tenor Saxophone/Compositions\nM. Alex Ramirez – Alto Saxophone\nRachel Therrien – Trumpet\nNick Grinder – Trombone\nConnor Evans – Guitar\nMartha Kato – Piano\nTony DePaolis – Bass\nDan Pugach – Drums \n  \nThe Stephen Philip Harvey Octet (SPH8) is a collective of eight musicians from the Mid-Atlantic and Midwest of the United States\, playing the original compositions and arrangements of Stephen Philip Harvey. In 2023\, the octet released their debut album\, Elemental\, a collection of original music inspired by the classic elements of water\, air\, earth\, and fire. Fusing modern harmonies\, driving vamps\, and a myriad of textures\, Harvey brings these forces of nature to aural landscape. To culminate its release tour\, the octet recorded their live performance at Radio Artifact in Cincinnati\, OH. This exciting evening generated two separate recordings that are slated for release in 2024 with Hidden Cinema Records. Elemental (Live) will release May 3\, 2024\, containing live versions of the compositions from their debut album. Live at Radio Artifact releases August 23\, 2024\, with dynamic arrangements of tunes by Wayne Shorter and Tim Green\, and more original tunes from Harvey’s pen.
URL:https://shapeshifterplus.org/event/stephen-harvey/
LOCATION:ShapeShifter Lab\, 837 Union Street\, Ground Floor\, Brooklyn\, NY\, 11215\, United States
CATEGORIES:Live Music,Open Call Program
ATTACH;FMTTYPE=image/jpeg:https://shapeshifterplus.org/wp-content/uploads/2024/04/Stephen-Harvey-photo-scaled.jpg
END:VEVENT
END:VCALENDAR