BEGIN:VCALENDAR
VERSION:2.0
PRODID:-//ShapeShifter Plus - ECPv6.15.20//NONSGML v1.0//EN
CALSCALE:GREGORIAN
METHOD:PUBLISH
X-ORIGINAL-URL:https://shapeshifterplus.org
X-WR-CALDESC:Events for ShapeShifter Plus
REFRESH-INTERVAL;VALUE=DURATION:PT1H
X-Robots-Tag:noindex
X-PUBLISHED-TTL:PT1H
BEGIN:VTIMEZONE
TZID:America/Halifax
BEGIN:DAYLIGHT
TZOFFSETFROM:-0400
TZOFFSETTO:-0300
TZNAME:ADT
DTSTART:20230312T060000
END:DAYLIGHT
BEGIN:STANDARD
TZOFFSETFROM:-0300
TZOFFSETTO:-0400
TZNAME:AST
DTSTART:20231105T050000
END:STANDARD
BEGIN:DAYLIGHT
TZOFFSETFROM:-0400
TZOFFSETTO:-0300
TZNAME:ADT
DTSTART:20240310T060000
END:DAYLIGHT
BEGIN:STANDARD
TZOFFSETFROM:-0300
TZOFFSETTO:-0400
TZNAME:AST
DTSTART:20241103T050000
END:STANDARD
BEGIN:DAYLIGHT
TZOFFSETFROM:-0400
TZOFFSETTO:-0300
TZNAME:ADT
DTSTART:20250309T060000
END:DAYLIGHT
BEGIN:STANDARD
TZOFFSETFROM:-0300
TZOFFSETTO:-0400
TZNAME:AST
DTSTART:20251102T050000
END:STANDARD
END:VTIMEZONE
BEGIN:VEVENT
DTSTART;TZID=America/Halifax:20240703T120000
DTEND;TZID=America/Halifax:20240703T150000
DTSTAMP:20260421T094914
CREATED:20240629T221810Z
LAST-MODIFIED:20240629T221810Z
UID:15212-1720008000-1720018800@shapeshifterplus.org
SUMMARY:Workshops & Jam Sessions Hosted by Matt Garrison
DESCRIPTION:Wednesdays. 12pm-12:45pm \nWorkshop\, 1pm-3pm \n  \nWorkshops & Jam Sessions Hosted by Matt Garrison @ShapeShifterLab \nEvery Wednesday in June\, 2024 \n\n\n12pm-12:45 pm Workshop: Jam Session Ideas/Approaches \n\n\n\nMatt will discuss how the Jam Sessions he hosts can and will be approached.\nHe will discuss: Songs\, Forms\, Improvisation\, Dynamics\, Tempos\, Feel\, Genres\, Technique\, Emotional State and other important topics that will set the stage for the actual ShapeShifter Lab Jam Session.\nHe feels that doing so will give a strong basis for all jammers to get a sense of what’s possible.\nThe further idea of the workshop is to trigger a conversation\, spark ideas and open the floor for clear dialogue about a possible set of Jam Session frameworks.\nAll Experience levels welcome! FREE!\n\n\n\n1pm-3pm Jam Session
URL:https://shapeshifterplus.org/event/workshops-jam-sessions-hosted-by-matt-garrison-9/
LOCATION:ShapeShifter Lab\, 837 Union Street\, Ground Floor\, Brooklyn\, NY\, 11215\, United States
CATEGORIES:Live Music,Open Jam
ATTACH;FMTTYPE=image/png:https://shapeshifterplus.org/wp-content/uploads/2024/06/Matt-Garrison-Wednesday-Jam-July-2024.png
END:VEVENT
BEGIN:VEVENT
DTSTART;TZID=America/Halifax:20240703T120000
DTEND;TZID=America/Halifax:20240703T150000
DTSTAMP:20260421T094914
CREATED:20240703T131042Z
LAST-MODIFIED:20240703T131042Z
UID:15291-1720008000-1720018800@shapeshifterplus.org
SUMMARY:Miss American Pie - 4th of July Preorders Mini Pop-Up
DESCRIPTION:It’s Independence Day\nAnd we all know the best thing to wrap up your BBQ or beach day on July 4th is Miss American Pie! Preorders are open for pick up on Wednesday the 3rd at Shapeshifter Cafe- 837 Union St. Check out the limited menu below. We’ll also be having a mini pop up from 12-5pm with slices and biscuits. PLUS\, there will be live music happening until 3pm\, so stop in and grab a slice and a coffee and hang out. \n  \nPREORDER HERE: \n4th of July Pick-up Menu \nThe Signature Pie \nPeach Pie \nClassic Apple Pie \nKey Lime Mini Pies \nDouble Choc. Maple Pecan Pie \n6 Slice Variety Pack \nChicken Pot Pie \nCheddar Biscuits
URL:https://shapeshifterplus.org/event/miss-american-pie/
LOCATION:ShapeShifter Lab\, 837 Union Street\, Ground Floor\, Brooklyn\, NY\, 11215\, United States
CATEGORIES:Party
ATTACH;FMTTYPE=image/png:https://shapeshifterplus.org/wp-content/uploads/2024/07/50864final_logo_lg_text_flat.png
END:VEVENT
END:VCALENDAR