BEGIN:VCALENDAR
VERSION:2.0
PRODID:-//ShapeShifter Plus - ECPv6.15.20//NONSGML v1.0//EN
CALSCALE:GREGORIAN
METHOD:PUBLISH
X-WR-CALNAME:ShapeShifter Plus
X-ORIGINAL-URL:https://shapeshifterplus.org
X-WR-CALDESC:Events for ShapeShifter Plus
REFRESH-INTERVAL;VALUE=DURATION:PT1H
X-Robots-Tag:noindex
X-PUBLISHED-TTL:PT1H
BEGIN:VTIMEZONE
TZID:America/Halifax
BEGIN:DAYLIGHT
TZOFFSETFROM:-0400
TZOFFSETTO:-0300
TZNAME:ADT
DTSTART:20230312T060000
END:DAYLIGHT
BEGIN:STANDARD
TZOFFSETFROM:-0300
TZOFFSETTO:-0400
TZNAME:AST
DTSTART:20231105T050000
END:STANDARD
BEGIN:DAYLIGHT
TZOFFSETFROM:-0400
TZOFFSETTO:-0300
TZNAME:ADT
DTSTART:20240310T060000
END:DAYLIGHT
BEGIN:STANDARD
TZOFFSETFROM:-0300
TZOFFSETTO:-0400
TZNAME:AST
DTSTART:20241103T050000
END:STANDARD
BEGIN:DAYLIGHT
TZOFFSETFROM:-0400
TZOFFSETTO:-0300
TZNAME:ADT
DTSTART:20250309T060000
END:DAYLIGHT
BEGIN:STANDARD
TZOFFSETFROM:-0300
TZOFFSETTO:-0400
TZNAME:AST
DTSTART:20251102T050000
END:STANDARD
END:VTIMEZONE
BEGIN:VEVENT
DTSTART;TZID=America/Halifax:20240524T190000
DTEND;TZID=America/Halifax:20240524T200000
DTSTAMP:20260421T040452
CREATED:20240428T011110Z
LAST-MODIFIED:20240428T011110Z
UID:13615-1716577200-1716580800@shapeshifterplus.org
SUMMARY:Bianca Love Ensemble
DESCRIPTION:Bianca Love – Vocals\nOscar Williams – Piano\nMatt Snow – Bass\nCurtis McPhatter Jr. – Drummer \n  \nHailing from the vibrant streets of New Orleans\, Bianca Love’s musical journey\, influenced by legends like Charlie Parker\, Betty Carter\, and Sarah Vaughan\, unfolds in a celebration of jazz\, blues\, soul\, and the traditional sounds of her hometown. As a professional musician since the age of 16\, Bianca’s global ventures\, including performances in India’s major cities\, have enriched her repertoire with immersive experiences. \nFrom her time organizing weekly jams in Los Angeles\, fostering musical camaraderie\, to being recognized as a finalist in the esteemed Sarah Vaughn International Jazz Vocal Competition in November 2023\, Bianca’s journey is a testament to her unwavering passion for music. Now calling New York City home\, Bianca\, along with her exceptional band\, will explore the wide canon of Black American Music classics. \n 
URL:https://shapeshifterplus.org/event/bianca-love-ensemble/
LOCATION:ShapeShifter Lab\, 837 Union Street\, Ground Floor\, Brooklyn\, NY\, 11215\, United States
CATEGORIES:Live Music,Open Call Program
ATTACH;FMTTYPE=image/png:https://shapeshifterplus.org/wp-content/uploads/2024/04/Bianca-Love-May-24th-show.png
END:VEVENT
BEGIN:VEVENT
DTSTART;TZID=America/Halifax:20240524T210000
DTEND;TZID=America/Halifax:20240524T210000
DTSTAMP:20260421T040452
CREATED:20240322T002027Z
LAST-MODIFIED:20240508T040659Z
UID:12830-1716584400-1716584400@shapeshifterplus.org
SUMMARY:Aimée Allen Trio w/ Tony Romano & Francois Moutin - "Suite Ephemera"
DESCRIPTION:Vocalist and acclaimed songwriter Aimée Allen brings her ultra-dynamic trio with versatile and innovative guitarist Tony Romano and world-renowned bassist François Moutin. The trio’s musical aesthetic is exciting\, rhythmic\, lyrical\, and improvisational. Its repertoire is focused on Aimée’s compelling\, soulful original music and arrangements from multiple eras of the jazz canon. Seemingly minimalist\, these three explore sonic landscapes for a rich sound that is more than the sum of its parts. In this performance\, they will debut a new work\, “Suite Ephemera”\, a song cycle by Aimée commissioned by Chamber Music America under a New Jazz Works grant. Expect a rich\, exciting set full of song poetry. \n“Suite Ephemera” by Aimée Allen and the Aimée Allen Trio has been made possible with support from Chamber Music America’s New Jazz Works program funded through the Doris Duke Charitable Foundation. \nMore about the Artist:\nJazz vocalist and composer/lyricist Aimée Allen is known for her warm\, sensual vocals that are both grounded and ethereal\, and her soulful\, poignant original songs that mix poetic lyricism with rich harmonies and rhythms. She has released 6 critically acclaimed albums. Her latest Love and the Catalyst was nominated for a 2023 NAACP Image Award for Outstanding Jazz Album – Vocal. Her prior release\, Wings Uncaged was named a Best of 2019 by Downbeat Magazine. Her repertoire of her own compositions and fresh takes on jazz standards engages listeners. She is joined in this trio by versatile and innovative guitarist Tony Romano and peerless world-renowned bassist Francois Moutin.
URL:https://shapeshifterplus.org/event/aimee-allen-may-24/
LOCATION:ShapeShifter Lab\, 837 Union Street\, Ground Floor\, Brooklyn\, NY\, 11215\, United States
CATEGORIES:Live Music,Open Call Program
ATTACH;FMTTYPE=image/jpeg:https://shapeshifterplus.org/wp-content/uploads/2024/03/2_AimeeAllen_credit_ErikaKapin-scaled.jpg
END:VEVENT
END:VCALENDAR