BEGIN:VCALENDAR
VERSION:2.0
PRODID:-//ShapeShifter Plus - ECPv6.15.20//NONSGML v1.0//EN
CALSCALE:GREGORIAN
METHOD:PUBLISH
X-WR-CALNAME:ShapeShifter Plus
X-ORIGINAL-URL:https://shapeshifterplus.org
X-WR-CALDESC:Events for ShapeShifter Plus
REFRESH-INTERVAL;VALUE=DURATION:PT1H
X-Robots-Tag:noindex
X-PUBLISHED-TTL:PT1H
BEGIN:VTIMEZONE
TZID:America/Halifax
BEGIN:DAYLIGHT
TZOFFSETFROM:-0400
TZOFFSETTO:-0300
TZNAME:ADT
DTSTART:20230312T060000
END:DAYLIGHT
BEGIN:STANDARD
TZOFFSETFROM:-0300
TZOFFSETTO:-0400
TZNAME:AST
DTSTART:20231105T050000
END:STANDARD
BEGIN:DAYLIGHT
TZOFFSETFROM:-0400
TZOFFSETTO:-0300
TZNAME:ADT
DTSTART:20240310T060000
END:DAYLIGHT
BEGIN:STANDARD
TZOFFSETFROM:-0300
TZOFFSETTO:-0400
TZNAME:AST
DTSTART:20241103T050000
END:STANDARD
BEGIN:DAYLIGHT
TZOFFSETFROM:-0400
TZOFFSETTO:-0300
TZNAME:ADT
DTSTART:20250309T060000
END:DAYLIGHT
BEGIN:STANDARD
TZOFFSETFROM:-0300
TZOFFSETTO:-0400
TZNAME:AST
DTSTART:20251102T050000
END:STANDARD
END:VTIMEZONE
BEGIN:VEVENT
DTSTART;TZID=America/Halifax:20240516T190000
DTEND;TZID=America/Halifax:20240516T203000
DTSTAMP:20260421T054342
CREATED:20240312T000506Z
LAST-MODIFIED:20240510T183049Z
UID:12659-1715886000-1715891400@shapeshifterplus.org
SUMMARY:Neal Kirkwood Big Band
DESCRIPTION:Saxes and Woodwinds\nMatt Hong\nBruce Williamson\nDan Block\nJeff Lederer\nPatience Higgins \nTrumpets\nAndy Gravish\nRon Horton\nMark McGowan\nJames Zollar \nTrombones\nWillie Applewhite\nClarence Banks\nEd Neumeister\nJames Rogers \nRhythm Section\nNeal Kirkwood\, piano and conductor\nRob Garcia\, drums\nJennifer Vincent\, bass\nDiana Herold\, vibraphone and marimba
URL:https://shapeshifterplus.org/event/nealkirkwood-may16/
LOCATION:ShapeShifter Lab\, 837 Union Street\, Ground Floor\, Brooklyn\, NY\, 11215\, United States
CATEGORIES:Live Music,Open Call Program
ATTACH;FMTTYPE=image/jpeg:https://shapeshifterplus.org/wp-content/uploads/2024/03/Neal-Kirkwood-Big-Band-Night-City-album-cover-scaled.jpg
END:VEVENT
BEGIN:VEVENT
DTSTART;TZID=America/Halifax:20240516T213000
DTEND;TZID=America/Halifax:20240516T223000
DTSTAMP:20260421T054342
CREATED:20240411T023642Z
LAST-MODIFIED:20240512T180506Z
UID:13337-1715895000-1715898600@shapeshifterplus.org
SUMMARY:Meïa Santiago - POSTPONED - NEW DATE TBA
DESCRIPTION:Meïa-vocals\nHayley Lam-piano\nExperience the artistry of Meïa Santiago\, an eclectic and multidisciplinary composer\, as she unveils a captivating repertoire of piano and voice infused with jazz influences and heartfelt ballads. Discover new compositions alongside songs from her previous works\, delicately adapted to a more intimate setting. Joining her on stage is the talented pianist and multi-instrumentalist\, Hayley Lam\, adding depth and richness to this musical journey.
URL:https://shapeshifterplus.org/event/meia-santiago/
LOCATION:ShapeShifter Lab\, 837 Union Street\, Ground Floor\, Brooklyn\, NY\, 11215\, United States
CATEGORIES:Live Music,Open Call Program
ATTACH;FMTTYPE=image/jpeg:https://shapeshifterplus.org/wp-content/uploads/2024/04/image_123650291.jpg
END:VEVENT
END:VCALENDAR