BEGIN:VCALENDAR
VERSION:2.0
PRODID:-//ShapeShifter Plus - ECPv6.15.20//NONSGML v1.0//EN
CALSCALE:GREGORIAN
METHOD:PUBLISH
X-ORIGINAL-URL:https://shapeshifterplus.org
X-WR-CALDESC:Events for ShapeShifter Plus
REFRESH-INTERVAL;VALUE=DURATION:PT1H
X-Robots-Tag:noindex
X-PUBLISHED-TTL:PT1H
BEGIN:VTIMEZONE
TZID:America/Halifax
BEGIN:DAYLIGHT
TZOFFSETFROM:-0400
TZOFFSETTO:-0300
TZNAME:ADT
DTSTART:20230312T060000
END:DAYLIGHT
BEGIN:STANDARD
TZOFFSETFROM:-0300
TZOFFSETTO:-0400
TZNAME:AST
DTSTART:20231105T050000
END:STANDARD
BEGIN:DAYLIGHT
TZOFFSETFROM:-0400
TZOFFSETTO:-0300
TZNAME:ADT
DTSTART:20240310T060000
END:DAYLIGHT
BEGIN:STANDARD
TZOFFSETFROM:-0300
TZOFFSETTO:-0400
TZNAME:AST
DTSTART:20241103T050000
END:STANDARD
BEGIN:DAYLIGHT
TZOFFSETFROM:-0400
TZOFFSETTO:-0300
TZNAME:ADT
DTSTART:20250309T060000
END:DAYLIGHT
BEGIN:STANDARD
TZOFFSETFROM:-0300
TZOFFSETTO:-0400
TZNAME:AST
DTSTART:20251102T050000
END:STANDARD
END:VTIMEZONE
BEGIN:VEVENT
DTSTART;TZID=America/Halifax:20240514T120000
DTEND;TZID=America/Halifax:20240514T120000
DTSTAMP:20260421T052239
CREATED:20240508T122332Z
LAST-MODIFIED:20240602T211809Z
UID:13950-1715688000-1715688000@shapeshifterplus.org
SUMMARY:Spring Tuesday Music Baby Classes with Debbie Brukman 12pm
DESCRIPTION:Join Debbie in the beautiful ShapeShifter Lab on Union Street with her happy music for grooving with her guitar\, scarves\, parachute\, and drums! Babies will discover\, groove\, and make some friends\, while adults can feel community while engaging with your child. Debbie is a local mom with two decades of singing for our neighborhood kids.
URL:https://shapeshifterplus.org/event/spring-tuesday-music-baby-classes-with-debbie-brukman-12pm-2/
LOCATION:ShapeShifter Lab 2nd Floor\, 837 Union Street\, 2nd Foor\, Brooklyn\, NY\, 11215\, United States
CATEGORIES:Education,Kids Class
ATTACH;FMTTYPE=image/jpeg:https://shapeshifterplus.org/wp-content/uploads/2024/03/IMG_1774-scaled.jpeg
END:VEVENT
BEGIN:VEVENT
DTSTART;TZID=America/Halifax:20240514T120000
DTEND;TZID=America/Halifax:20240514T140000
DTSTAMP:20260421T052239
CREATED:20240501T210953Z
LAST-MODIFIED:20240501T210953Z
UID:13768-1715688000-1715695200@shapeshifterplus.org
SUMMARY:Alex Yoo Jam Session
DESCRIPTION:Alex Yoo is a NYC-based drummer/percussionist versed in the styles of jazz\, rock\, R&B and gospel. \n  \nBorn and raised in Bayside\, Queens\, Alex began playing the drums at age 7 through his mother’s music school. He graduated from Fiorello H. LaGuardia High School of Music and Art and Performing Arts in 2018 and earned a Bachelor of Music degree in Jazz Performance from the New England Conservatory of Music in Boston\, MA. He studied drums with the great Billy Hart and Nasheet Waits\, and studied improvisation/composition with Jason Moran\, Melissa Aldana\, Jason Palmer and Henrique Eisenmann. \n  \nNow at 23\, Alex has performed with a wide variety of artists including Michael Formanek\, Michael Mayo\, Marshall Gilkes\, Fay Victor and Dave Holland. In addition to his collaborative work\, Alex performs with multiple of his own projects: the 8-piece indie-rock sensation Wally\, jazz quartet More Better\, and avant-pop duo PuriKoko. He is a regular performer throughout New York City\, frequenting venues such as The Jazz Gallery\, Dizzy’s Club Coca-Cola\, Elsewhere\, Baby’s All Right and more. As of September 2023\, he is also an audio engineer at the ShapeShifter Lab. \n  \nIn June 2024\, he will be on tour with artist Laura Elliott.
URL:https://shapeshifterplus.org/event/alex-yoo-jam-session/
LOCATION:ShapeShifter Lab\, 837 Union Street\, Ground Floor\, Brooklyn\, NY\, 11215\, United States
CATEGORIES:Live Music,Open Jam
ATTACH;FMTTYPE=image/jpeg:https://shapeshifterplus.org/wp-content/uploads/2024/05/Alex-Yoo-photo-scaled.jpeg
END:VEVENT
END:VCALENDAR