BEGIN:VCALENDAR
VERSION:2.0
PRODID:-//ShapeShifter Plus - ECPv6.15.20//NONSGML v1.0//EN
CALSCALE:GREGORIAN
METHOD:PUBLISH
X-WR-CALNAME:ShapeShifter Plus
X-ORIGINAL-URL:https://shapeshifterplus.org
X-WR-CALDESC:Events for ShapeShifter Plus
REFRESH-INTERVAL;VALUE=DURATION:PT1H
X-Robots-Tag:noindex
X-PUBLISHED-TTL:PT1H
BEGIN:VTIMEZONE
TZID:America/Halifax
BEGIN:DAYLIGHT
TZOFFSETFROM:-0400
TZOFFSETTO:-0300
TZNAME:ADT
DTSTART:20230312T060000
END:DAYLIGHT
BEGIN:STANDARD
TZOFFSETFROM:-0300
TZOFFSETTO:-0400
TZNAME:AST
DTSTART:20231105T050000
END:STANDARD
BEGIN:DAYLIGHT
TZOFFSETFROM:-0400
TZOFFSETTO:-0300
TZNAME:ADT
DTSTART:20240310T060000
END:DAYLIGHT
BEGIN:STANDARD
TZOFFSETFROM:-0300
TZOFFSETTO:-0400
TZNAME:AST
DTSTART:20241103T050000
END:STANDARD
BEGIN:DAYLIGHT
TZOFFSETFROM:-0400
TZOFFSETTO:-0300
TZNAME:ADT
DTSTART:20250309T060000
END:DAYLIGHT
BEGIN:STANDARD
TZOFFSETFROM:-0300
TZOFFSETTO:-0400
TZNAME:AST
DTSTART:20251102T050000
END:STANDARD
END:VTIMEZONE
BEGIN:VEVENT
DTSTART;TZID=America/Halifax:20240509T190000
DTEND;TZID=America/Halifax:20240509T200000
DTSTAMP:20260421T054342
CREATED:20240225T013726Z
LAST-MODIFIED:20240225T014203Z
UID:12074-1715281200-1715284800@shapeshifterplus.org
SUMMARY:Variego3: Recompensa
DESCRIPTION:At the Shapeshifter Lab\, the Variego3 will present a selection of originals from their latest album Recompensa(Centaur 2023) \nJorge Variego – Clarinet and Compositions\nTaber Gable – Piano\nRob Linton – Bass \n  \n\nMore about Variego3: \nJorge Variego @dominoensemble (clarinets and compositions) was born in Rosario\, Argentina. He is a former Fulbright Scholar and is currently on the Music Theory and Composition faculty at the University of Tennessee and is the composition program coordinator at the Sewanee Summer Music Festival. \nActively involved with technology in sound and music\, Jorge has been a pioneer in the field of interactive computer music\, having created and performed a great deal of works for clarinet and electronics in the US\, Europe and South America. His music can be heard on Naxos\, Albany\, Parma Records\, Centaur\, CMMAS\, and others. \nAmong his research endeavors\, his book Composing with Constraints was published by Oxford University Press in 2021. Jorge is also the founder director of the UT Electroacoustic Ensemble\, a student group dedicated to free improvisation with electronic media. \nRecently graduated from The Juilliard School\, Taber Gable @tabesthegabes has been called on to play\, tour\, alongside many great musicians such as Marcus/E.J.Strickland\, Terrace Martin\, Trevor Lawrence\, Jonathan Barber\, Braxton Cook\, and many more! \nGable is a highly sought after musician in the New York jazz scene as well as internationally known for his cross-genre abilities and captivating live performance style. \nRob Linton @roblintonbass (double bass) is a versatile artist from Charlotte\, North Carolina and a proud alumnus of UNC Charlotte. Rob has earned two degrees in music throughout his performance career. Rob earned his Bachelor of Arts degree in Music and Jazz Certificate from The University of North Carolina at Charlotte\, studying under the direction of Ron Brendle\, Will Campbell\, and Michael Hackett. \nRob graduated with his master’s degree in Studio Music and Jazz from the University of Tennessee at Knoxville\, studying with Jon Hamar\, Greg Tardy\, Keith Brown\, and Mark Boling. Rob has performed with Greg Tardy\, Eric Reed\, Jorge Variego\, Taber Gable\, Kenneth Brown\, and many other artists in the south-east region. Rob also performs in orchestral settings\, experimental contemporary music settings\, and for recitals and concerts. \n  \n\n  \nRecent Press \n“… what I love the most about this album is the incredible variety of textures and organic sounds within. The ensemble has a warm\, roomy tone which reminds me of old jazz records. On the other hand\, the band is not afraid to experiment with distortion effects\, li-fi dynamics and many other elements adding a grittier character to the mix. The sheer variety of sounds and influences in this release is also quite fantastic\, giving the tracks a unique and memorable feel that truly stands out.”- Stacey Zering INK19 \n“…the Domino Ensemble’s debut album is an intriguing journey filled with contrasts and surprising shifts. The performers are all seasoned veterans who collaborate with ease and instinctively cross genres to form a style which is distinctly their own. Purple Ego is released by Centaur Records and is available on Spotify\, Apple Music and from all major music retailers.” – Zachary Dierick – The Clarinet \n“A great disc [Recompensa]\, and a treat for all jazz lovers. The range of styles is large; all three players are superb in their own right and even better together as one entity. A Want List candidate\, for sure. […] five stars: A great disc\, and a treat for all jazz lovers.” Colin Clarke – Fanfare
URL:https://shapeshifterplus.org/event/variego3-recompensa/
LOCATION:ShapeShifter Lab\, 837 Union Street\, Ground Floor\, Brooklyn\, NY\, 11215\, United States
CATEGORIES:Live Music,Open Call Program
ATTACH;FMTTYPE=image/png:https://shapeshifterplus.org/wp-content/uploads/2024/02/Variego3-Shapeshifter.png
END:VEVENT
BEGIN:VEVENT
DTSTART;TZID=America/Halifax:20240509T210000
DTEND;TZID=America/Halifax:20240509T220000
DTSTAMP:20260421T054342
CREATED:20240410T055532Z
LAST-MODIFIED:20240413T233746Z
UID:13303-1715288400-1715292000@shapeshifterplus.org
SUMMARY:Beledo Power Jazz Trio
DESCRIPTION:Beledo Power Jazz Trio at ShapeShifter Lab \nThis will be the first Beledo show back in New York after playing with his band at the international Moonjune Festival in Toledo\, Spain\, going on tour as a member of the legendary English band Soft Machine\, playing a concert with the Montevideo Philharmonic Orchestra featuring his own arrangements as a tribute to his legendary Jazz-Rock band Siddhartha 1977-1983.\n\nBeledo is very well regarded worldwide with excellent reviews of his albums Seriously Deep featuring Tony Levin\, Dreamland Mechanism featuring Gary Husband\, and On a Mission with his band The Avengers\, together with Adam Holzman\, Lincoln Goines and Kim Plainfield.\n\nIn this opportunity\, he will be joined by long-time collaborator Doron Lev on drums\, leader of the celebrated Hip-Hop band UglyBraine\, and Tyreek Jackson on bass\, who has recorded with Grammy-nominated flutist Sarpay Ozçagatay.
URL:https://shapeshifterplus.org/event/beledo/
LOCATION:ShapeShifter Lab\, 837 Union Street\, Ground Floor\, Brooklyn\, NY\, 11215\, United States
CATEGORIES:Live Music,Open Call Program
ATTACH;FMTTYPE=image/png:https://shapeshifterplus.org/wp-content/uploads/2024/04/SSL-5-24-instagram.png
END:VEVENT
END:VCALENDAR